BEGIN:VCALENDAR
VERSION:2.0
PRODID:-//Ville de Yutz - ECPv6.15.16//NONSGML v1.0//EN
CALSCALE:GREGORIAN
METHOD:PUBLISH
X-ORIGINAL-URL:https://www.ville-yutz.fr
X-WR-CALDESC:Évènements pour Ville de Yutz
REFRESH-INTERVAL;VALUE=DURATION:PT1H
X-Robots-Tag:noindex
X-PUBLISHED-TTL:PT1H
BEGIN:VTIMEZONE
TZID:Europe/Paris
BEGIN:DAYLIGHT
TZOFFSETFROM:+0100
TZOFFSETTO:+0200
TZNAME:CEST
DTSTART:20240331T010000
END:DAYLIGHT
BEGIN:STANDARD
TZOFFSETFROM:+0200
TZOFFSETTO:+0100
TZNAME:CET
DTSTART:20241027T010000
END:STANDARD
BEGIN:DAYLIGHT
TZOFFSETFROM:+0100
TZOFFSETTO:+0200
TZNAME:CEST
DTSTART:20250330T010000
END:DAYLIGHT
BEGIN:STANDARD
TZOFFSETFROM:+0200
TZOFFSETTO:+0100
TZNAME:CET
DTSTART:20251026T010000
END:STANDARD
BEGIN:DAYLIGHT
TZOFFSETFROM:+0100
TZOFFSETTO:+0200
TZNAME:CEST
DTSTART:20260329T010000
END:DAYLIGHT
BEGIN:STANDARD
TZOFFSETFROM:+0200
TZOFFSETTO:+0100
TZNAME:CET
DTSTART:20261025T010000
END:STANDARD
END:VTIMEZONE
BEGIN:VEVENT
DTSTART;TZID=Europe/Paris:20250808T150000
DTEND;TZID=Europe/Paris:20250810T190000
DTSTAMP:20260424T220212
CREATED:20250725T161536Z
LAST-MODIFIED:20250725T161536Z
UID:42781-1754665200-1754852400@www.ville-yutz.fr
SUMMARY:Yutz Plage : Cirque
DESCRIPTION:
URL:https://www.ville-yutz.fr/event/yutz-plage-cirque-2/
LOCATION:Berges de la Moselle Yutz
CATEGORIES:Culture,Jeunesse,Seniors,Yutz Plage
ATTACH;FMTTYPE=image/png:https://www.ville-yutz.fr/wp-content/uploads/2025/07/2025-08-01-au-03-Cirque.png
ORGANIZER;CN="Ville de Yutz":MAILTO:yutz@mairie-yutz.fr
END:VEVENT
BEGIN:VEVENT
DTSTART;TZID=Europe/Paris:20250809T190000
DTEND;TZID=Europe/Paris:20250809T220000
DTSTAMP:20260424T220212
CREATED:20250725T161904Z
LAST-MODIFIED:20250725T161904Z
UID:42786-1754766000-1754776800@www.ville-yutz.fr
SUMMARY:Yutz Plage : Soirée danse salsa
DESCRIPTION:
URL:https://www.ville-yutz.fr/event/yutz-plage-soiree-danse-salsa/
LOCATION:Berges de la Moselle Yutz
CATEGORIES:Culture,Yutz Plage
ATTACH;FMTTYPE=image/png:https://www.ville-yutz.fr/wp-content/uploads/2025/07/2025-08-09-Soiree-salsa.png
END:VEVENT
END:VCALENDAR