BEGIN:VCALENDAR
VERSION:2.0
PRODID:-//Ville de Yutz - ECPv6.15.16//NONSGML v1.0//EN
CALSCALE:GREGORIAN
METHOD:PUBLISH
X-WR-CALNAME:Ville de Yutz
X-ORIGINAL-URL:https://www.ville-yutz.fr
X-WR-CALDESC:Évènements pour Ville de Yutz
REFRESH-INTERVAL;VALUE=DURATION:PT1H
X-Robots-Tag:noindex
X-PUBLISHED-TTL:PT1H
BEGIN:VTIMEZONE
TZID:Europe/Paris
BEGIN:DAYLIGHT
TZOFFSETFROM:+0100
TZOFFSETTO:+0200
TZNAME:CEST
DTSTART:20240331T010000
END:DAYLIGHT
BEGIN:STANDARD
TZOFFSETFROM:+0200
TZOFFSETTO:+0100
TZNAME:CET
DTSTART:20241027T010000
END:STANDARD
BEGIN:DAYLIGHT
TZOFFSETFROM:+0100
TZOFFSETTO:+0200
TZNAME:CEST
DTSTART:20250330T010000
END:DAYLIGHT
BEGIN:STANDARD
TZOFFSETFROM:+0200
TZOFFSETTO:+0100
TZNAME:CET
DTSTART:20251026T010000
END:STANDARD
BEGIN:DAYLIGHT
TZOFFSETFROM:+0100
TZOFFSETTO:+0200
TZNAME:CEST
DTSTART:20260329T010000
END:DAYLIGHT
BEGIN:STANDARD
TZOFFSETFROM:+0200
TZOFFSETTO:+0100
TZNAME:CET
DTSTART:20261025T010000
END:STANDARD
END:VTIMEZONE
BEGIN:VEVENT
DTSTART;TZID=Europe/Paris:20250801T150000
DTEND;TZID=Europe/Paris:20250803T190000
DTSTAMP:20260424T215841
CREATED:20250725T161056Z
LAST-MODIFIED:20250725T161410Z
UID:42775-1754060400-1754247600@www.ville-yutz.fr
SUMMARY:Yutz Plage : Cirque
DESCRIPTION:
URL:https://www.ville-yutz.fr/event/yutz-plage-cirque/
LOCATION:Berges de la Moselle Yutz
CATEGORIES:Culture,Jeunesse,Seniors,Yutz Plage
ATTACH;FMTTYPE=image/png:https://www.ville-yutz.fr/wp-content/uploads/2025/07/2025-08-01-au-03-Cirque.png
END:VEVENT
BEGIN:VEVENT
DTSTART;TZID=Europe/Paris:20250801T190000
DTEND;TZID=Europe/Paris:20250801T230000
DTSTAMP:20260424T215841
CREATED:20250725T160840Z
LAST-MODIFIED:20250801T152555Z
UID:42771-1754074800-1754089200@www.ville-yutz.fr
SUMMARY:Yutz Plage : Astronomie
DESCRIPTION:– Observation du soleil :\nLe Soleil est l’étoile au centre de notre Système solaire\, autour de laquelle tournent huit planètes et de nombreux corps plus petits. Le Soleil est l’étoile la plus proche de nous : ce qui en fait le candidat idéal pour étudier le fonctionnement de ces énormes générateurs de lumière et d’énergie !\n\n\n– Observation des perséides :\nDans des conditions favorables lors d’une nuit claire sans trop de pollution lumineuse\, le public pourra apercevoir « Les Perséides » l’une des plus belles pluies d’étoiles filantes de l’année\, visibles à l’œil nu. Une centaine de météores par heure peut être visible et c’est en ce moment … dans l’espoir que le ciel soit favorable aux observations ! Provenant de la constellation de Persée\, les « Perséides » peuvent apparaître dans toutes les directions.\n\n\n– Observation de la Lune :\nLa Lune sera la star du début de soirée montrant sa phase de Premier Quartier. Toujours très mystérieuse\, elle offre un magnifique spectacle dans les télescopes pour de belles observations et vous pouvez profiter de la Lune avant même que la nuit tombe.\n\n\n– Observation des planètes :\nLes amateurs de planète pourront admirer Mars qui sera visible si les conditions atmosphériques le permettent.\n\n\n– Observation du ciel profond :\nPar un ciel bien noir sans pollution lumineuse\, il sera possible de mieux contempler les constellations\, les étoiles\, ainsi que certaines nébuleuses\, galaxies ou amas d’étoiles.\n\n\n– Petit atelier découverte :\nPour les enfants\, un petit atelier de découverte des phases de la Lune sera proposé au public afin de mieux comprendre la spécificité des divers visages que la Lune nous montre tout au long de l’année.\n\n\n\nNous vous attendons nombreux\, la tête dans les étoiles !
URL:https://www.ville-yutz.fr/event/yutz-plage-astronomie/
LOCATION:Berges de la Moselle Yutz
CATEGORIES:Culture,Jeunesse,Seniors,Yutz Plage
ATTACH;FMTTYPE=image/png:https://www.ville-yutz.fr/wp-content/uploads/2025/07/2025-08-01-Astronomie.png
END:VEVENT
END:VCALENDAR