BEGIN:VCALENDAR
VERSION:2.0
PRODID:-//Ville de Yutz - ECPv6.15.16//NONSGML v1.0//EN
CALSCALE:GREGORIAN
METHOD:PUBLISH
X-WR-CALNAME:Ville de Yutz
X-ORIGINAL-URL:https://www.ville-yutz.fr
X-WR-CALDESC:Évènements pour Ville de Yutz
REFRESH-INTERVAL;VALUE=DURATION:PT1H
X-Robots-Tag:noindex
X-PUBLISHED-TTL:PT1H
BEGIN:VTIMEZONE
TZID:Europe/Paris
BEGIN:DAYLIGHT
TZOFFSETFROM:+0100
TZOFFSETTO:+0200
TZNAME:CEST
DTSTART:20240331T010000
END:DAYLIGHT
BEGIN:STANDARD
TZOFFSETFROM:+0200
TZOFFSETTO:+0100
TZNAME:CET
DTSTART:20241027T010000
END:STANDARD
BEGIN:DAYLIGHT
TZOFFSETFROM:+0100
TZOFFSETTO:+0200
TZNAME:CEST
DTSTART:20250330T010000
END:DAYLIGHT
BEGIN:STANDARD
TZOFFSETFROM:+0200
TZOFFSETTO:+0100
TZNAME:CET
DTSTART:20251026T010000
END:STANDARD
BEGIN:DAYLIGHT
TZOFFSETFROM:+0100
TZOFFSETTO:+0200
TZNAME:CEST
DTSTART:20260329T010000
END:DAYLIGHT
BEGIN:STANDARD
TZOFFSETFROM:+0200
TZOFFSETTO:+0100
TZNAME:CET
DTSTART:20261025T010000
END:STANDARD
END:VTIMEZONE
BEGIN:VEVENT
DTSTART;TZID=Europe/Paris:20251026T090000
DTEND;TZID=Europe/Paris:20251026T160000
DTSTAMP:20260420T011759
CREATED:20251016T132219Z
LAST-MODIFIED:20251019T113632Z
UID:44835-1761469200-1761494400@www.ville-yutz.fr
SUMMARY:Bourse aux jouets de la M.J.C.
DESCRIPTION:Laissez parler votre âme d’enfant et faites de la place dans vos placards ! \nGrande salle de la MJC – Tarif emplacement : 10€ la table.\nPour réserver un emplacement ou obtenir plus d’infos : accueil@mjc-yutz.com / 03.82.56.20.73
URL:https://www.ville-yutz.fr/event/bourse-aux-jouets-6/
LOCATION:M.J.C. la Pépinière Yutz\, 30 Rue de la Pépinière\, Yutz\, 57970\, France
CATEGORIES:Vide-greniers / brocante / Bourse aux jouets
ATTACH;FMTTYPE=image/webp:https://www.ville-yutz.fr/wp-content/uploads/2025/10/IMG_0619.webp
END:VEVENT
END:VCALENDAR