BEGIN:VCALENDAR
VERSION:2.0
PRODID:-//Ville de Yutz - ECPv6.15.16//NONSGML v1.0//EN
CALSCALE:GREGORIAN
METHOD:PUBLISH
X-WR-CALNAME:Ville de Yutz
X-ORIGINAL-URL:https://www.ville-yutz.fr
X-WR-CALDESC:Évènements pour Ville de Yutz
REFRESH-INTERVAL;VALUE=DURATION:PT1H
X-Robots-Tag:noindex
X-PUBLISHED-TTL:PT1H
BEGIN:VTIMEZONE
TZID:Europe/Paris
BEGIN:DAYLIGHT
TZOFFSETFROM:+0100
TZOFFSETTO:+0200
TZNAME:CEST
DTSTART:20240331T010000
END:DAYLIGHT
BEGIN:STANDARD
TZOFFSETFROM:+0200
TZOFFSETTO:+0100
TZNAME:CET
DTSTART:20241027T010000
END:STANDARD
BEGIN:DAYLIGHT
TZOFFSETFROM:+0100
TZOFFSETTO:+0200
TZNAME:CEST
DTSTART:20250330T010000
END:DAYLIGHT
BEGIN:STANDARD
TZOFFSETFROM:+0200
TZOFFSETTO:+0100
TZNAME:CET
DTSTART:20251026T010000
END:STANDARD
BEGIN:DAYLIGHT
TZOFFSETFROM:+0100
TZOFFSETTO:+0200
TZNAME:CEST
DTSTART:20260329T010000
END:DAYLIGHT
BEGIN:STANDARD
TZOFFSETFROM:+0200
TZOFFSETTO:+0100
TZNAME:CET
DTSTART:20261025T010000
END:STANDARD
END:VTIMEZONE
BEGIN:VEVENT
DTSTART;TZID=Europe/Paris:20250302T090000
DTEND;TZID=Europe/Paris:20250302T140000
DTSTAMP:20260420T124548
CREATED:20250211T132702Z
LAST-MODIFIED:20250211T132702Z
UID:36615-1740906000-1740924000@www.ville-yutz.fr
SUMMARY:Vide-greniers de la M.J.C.
DESCRIPTION:Réservez votre emplacement : \nVous pouvez télécharger votre dossier d’inscription ici : dossier inscription vide grenier \nCe dossier est à déposer COMPLET à l’accueil de la MJC.
URL:https://www.ville-yutz.fr/event/vide-greniers-de-la-m-j-c/
LOCATION:M.J.C. La Pépinière\, 30 Rue de la Pépinière\, YUTZ\, 57970\, France
CATEGORIES:Vide-greniers / brocante / Bourse aux jouets
ATTACH;FMTTYPE=image/jpeg:https://www.ville-yutz.fr/wp-content/uploads/2025/02/2025-03-02-Vide-greniers-MJC.jpg
ORGANIZER;CN="M.J.C. La P%C3%A9pini%C3%A8re":MAILTO:accueil@mjc-yutz.com
END:VEVENT
END:VCALENDAR