BEGIN:VCALENDAR
VERSION:2.0
PRODID:-//Ville de Yutz - ECPv6.15.16//NONSGML v1.0//EN
CALSCALE:GREGORIAN
METHOD:PUBLISH
X-ORIGINAL-URL:https://www.ville-yutz.fr
X-WR-CALDESC:Évènements pour Ville de Yutz
REFRESH-INTERVAL;VALUE=DURATION:PT1H
X-Robots-Tag:noindex
X-PUBLISHED-TTL:PT1H
BEGIN:VTIMEZONE
TZID:Europe/Paris
BEGIN:DAYLIGHT
TZOFFSETFROM:+0100
TZOFFSETTO:+0200
TZNAME:CEST
DTSTART:20240331T010000
END:DAYLIGHT
BEGIN:STANDARD
TZOFFSETFROM:+0200
TZOFFSETTO:+0100
TZNAME:CET
DTSTART:20241027T010000
END:STANDARD
BEGIN:DAYLIGHT
TZOFFSETFROM:+0100
TZOFFSETTO:+0200
TZNAME:CEST
DTSTART:20250330T010000
END:DAYLIGHT
BEGIN:STANDARD
TZOFFSETFROM:+0200
TZOFFSETTO:+0100
TZNAME:CET
DTSTART:20251026T010000
END:STANDARD
BEGIN:DAYLIGHT
TZOFFSETFROM:+0100
TZOFFSETTO:+0200
TZNAME:CEST
DTSTART:20260329T010000
END:DAYLIGHT
BEGIN:STANDARD
TZOFFSETFROM:+0200
TZOFFSETTO:+0100
TZNAME:CET
DTSTART:20261025T010000
END:STANDARD
END:VTIMEZONE
BEGIN:VEVENT
DTSTART;TZID=Europe/Paris:20250421T080000
DTEND;TZID=Europe/Paris:20250421T170000
DTSTAMP:20260420T093005
CREATED:20250416T110049Z
LAST-MODIFIED:20250416T110049Z
UID:39047-1745222400-1745254800@www.ville-yutz.fr
SUMMARY:Vide-greniers de Printemps de LULA
DESCRIPTION:
URL:https://www.ville-yutz.fr/event/vide-greniers-de-printemps-de-lula/
LOCATION:Place Saint-Nicolas\, Yutz\, 57970
CATEGORIES:Vide-greniers / brocante / Bourse aux jouets
ATTACH;FMTTYPE=image/png:https://www.ville-yutz.fr/wp-content/uploads/2025/04/2025-04-21-A3-vide-grenier-lula.png
END:VEVENT
BEGIN:VEVENT
DTSTART;TZID=Europe/Paris:20250427T080000
DTEND;TZID=Europe/Paris:20250427T160000
DTSTAMP:20260420T093005
CREATED:20250311T131813Z
LAST-MODIFIED:20250311T131813Z
UID:37330-1745740800-1745769600@www.ville-yutz.fr
SUMMARY:Vide-greniers
DESCRIPTION:
URL:https://www.ville-yutz.fr/event/vide-greniers-5/
LOCATION:Cour de l’école Prévert\, 53 rue de la République\, YUTZ\, Sélectionner un État :\, 57970\, France
CATEGORIES:Vide-greniers / brocante / Bourse aux jouets
ATTACH;FMTTYPE=image/jpeg:https://www.ville-yutz.fr/wp-content/uploads/2025/03/2025-04-27-vide-greniers-ecole-Prevert-scaled.jpg
END:VEVENT
END:VCALENDAR