BEGIN:VCALENDAR
VERSION:2.0
PRODID:-//Ville de Yutz - ECPv6.15.16//NONSGML v1.0//EN
CALSCALE:GREGORIAN
METHOD:PUBLISH
X-WR-CALNAME:Ville de Yutz
X-ORIGINAL-URL:https://www.ville-yutz.fr
X-WR-CALDESC:Évènements pour Ville de Yutz
REFRESH-INTERVAL;VALUE=DURATION:PT1H
X-Robots-Tag:noindex
X-PUBLISHED-TTL:PT1H
BEGIN:VTIMEZONE
TZID:Europe/Paris
BEGIN:DAYLIGHT
TZOFFSETFROM:+0100
TZOFFSETTO:+0200
TZNAME:CEST
DTSTART:20220327T010000
END:DAYLIGHT
BEGIN:STANDARD
TZOFFSETFROM:+0200
TZOFFSETTO:+0100
TZNAME:CET
DTSTART:20221030T010000
END:STANDARD
BEGIN:DAYLIGHT
TZOFFSETFROM:+0100
TZOFFSETTO:+0200
TZNAME:CEST
DTSTART:20230326T010000
END:DAYLIGHT
BEGIN:STANDARD
TZOFFSETFROM:+0200
TZOFFSETTO:+0100
TZNAME:CET
DTSTART:20231029T010000
END:STANDARD
BEGIN:DAYLIGHT
TZOFFSETFROM:+0100
TZOFFSETTO:+0200
TZNAME:CEST
DTSTART:20240331T010000
END:DAYLIGHT
BEGIN:STANDARD
TZOFFSETFROM:+0200
TZOFFSETTO:+0100
TZNAME:CET
DTSTART:20241027T010000
END:STANDARD
END:VTIMEZONE
BEGIN:VEVENT
DTSTART;TZID=Europe/Paris:20230514T070000
DTEND;TZID=Europe/Paris:20230514T170000
DTSTAMP:20260421T185915
CREATED:20230216T150902Z
LAST-MODIFIED:20230216T150902Z
UID:16669-1684047600-1684083600@www.ville-yutz.fr
SUMMARY:Vide-greniers
DESCRIPTION:
URL:https://www.ville-yutz.fr/event/vide-greniers-4/
LOCATION:Cour de l’école Victor Hugo\, 20 Rue Victor Hugo\, YUTZ\, 57970
CATEGORIES:Vide-greniers / brocante / Bourse aux jouets
ATTACH;FMTTYPE=image/jpeg:https://www.ville-yutz.fr/wp-content/uploads/2023/02/Flyer-vide-grenier-14-mai-2023.jpg
END:VEVENT
BEGIN:VEVENT
DTSTART;TZID=Europe/Paris:20230520T090000
DTEND;TZID=Europe/Paris:20230521T180000
DTSTAMP:20260421T185915
CREATED:20230517T105301Z
LAST-MODIFIED:20230517T105301Z
UID:18892-1684573200-1684692000@www.ville-yutz.fr
SUMMARY:Vide-dressing de l'AVF Yutz
DESCRIPTION:
URL:https://www.ville-yutz.fr/event/vide-dressing-de-lavf-yutz/
LOCATION:Complexe Saint-Exupéry – Salle Petit Prince\, 34 avenue de Gaulle\, YUTZ\, 57970\, France
CATEGORIES:Vide-greniers / brocante / Bourse aux jouets
ATTACH;FMTTYPE=image/jpeg:https://www.ville-yutz.fr/wp-content/uploads/2023/05/2023-05-20-et-21-avf-vide-dressing.jpg
ORGANIZER;CN="AVF Yutz":MAILTO:avf.yutz@gmail.com
END:VEVENT
END:VCALENDAR