BEGIN:VCALENDAR
VERSION:2.0
PRODID:-//Ville de Yutz - ECPv6.15.16//NONSGML v1.0//EN
CALSCALE:GREGORIAN
METHOD:PUBLISH
X-ORIGINAL-URL:https://www.ville-yutz.fr
X-WR-CALDESC:Évènements pour Ville de Yutz
REFRESH-INTERVAL;VALUE=DURATION:PT1H
X-Robots-Tag:noindex
X-PUBLISHED-TTL:PT1H
BEGIN:VTIMEZONE
TZID:Europe/Paris
BEGIN:DAYLIGHT
TZOFFSETFROM:+0100
TZOFFSETTO:+0200
TZNAME:CEST
DTSTART:20250330T010000
END:DAYLIGHT
BEGIN:STANDARD
TZOFFSETFROM:+0200
TZOFFSETTO:+0100
TZNAME:CET
DTSTART:20251026T010000
END:STANDARD
BEGIN:DAYLIGHT
TZOFFSETFROM:+0100
TZOFFSETTO:+0200
TZNAME:CEST
DTSTART:20260329T010000
END:DAYLIGHT
BEGIN:STANDARD
TZOFFSETFROM:+0200
TZOFFSETTO:+0100
TZNAME:CET
DTSTART:20261025T010000
END:STANDARD
BEGIN:DAYLIGHT
TZOFFSETFROM:+0100
TZOFFSETTO:+0200
TZNAME:CEST
DTSTART:20270328T010000
END:DAYLIGHT
BEGIN:STANDARD
TZOFFSETFROM:+0200
TZOFFSETTO:+0100
TZNAME:CET
DTSTART:20271031T010000
END:STANDARD
END:VTIMEZONE
BEGIN:VEVENT
DTSTART;VALUE=DATE:20260425
DTEND;VALUE=DATE:20260427
DTSTAMP:20260419T172821
CREATED:20260417T153730Z
LAST-MODIFIED:20260417T154126Z
UID:49098-1777075200-1777247999@www.ville-yutz.fr
SUMMARY:Energie Shiatsu : Stage " Les merveilleux vaisseaux "
DESCRIPTION:De 9h00 à 19h00
URL:https://www.ville-yutz.fr/event/energie-shiatsu-stage-les-merveilleux-vaisseaux/
LOCATION:Dojo Schuman\, impasse Selver\, Yutz\, 57970
CATEGORIES:Jeunesse,Seniors,Sports
ORGANIZER;CN="Energie Shiatsu":MAILTO:energieshiatsu@hotmail.fr
END:VEVENT
BEGIN:VEVENT
DTSTART;VALUE=DATE:20260425
DTEND;VALUE=DATE:20260427
DTSTAMP:20260419T172821
CREATED:20260417T153926Z
LAST-MODIFIED:20260417T154234Z
UID:49100-1777075200-1777247999@www.ville-yutz.fr
SUMMARY:Twirling Bâton : Ligue Grand Est N3
DESCRIPTION:De 9h00 à 19h00
URL:https://www.ville-yutz.fr/event/twirling-baton-ligue-grand-est-n3/
LOCATION:Gymnase Mermoz\, Place de l'Arc-en-Ciel\, YUTZ\, 57970
CATEGORIES:Sports
ORGANIZER;CN="Yutz Thionville Twirling Club":MAILTO:twirlingbaton57@gmail.com
END:VEVENT
BEGIN:VEVENT
DTSTART;TZID=Europe/Paris:20260425T130000
DTEND;TZID=Europe/Paris:20260425T170000
DTSTAMP:20260419T172821
CREATED:20260417T153548Z
LAST-MODIFIED:20260417T153548Z
UID:49096-1777122000-1777136400@www.ville-yutz.fr
SUMMARY:ESTY : Meeting inter frontières
DESCRIPTION:
URL:https://www.ville-yutz.fr/event/esty-meeting-inter-frontieres/
LOCATION:Stade Mermoz
CATEGORIES:Sports
ORGANIZER;CN="ESTY":MAILTO:esty.athletisme@live.fr
END:VEVENT
BEGIN:VEVENT
DTSTART;TZID=Europe/Paris:20260425T143000
DTEND;TZID=Europe/Paris:20260425T163000
DTSTAMP:20260419T172821
CREATED:20260417T153437Z
LAST-MODIFIED:20260417T153437Z
UID:49094-1777127400-1777134600@www.ville-yutz.fr
SUMMARY:FC Yutz : U14 / Nancy HDL
DESCRIPTION:
URL:https://www.ville-yutz.fr/event/fc-yutz-u14-nancy-hdl/
LOCATION:Stade Mermoz
CATEGORIES:Sports
ORGANIZER;CN="FC Yutz":MAILTO:utz.fc@moselle.lgef.fr
END:VEVENT
BEGIN:VEVENT
DTSTART;TZID=Europe/Paris:20260425T200000
DTEND;TZID=Europe/Paris:20260425T200000
DTSTAMP:20260419T172821
CREATED:20260417T153350Z
LAST-MODIFIED:20260417T153350Z
UID:49092-1777147200-1777147200@www.ville-yutz.fr
SUMMARY:US Yutz - Séniors A / HOCHWALD FC
DESCRIPTION:
URL:https://www.ville-yutz.fr/event/us-yutz-seniors-a-hochwald-fc/
LOCATION:Stade de la Forêt\, rue du Stade\, Yutz\, 57970
CATEGORIES:Sports
END:VEVENT
END:VCALENDAR