BEGIN:VCALENDAR
VERSION:2.0
PRODID:-//Ville de Yutz - ECPv6.15.16//NONSGML v1.0//EN
CALSCALE:GREGORIAN
METHOD:PUBLISH
X-WR-CALNAME:Ville de Yutz
X-ORIGINAL-URL:https://www.ville-yutz.fr
X-WR-CALDESC:Évènements pour Ville de Yutz
REFRESH-INTERVAL;VALUE=DURATION:PT1H
X-Robots-Tag:noindex
X-PUBLISHED-TTL:PT1H
BEGIN:VTIMEZONE
TZID:Europe/Paris
BEGIN:DAYLIGHT
TZOFFSETFROM:+0100
TZOFFSETTO:+0200
TZNAME:CEST
DTSTART:20250330T010000
END:DAYLIGHT
BEGIN:STANDARD
TZOFFSETFROM:+0200
TZOFFSETTO:+0100
TZNAME:CET
DTSTART:20251026T010000
END:STANDARD
BEGIN:DAYLIGHT
TZOFFSETFROM:+0100
TZOFFSETTO:+0200
TZNAME:CEST
DTSTART:20260329T010000
END:DAYLIGHT
BEGIN:STANDARD
TZOFFSETFROM:+0200
TZOFFSETTO:+0100
TZNAME:CET
DTSTART:20261025T010000
END:STANDARD
BEGIN:DAYLIGHT
TZOFFSETFROM:+0100
TZOFFSETTO:+0200
TZNAME:CEST
DTSTART:20270328T010000
END:DAYLIGHT
BEGIN:STANDARD
TZOFFSETFROM:+0200
TZOFFSETTO:+0100
TZNAME:CET
DTSTART:20271031T010000
END:STANDARD
END:VTIMEZONE
BEGIN:VEVENT
DTSTART;TZID=Europe/Paris:20260411T100000
DTEND;TZID=Europe/Paris:20260411T120000
DTSTAMP:20260419T172748
CREATED:20260410T160604Z
LAST-MODIFIED:20260410T160604Z
UID:48861-1775901600-1775908800@www.ville-yutz.fr
SUMMARY:FC Yutz : U11-U10 / Plateau
DESCRIPTION:
URL:https://www.ville-yutz.fr/event/fc-yutz-u11-u10-plateau-10/
LOCATION:Stade Mermoz
CATEGORIES:Sports
ORGANIZER;CN="FC Yutz":MAILTO:utz.fc@moselle.lgef.fr
END:VEVENT
BEGIN:VEVENT
DTSTART;TZID=Europe/Paris:20260411T130000
DTEND;TZID=Europe/Paris:20260411T150000
DTSTAMP:20260419T172748
CREATED:20260410T160648Z
LAST-MODIFIED:20260410T160648Z
UID:48863-1775912400-1775919600@www.ville-yutz.fr
SUMMARY:FC Yutz : U13 / Boulay
DESCRIPTION:
URL:https://www.ville-yutz.fr/event/fc-yutz-u13-boulay/
LOCATION:Stade Mermoz
CATEGORIES:Sports
ORGANIZER;CN="FC Yutz":MAILTO:utz.fc@moselle.lgef.fr
END:VEVENT
BEGIN:VEVENT
DTSTART;TZID=Europe/Paris:20260411T150000
DTEND;TZID=Europe/Paris:20260411T170000
DTSTAMP:20260419T172748
CREATED:20260410T160733Z
LAST-MODIFIED:20260410T160733Z
UID:48865-1775919600-1775926800@www.ville-yutz.fr
SUMMARY:FC Yutz : U15-U16 / Champagne Academy
DESCRIPTION:
URL:https://www.ville-yutz.fr/event/fc-yutz-u15-u16-champagne-academy/
LOCATION:Stade Mermoz
CATEGORIES:Sports
ORGANIZER;CN="FC Yutz":MAILTO:utz.fc@moselle.lgef.fr
END:VEVENT
BEGIN:VEVENT
DTSTART;TZID=Europe/Paris:20260411T200000
DTEND;TZID=Europe/Paris:20260411T220000
DTSTAMP:20260419T172748
CREATED:20260410T161118Z
LAST-MODIFIED:20260410T161118Z
UID:48870-1775937600-1775944800@www.ville-yutz.fr
SUMMARY:US Yutz : Séniors A / CLOUANGE AS
DESCRIPTION:
URL:https://www.ville-yutz.fr/event/us-yutz-seniors-a-clouange-as/
LOCATION:Stade de la Forêt\, rue du Stade\, Yutz\, 57970
CATEGORIES:Sports
END:VEVENT
END:VCALENDAR