BEGIN:VCALENDAR
VERSION:2.0
PRODID:-//Ville de Yutz - ECPv6.15.16//NONSGML v1.0//EN
CALSCALE:GREGORIAN
METHOD:PUBLISH
X-WR-CALNAME:Ville de Yutz
X-ORIGINAL-URL:https://www.ville-yutz.fr
X-WR-CALDESC:Évènements pour Ville de Yutz
REFRESH-INTERVAL;VALUE=DURATION:PT1H
X-Robots-Tag:noindex
X-PUBLISHED-TTL:PT1H
BEGIN:VTIMEZONE
TZID:Europe/Paris
BEGIN:DAYLIGHT
TZOFFSETFROM:+0100
TZOFFSETTO:+0200
TZNAME:CEST
DTSTART:20250330T010000
END:DAYLIGHT
BEGIN:STANDARD
TZOFFSETFROM:+0200
TZOFFSETTO:+0100
TZNAME:CET
DTSTART:20251026T010000
END:STANDARD
BEGIN:DAYLIGHT
TZOFFSETFROM:+0100
TZOFFSETTO:+0200
TZNAME:CEST
DTSTART:20260329T010000
END:DAYLIGHT
BEGIN:STANDARD
TZOFFSETFROM:+0200
TZOFFSETTO:+0100
TZNAME:CET
DTSTART:20261025T010000
END:STANDARD
BEGIN:DAYLIGHT
TZOFFSETFROM:+0100
TZOFFSETTO:+0200
TZNAME:CEST
DTSTART:20270328T010000
END:DAYLIGHT
BEGIN:STANDARD
TZOFFSETFROM:+0200
TZOFFSETTO:+0100
TZNAME:CET
DTSTART:20271031T010000
END:STANDARD
END:VTIMEZONE
BEGIN:VEVENT
DTSTART;TZID=Europe/Paris:20260404T113000
DTEND;TZID=Europe/Paris:20260404T133000
DTSTAMP:20260419T172708
CREATED:20260402T143335Z
LAST-MODIFIED:20260402T143335Z
UID:48575-1775302200-1775309400@www.ville-yutz.fr
SUMMARY:FC Yutz: U13-U12 / Cattenom
DESCRIPTION:
URL:https://www.ville-yutz.fr/event/fc-yutz-u13-u12-cattenom/
LOCATION:Stade Mermoz
CATEGORIES:Sports
ORGANIZER;CN="FC Yutz":MAILTO:utz.fc@moselle.lgef.fr
END:VEVENT
BEGIN:VEVENT
DTSTART;TZID=Europe/Paris:20260404T130000
DTEND;TZID=Europe/Paris:20260404T150000
DTSTAMP:20260419T172708
CREATED:20260402T143248Z
LAST-MODIFIED:20260402T143248Z
UID:48573-1775307600-1775314800@www.ville-yutz.fr
SUMMARY:FC Yutz: U15-U16 / Hettange-Grande
DESCRIPTION:
URL:https://www.ville-yutz.fr/event/fc-yutz-u15-u16-hettange-grande/
LOCATION:Stade Mermoz
CATEGORIES:Sports
ORGANIZER;CN="FC Yutz":MAILTO:utz.fc@moselle.lgef.fr
END:VEVENT
BEGIN:VEVENT
DTSTART;TZID=Europe/Paris:20260404T203000
DTEND;TZID=Europe/Paris:20260404T203000
DTSTAMP:20260419T172708
CREATED:20260402T143156Z
LAST-MODIFIED:20260402T143606Z
UID:48571-1775334600-1775334600@www.ville-yutz.fr
SUMMARY:ASVB : Régional M / Creutzwald
DESCRIPTION:
URL:https://www.ville-yutz.fr/event/asvb-regional-m-creutzwald/
LOCATION:Gymnase Mermoz\, Place de l'Arc-en-Ciel\, YUTZ\, 57970
CATEGORIES:Sports
ATTACH;FMTTYPE=image/jpeg:https://www.ville-yutz.fr/wp-content/uploads/2026/04/2026-04-04-ASVB.jpg
END:VEVENT
END:VCALENDAR