BEGIN:VCALENDAR
VERSION:2.0
PRODID:-//Ville de Yutz - ECPv6.15.16//NONSGML v1.0//EN
CALSCALE:GREGORIAN
METHOD:PUBLISH
X-WR-CALNAME:Ville de Yutz
X-ORIGINAL-URL:https://www.ville-yutz.fr
X-WR-CALDESC:Évènements pour Ville de Yutz
REFRESH-INTERVAL;VALUE=DURATION:PT1H
X-Robots-Tag:noindex
X-PUBLISHED-TTL:PT1H
BEGIN:VTIMEZONE
TZID:Europe/Paris
BEGIN:DAYLIGHT
TZOFFSETFROM:+0100
TZOFFSETTO:+0200
TZNAME:CEST
DTSTART:20250330T010000
END:DAYLIGHT
BEGIN:STANDARD
TZOFFSETFROM:+0200
TZOFFSETTO:+0100
TZNAME:CET
DTSTART:20251026T010000
END:STANDARD
BEGIN:DAYLIGHT
TZOFFSETFROM:+0100
TZOFFSETTO:+0200
TZNAME:CEST
DTSTART:20260329T010000
END:DAYLIGHT
BEGIN:STANDARD
TZOFFSETFROM:+0200
TZOFFSETTO:+0100
TZNAME:CET
DTSTART:20261025T010000
END:STANDARD
BEGIN:DAYLIGHT
TZOFFSETFROM:+0100
TZOFFSETTO:+0200
TZNAME:CEST
DTSTART:20270328T010000
END:DAYLIGHT
BEGIN:STANDARD
TZOFFSETFROM:+0200
TZOFFSETTO:+0100
TZNAME:CET
DTSTART:20271031T010000
END:STANDARD
END:VTIMEZONE
BEGIN:VEVENT
DTSTART;TZID=Europe/Paris:20260301T080000
DTEND;TZID=Europe/Paris:20260301T170000
DTSTAMP:20260421T174434
CREATED:20260216T133834Z
LAST-MODIFIED:20260216T133834Z
UID:47199-1772352000-1772384400@www.ville-yutz.fr
SUMMARY:Original French Contest
DESCRIPTION:
URL:https://www.ville-yutz.fr/event/original-french-contest/
LOCATION:Salle Gabriel Antone\, 65 Grand'rue\, YUTZ
CATEGORIES:Sports
ATTACH;FMTTYPE=image/jpeg:https://www.ville-yutz.fr/wp-content/uploads/2026/02/2026-03-01-parkour-Gym.jpg
ORGANIZER;CN="Soci%C3%A9t%C3%A9 de Gymnastique de Yutz":MAILTO:gymyutz@gmail.com
END:VEVENT
BEGIN:VEVENT
DTSTART;TZID=Europe/Paris:20260301T140000
DTEND;TZID=Europe/Paris:20260301T200000
DTSTAMP:20260421T174434
CREATED:20260216T151718Z
LAST-MODIFIED:20260216T151718Z
UID:47240-1772373600-1772395200@www.ville-yutz.fr
SUMMARY:Concours club de pétanque
DESCRIPTION:
URL:https://www.ville-yutz.fr/event/concours-club-de-petanque/
LOCATION:Boulodrome\, 1 rue Sainte-Barbe\, YUTZ\, -\, 57970\, France
CATEGORIES:Sports
END:VEVENT
BEGIN:VEVENT
DTSTART;TZID=Europe/Paris:20260301T143000
DTEND;TZID=Europe/Paris:20260301T163000
DTSTAMP:20260421T174434
CREATED:20260216T151835Z
LAST-MODIFIED:20260216T151835Z
UID:47242-1772375400-1772382600@www.ville-yutz.fr
SUMMARY:FC Yutz : Séniors A / Algrange AS
DESCRIPTION:
URL:https://www.ville-yutz.fr/event/fc-yutz-seniors-a-algrange-as/
LOCATION:Stade Mermoz
CATEGORIES:Sports
ORGANIZER;CN="FC Yutz":MAILTO:utz.fc@moselle.lgef.fr
END:VEVENT
BEGIN:VEVENT
DTSTART;TZID=Europe/Paris:20260301T143000
DTEND;TZID=Europe/Paris:20260301T163000
DTSTAMP:20260421T174434
CREATED:20260216T151950Z
LAST-MODIFIED:20260216T151950Z
UID:47244-1772375400-1772382600@www.ville-yutz.fr
SUMMARY:US Yutz : Séniors A / Fleury FC
DESCRIPTION:
URL:https://www.ville-yutz.fr/event/us-yutz-seniors-a-fleury-fc/
LOCATION:Stade de la Forêt\, rue du Stade\, Yutz\, 57970
CATEGORIES:Sports
END:VEVENT
BEGIN:VEVENT
DTSTART;TZID=Europe/Paris:20260301T150000
DTEND;TZID=Europe/Paris:20260301T170000
DTSTAMP:20260421T174434
CREATED:20260216T152115Z
LAST-MODIFIED:20260216T152115Z
UID:47246-1772377200-1772384400@www.ville-yutz.fr
SUMMARY:D2 - Yutz US : Séniors B / Hettange GDE FC 2
DESCRIPTION:
URL:https://www.ville-yutz.fr/event/d2-yutz-us-seniors-b-hettange-gde-fc-2/
LOCATION:Stade de la Forêt\, rue du Stade\, Yutz\, 57970
CATEGORIES:Sports
END:VEVENT
BEGIN:VEVENT
DTSTART;TZID=Europe/Paris:20260301T150000
DTEND;TZID=Europe/Paris:20260301T170000
DTSTAMP:20260421T174434
CREATED:20260216T152236Z
LAST-MODIFIED:20260216T152236Z
UID:47248-1772377200-1772384400@www.ville-yutz.fr
SUMMARY:D3 - Yutz US : Séniors C / Seremange RS 2
DESCRIPTION:
URL:https://www.ville-yutz.fr/event/d3-yutz-us-seniors-c-seremange-rs-2/
LOCATION:Stade de la Forêt\, rue du Stade\, Yutz\, 57970
CATEGORIES:Sports
END:VEVENT
END:VCALENDAR