BEGIN:VCALENDAR
VERSION:2.0
PRODID:-//Ville de Yutz - ECPv6.15.16//NONSGML v1.0//EN
CALSCALE:GREGORIAN
METHOD:PUBLISH
X-ORIGINAL-URL:https://www.ville-yutz.fr
X-WR-CALDESC:Évènements pour Ville de Yutz
REFRESH-INTERVAL;VALUE=DURATION:PT1H
X-Robots-Tag:noindex
X-PUBLISHED-TTL:PT1H
BEGIN:VTIMEZONE
TZID:Europe/Paris
BEGIN:DAYLIGHT
TZOFFSETFROM:+0100
TZOFFSETTO:+0200
TZNAME:CEST
DTSTART:20230326T010000
END:DAYLIGHT
BEGIN:STANDARD
TZOFFSETFROM:+0200
TZOFFSETTO:+0100
TZNAME:CET
DTSTART:20231029T010000
END:STANDARD
BEGIN:DAYLIGHT
TZOFFSETFROM:+0100
TZOFFSETTO:+0200
TZNAME:CEST
DTSTART:20240331T010000
END:DAYLIGHT
BEGIN:STANDARD
TZOFFSETFROM:+0200
TZOFFSETTO:+0100
TZNAME:CET
DTSTART:20241027T010000
END:STANDARD
BEGIN:DAYLIGHT
TZOFFSETFROM:+0100
TZOFFSETTO:+0200
TZNAME:CEST
DTSTART:20250330T010000
END:DAYLIGHT
BEGIN:STANDARD
TZOFFSETFROM:+0200
TZOFFSETTO:+0100
TZNAME:CET
DTSTART:20251026T010000
END:STANDARD
END:VTIMEZONE
BEGIN:VEVENT
DTSTART;TZID=Europe/Paris:20241006T090000
DTEND;TZID=Europe/Paris:20241006T160000
DTSTAMP:20260420T175119
CREATED:20240827T160540Z
LAST-MODIFIED:20240930T155059Z
UID:31779-1728205200-1728230400@www.ville-yutz.fr
SUMMARY:La Yussoise
DESCRIPTION:Pour s’inscrire : https://gotiming.fr/evenement/course-sportive-la-yussoise/ \n 
URL:https://www.ville-yutz.fr/event/la-yussoise-3/
LOCATION:Aéroparc
CATEGORIES:Solidarité,Sports
ATTACH;FMTTYPE=image/webp:https://www.ville-yutz.fr/wp-content/uploads/2024/08/2024-10-06-LA-YUSSOISE-INSCRIPTION.webp
ORGANIZER;CN="Poussi%C3%A8res d'%C3%A9toiles":MAILTO:associationpoussieresdetoiles@gmail.com
END:VEVENT
BEGIN:VEVENT
DTSTART;TZID=Europe/Paris:20241006T150000
DTEND;TZID=Europe/Paris:20241006T170000
DTSTAMP:20260420T175119
CREATED:20241004T164321Z
LAST-MODIFIED:20241004T164321Z
UID:32475-1728226800-1728234000@www.ville-yutz.fr
SUMMARY:FC Yutz championnat sénior R2 / US Jarny
DESCRIPTION:
URL:https://www.ville-yutz.fr/event/fc-yutz-championnat-senior-r2-us-jarny/
LOCATION:Stade Mermoz
CATEGORIES:Sports
ORGANIZER;CN="FC Yutz":MAILTO:utz.fc@moselle.lgef.fr
END:VEVENT
BEGIN:VEVENT
DTSTART;TZID=Europe/Paris:20241006T150000
DTEND;TZID=Europe/Paris:20241006T170000
DTSTAMP:20260420T175119
CREATED:20241004T164404Z
LAST-MODIFIED:20241004T164404Z
UID:32477-1728226800-1728234000@www.ville-yutz.fr
SUMMARY:Match US Yutz SENIOR D2 / Marspich US
DESCRIPTION:
URL:https://www.ville-yutz.fr/event/match-us-yutz-senior-d2-marspich-us/
LOCATION:Stade de la Forêt\, rue du Stade\, Yutz\, 57970
CATEGORIES:Sports
END:VEVENT
BEGIN:VEVENT
DTSTART;TZID=Europe/Paris:20241006T150000
DTEND;TZID=Europe/Paris:20241006T170000
DTSTAMP:20260420T175119
CREATED:20241004T164445Z
LAST-MODIFIED:20241004T164445Z
UID:32479-1728226800-1728234000@www.ville-yutz.fr
SUMMARY:Match US Yutz SENIOR D3 / Volstroff AS
DESCRIPTION:
URL:https://www.ville-yutz.fr/event/match-us-yutz-senior-d3-volstroff-as/
LOCATION:Stade de la Forêt\, rue du Stade\, Yutz\, 57970
CATEGORIES:Sports
END:VEVENT
END:VCALENDAR