BEGIN:VCALENDAR
VERSION:2.0
PRODID:-//Ville de Yutz - ECPv6.15.16//NONSGML v1.0//EN
CALSCALE:GREGORIAN
METHOD:PUBLISH
X-WR-CALNAME:Ville de Yutz
X-ORIGINAL-URL:https://www.ville-yutz.fr
X-WR-CALDESC:Évènements pour Ville de Yutz
REFRESH-INTERVAL;VALUE=DURATION:PT1H
X-Robots-Tag:noindex
X-PUBLISHED-TTL:PT1H
BEGIN:VTIMEZONE
TZID:Europe/Paris
BEGIN:DAYLIGHT
TZOFFSETFROM:+0100
TZOFFSETTO:+0200
TZNAME:CEST
DTSTART:20230326T010000
END:DAYLIGHT
BEGIN:STANDARD
TZOFFSETFROM:+0200
TZOFFSETTO:+0100
TZNAME:CET
DTSTART:20231029T010000
END:STANDARD
BEGIN:DAYLIGHT
TZOFFSETFROM:+0100
TZOFFSETTO:+0200
TZNAME:CEST
DTSTART:20240331T010000
END:DAYLIGHT
BEGIN:STANDARD
TZOFFSETFROM:+0200
TZOFFSETTO:+0100
TZNAME:CET
DTSTART:20241027T010000
END:STANDARD
BEGIN:DAYLIGHT
TZOFFSETFROM:+0100
TZOFFSETTO:+0200
TZNAME:CEST
DTSTART:20250330T010000
END:DAYLIGHT
BEGIN:STANDARD
TZOFFSETFROM:+0200
TZOFFSETTO:+0100
TZNAME:CET
DTSTART:20251026T010000
END:STANDARD
END:VTIMEZONE
BEGIN:VEVENT
DTSTART;TZID=Europe/Paris:20240623T090000
DTEND;TZID=Europe/Paris:20240623T130000
DTSTAMP:20260421T092424
CREATED:20240621T155740Z
LAST-MODIFIED:20240621T155740Z
UID:30398-1719133200-1719147600@www.ville-yutz.fr
SUMMARY:Tournoi interne du Badminton Yutz Loisirs
DESCRIPTION:
URL:https://www.ville-yutz.fr/event/tournoi-interne-du-badminton-yutz-loisirs/
LOCATION:Gymnase Saint-Exupéry\, 1 rue du Gymnase\, YUTZ\, 57970\, France
CATEGORIES:Sports
END:VEVENT
BEGIN:VEVENT
DTSTART;TZID=Europe/Paris:20240623T110000
DTEND;TZID=Europe/Paris:20240623T180000
DTSTAMP:20260421T092424
CREATED:20240621T155848Z
LAST-MODIFIED:20240621T155848Z
UID:30400-1719140400-1719165600@www.ville-yutz.fr
SUMMARY:Fête d'été de la Société de Gymnastique de Yutz
DESCRIPTION:
URL:https://www.ville-yutz.fr/event/fete-dete-de-la-societe-de-gymnastique-de-yutz-2/
LOCATION:Salle Gabriel Antone\, 65 Grand'rue\, YUTZ
CATEGORIES:Sports
ORGANIZER;CN="Soci%C3%A9t%C3%A9 de Gymnastique de Yutz":MAILTO:gymyutz@gmail.com
END:VEVENT
BEGIN:VEVENT
DTSTART;TZID=Europe/Paris:20240623T110000
DTEND;TZID=Europe/Paris:20240623T180000
DTSTAMP:20260421T092424
CREATED:20240621T160102Z
LAST-MODIFIED:20240621T160102Z
UID:30402-1719140400-1719165600@www.ville-yutz.fr
SUMMARY:Olympiades festives du Baby-foot
DESCRIPTION:
URL:https://www.ville-yutz.fr/event/olympiades-festives-du-baby-foot/
LOCATION:Parking de l’église Saint-Joseph
CATEGORIES:Sports
ATTACH;FMTTYPE=image/jpeg:https://www.ville-yutz.fr/wp-content/uploads/2024/06/2024-06-23-baby-foot.jpg
END:VEVENT
END:VCALENDAR