BEGIN:VCALENDAR
VERSION:2.0
PRODID:-//Ville de Yutz - ECPv6.15.16//NONSGML v1.0//EN
CALSCALE:GREGORIAN
METHOD:PUBLISH
X-ORIGINAL-URL:https://www.ville-yutz.fr
X-WR-CALDESC:Évènements pour Ville de Yutz
REFRESH-INTERVAL;VALUE=DURATION:PT1H
X-Robots-Tag:noindex
X-PUBLISHED-TTL:PT1H
BEGIN:VTIMEZONE
TZID:Europe/Paris
BEGIN:DAYLIGHT
TZOFFSETFROM:+0100
TZOFFSETTO:+0200
TZNAME:CEST
DTSTART:20230326T010000
END:DAYLIGHT
BEGIN:STANDARD
TZOFFSETFROM:+0200
TZOFFSETTO:+0100
TZNAME:CET
DTSTART:20231029T010000
END:STANDARD
BEGIN:DAYLIGHT
TZOFFSETFROM:+0100
TZOFFSETTO:+0200
TZNAME:CEST
DTSTART:20240331T010000
END:DAYLIGHT
BEGIN:STANDARD
TZOFFSETFROM:+0200
TZOFFSETTO:+0100
TZNAME:CET
DTSTART:20241027T010000
END:STANDARD
BEGIN:DAYLIGHT
TZOFFSETFROM:+0100
TZOFFSETTO:+0200
TZNAME:CEST
DTSTART:20250330T010000
END:DAYLIGHT
BEGIN:STANDARD
TZOFFSETFROM:+0200
TZOFFSETTO:+0100
TZNAME:CET
DTSTART:20251026T010000
END:STANDARD
END:VTIMEZONE
BEGIN:VEVENT
DTSTART;TZID=Europe/Paris:20240622T090000
DTEND;TZID=Europe/Paris:20240622T193000
DTSTAMP:20260421T092430
CREATED:20240618T120155Z
LAST-MODIFIED:20240618T125530Z
UID:30121-1719046800-1719084600@www.ville-yutz.fr
SUMMARY:Yoga Day
DESCRIPTION:N’oubliez pas de prendre un tapis\, une serviette et une bouteille d’eau et venez dans une tenue confortable pour la pratique….
URL:https://www.ville-yutz.fr/event/yoga-day/
LOCATION:Décathlon Village\, Zac Meilbourg\, Route d'Illange\, Yutz\, 57970
CATEGORIES:Sports
ATTACH;FMTTYPE=image/jpeg:https://www.ville-yutz.fr/wp-content/uploads/2024/06/2024-06-22-Yoga-day-1.jpg
END:VEVENT
BEGIN:VEVENT
DTSTART;TZID=Europe/Paris:20240622T100000
DTEND;TZID=Europe/Paris:20240622T120000
DTSTAMP:20260421T092430
CREATED:20240621T155446Z
LAST-MODIFIED:20240621T155446Z
UID:30392-1719050400-1719057600@www.ville-yutz.fr
SUMMARY:Spectacle scolaire jeux olympiques : JOY'S
DESCRIPTION:
URL:https://www.ville-yutz.fr/event/spectacle-scolaire-jeux-olympiques-joys/
LOCATION:Stade Mermoz
CATEGORIES:Jeunesse,Scolaire / Formation,Sports
ATTACH;FMTTYPE=image/jpeg:https://www.ville-yutz.fr/wp-content/uploads/2024/06/2024-06-22-Joys-scaled.jpg
END:VEVENT
END:VCALENDAR