BEGIN:VCALENDAR
VERSION:2.0
PRODID:-//Ville de Yutz - ECPv6.15.16//NONSGML v1.0//EN
CALSCALE:GREGORIAN
METHOD:PUBLISH
X-WR-CALNAME:Ville de Yutz
X-ORIGINAL-URL:https://www.ville-yutz.fr
X-WR-CALDESC:Évènements pour Ville de Yutz
REFRESH-INTERVAL;VALUE=DURATION:PT1H
X-Robots-Tag:noindex
X-PUBLISHED-TTL:PT1H
BEGIN:VTIMEZONE
TZID:Europe/Paris
BEGIN:DAYLIGHT
TZOFFSETFROM:+0100
TZOFFSETTO:+0200
TZNAME:CEST
DTSTART:20230326T010000
END:DAYLIGHT
BEGIN:STANDARD
TZOFFSETFROM:+0200
TZOFFSETTO:+0100
TZNAME:CET
DTSTART:20231029T010000
END:STANDARD
BEGIN:DAYLIGHT
TZOFFSETFROM:+0100
TZOFFSETTO:+0200
TZNAME:CEST
DTSTART:20240331T010000
END:DAYLIGHT
BEGIN:STANDARD
TZOFFSETFROM:+0200
TZOFFSETTO:+0100
TZNAME:CET
DTSTART:20241027T010000
END:STANDARD
BEGIN:DAYLIGHT
TZOFFSETFROM:+0100
TZOFFSETTO:+0200
TZNAME:CEST
DTSTART:20250330T010000
END:DAYLIGHT
BEGIN:STANDARD
TZOFFSETFROM:+0200
TZOFFSETTO:+0100
TZNAME:CET
DTSTART:20251026T010000
END:STANDARD
END:VTIMEZONE
BEGIN:VEVENT
DTSTART;TZID=Europe/Paris:20240609T093000
DTEND;TZID=Europe/Paris:20240609T170000
DTSTAMP:20260421T092421
CREATED:20240607T140743Z
LAST-MODIFIED:20240607T140743Z
UID:29833-1717925400-1717952400@www.ville-yutz.fr
SUMMARY:Fête du poney
DESCRIPTION:
URL:https://www.ville-yutz.fr/event/fete-du-poney/
LOCATION:Centre équestre\, rue de Poitiers\, YUTZ\, 57970\, France
CATEGORIES:Sports
ATTACH;FMTTYPE=image/jpeg:https://www.ville-yutz.fr/wp-content/uploads/2024/06/2024-06-09-fete-du-poney.jpg
END:VEVENT
BEGIN:VEVENT
DTSTART;TZID=Europe/Paris:20240609T143000
DTEND;TZID=Europe/Paris:20240609T143000
DTSTAMP:20260421T092421
CREATED:20240529T101234Z
LAST-MODIFIED:20240529T101234Z
UID:29625-1717943400-1717943400@www.ville-yutz.fr
SUMMARY:Tournoi de pétanque
DESCRIPTION:
URL:https://www.ville-yutz.fr/event/tournoi-de-petanque/
LOCATION:Boulodrome\, 1 rue Sainte-Barbe\, YUTZ\, -\, 57970\, France
CATEGORIES:Sports
END:VEVENT
BEGIN:VEVENT
DTSTART;TZID=Europe/Paris:20240609T150000
DTEND;TZID=Europe/Paris:20240609T170000
DTSTAMP:20260421T092421
CREATED:20240607T141214Z
LAST-MODIFIED:20240607T141214Z
UID:29843-1717945200-1717952400@www.ville-yutz.fr
SUMMARY:JSA : championnat sénior / Illange
DESCRIPTION:
URL:https://www.ville-yutz.fr/event/jsa-championnat-senior-illange/
LOCATION:Stade Denis Muller\, Rue Victor Hugo\, YUTZ\, 57970
CATEGORIES:Sports
END:VEVENT
BEGIN:VEVENT
DTSTART;TZID=Europe/Paris:20240609T150000
DTEND;TZID=Europe/Paris:20240609T170000
DTSTAMP:20260421T092421
CREATED:20240607T141250Z
LAST-MODIFIED:20240607T141250Z
UID:29845-1717945200-1717952400@www.ville-yutz.fr
SUMMARY:US Yutz - Championnat séniors D1 / Terville
DESCRIPTION:
URL:https://www.ville-yutz.fr/event/us-yutz-championnat-seniors-d1-terville/
LOCATION:Stade de la Forêt\, rue du Stade\, Yutz\, 57970
CATEGORIES:Sports
END:VEVENT
END:VCALENDAR