BEGIN:VCALENDAR
VERSION:2.0
PRODID:-//Ville de Yutz - ECPv6.15.16//NONSGML v1.0//EN
CALSCALE:GREGORIAN
METHOD:PUBLISH
X-ORIGINAL-URL:https://www.ville-yutz.fr
X-WR-CALDESC:Évènements pour Ville de Yutz
REFRESH-INTERVAL;VALUE=DURATION:PT1H
X-Robots-Tag:noindex
X-PUBLISHED-TTL:PT1H
BEGIN:VTIMEZONE
TZID:Europe/Paris
BEGIN:DAYLIGHT
TZOFFSETFROM:+0100
TZOFFSETTO:+0200
TZNAME:CEST
DTSTART:20230326T010000
END:DAYLIGHT
BEGIN:STANDARD
TZOFFSETFROM:+0200
TZOFFSETTO:+0100
TZNAME:CET
DTSTART:20231029T010000
END:STANDARD
BEGIN:DAYLIGHT
TZOFFSETFROM:+0100
TZOFFSETTO:+0200
TZNAME:CEST
DTSTART:20240331T010000
END:DAYLIGHT
BEGIN:STANDARD
TZOFFSETFROM:+0200
TZOFFSETTO:+0100
TZNAME:CET
DTSTART:20241027T010000
END:STANDARD
BEGIN:DAYLIGHT
TZOFFSETFROM:+0100
TZOFFSETTO:+0200
TZNAME:CEST
DTSTART:20250330T010000
END:DAYLIGHT
BEGIN:STANDARD
TZOFFSETFROM:+0200
TZOFFSETTO:+0100
TZNAME:CET
DTSTART:20251026T010000
END:STANDARD
END:VTIMEZONE
BEGIN:VEVENT
DTSTART;TZID=Europe/Paris:20240601T110000
DTEND;TZID=Europe/Paris:20240601T130000
DTSTAMP:20260421T092433
CREATED:20240531T145740Z
LAST-MODIFIED:20240531T145740Z
UID:29713-1717239600-1717246800@www.ville-yutz.fr
SUMMARY:FC Yutz U15/Villers
DESCRIPTION:
URL:https://www.ville-yutz.fr/event/fc-yutz-u15-villers/
LOCATION:Stade Mermoz
CATEGORIES:Sports
ORGANIZER;CN="FC Yutz":MAILTO:utz.fc@moselle.lgef.fr
END:VEVENT
BEGIN:VEVENT
DTSTART;TZID=Europe/Paris:20240601T133000
DTEND;TZID=Europe/Paris:20240601T153000
DTSTAMP:20260421T092433
CREATED:20240531T145819Z
LAST-MODIFIED:20240531T145819Z
UID:29715-1717248600-1717255800@www.ville-yutz.fr
SUMMARY:FC Yutz: U13/Fameck
DESCRIPTION:
URL:https://www.ville-yutz.fr/event/fc-yutz-u13-fameck/
LOCATION:Stade Mermoz
CATEGORIES:Sports
ORGANIZER;CN="FC Yutz":MAILTO:utz.fc@moselle.lgef.fr
END:VEVENT
BEGIN:VEVENT
DTSTART;TZID=Europe/Paris:20240601T133000
DTEND;TZID=Europe/Paris:20240601T153000
DTSTAMP:20260421T092433
CREATED:20240531T145858Z
LAST-MODIFIED:20240531T145858Z
UID:29717-1717248600-1717255800@www.ville-yutz.fr
SUMMARY:FC Yutz U12/Fameck
DESCRIPTION:
URL:https://www.ville-yutz.fr/event/fc-yutz-u12-fameck/
LOCATION:Stade Mermoz
CATEGORIES:Sports
ORGANIZER;CN="FC Yutz":MAILTO:utz.fc@moselle.lgef.fr
END:VEVENT
BEGIN:VEVENT
DTSTART;TZID=Europe/Paris:20240601T160000
DTEND;TZID=Europe/Paris:20240601T180000
DTSTAMP:20260421T092433
CREATED:20240529T085535Z
LAST-MODIFIED:20240529T085535Z
UID:29568-1717257600-1717264800@www.ville-yutz.fr
SUMMARY:FC Yutz - Championnat U18 / Gandrange ES
DESCRIPTION:
URL:https://www.ville-yutz.fr/event/fc-yutz-championnat-u18-gandrange-es/
LOCATION:Stade Mermoz
CATEGORIES:Sports
ORGANIZER;CN="FC Yutz":MAILTO:utz.fc@moselle.lgef.fr
END:VEVENT
BEGIN:VEVENT
DTSTART;TZID=Europe/Paris:20240601T160000
DTEND;TZID=Europe/Paris:20240601T180000
DTSTAMP:20260421T092433
CREATED:20240531T150008Z
LAST-MODIFIED:20240531T150008Z
UID:29719-1717257600-1717264800@www.ville-yutz.fr
SUMMARY:FC Yutz - Championnat U18 / Gandrange ES
DESCRIPTION:
URL:https://www.ville-yutz.fr/event/fc-yutz-championnat-u18-gandrange-es-2/
LOCATION:Stade Mermoz
CATEGORIES:Sports
ORGANIZER;CN="FC Yutz":MAILTO:utz.fc@moselle.lgef.fr
END:VEVENT
END:VCALENDAR