BEGIN:VCALENDAR
VERSION:2.0
PRODID:-//Ville de Yutz - ECPv6.15.16//NONSGML v1.0//EN
CALSCALE:GREGORIAN
METHOD:PUBLISH
X-ORIGINAL-URL:https://www.ville-yutz.fr
X-WR-CALDESC:Évènements pour Ville de Yutz
REFRESH-INTERVAL;VALUE=DURATION:PT1H
X-Robots-Tag:noindex
X-PUBLISHED-TTL:PT1H
BEGIN:VTIMEZONE
TZID:Europe/Paris
BEGIN:DAYLIGHT
TZOFFSETFROM:+0100
TZOFFSETTO:+0200
TZNAME:CEST
DTSTART:20230326T010000
END:DAYLIGHT
BEGIN:STANDARD
TZOFFSETFROM:+0200
TZOFFSETTO:+0100
TZNAME:CET
DTSTART:20231029T010000
END:STANDARD
BEGIN:DAYLIGHT
TZOFFSETFROM:+0100
TZOFFSETTO:+0200
TZNAME:CEST
DTSTART:20240331T010000
END:DAYLIGHT
BEGIN:STANDARD
TZOFFSETFROM:+0200
TZOFFSETTO:+0100
TZNAME:CET
DTSTART:20241027T010000
END:STANDARD
BEGIN:DAYLIGHT
TZOFFSETFROM:+0100
TZOFFSETTO:+0200
TZNAME:CEST
DTSTART:20250330T010000
END:DAYLIGHT
BEGIN:STANDARD
TZOFFSETFROM:+0200
TZOFFSETTO:+0100
TZNAME:CET
DTSTART:20251026T010000
END:STANDARD
END:VTIMEZONE
BEGIN:VEVENT
DTSTART;VALUE=DATE:20240525
DTEND;VALUE=DATE:20240527
DTSTAMP:20260421T105459
CREATED:20240517T101015Z
LAST-MODIFIED:20240517T101015Z
UID:29039-1716595200-1716767999@www.ville-yutz.fr
SUMMARY:Triathlon International des Portes de France - Thionville
DESCRIPTION:Epreuves du samedi après-midi 25 mai 2024– Duathlon Kids 6-9 ans– Duathlon Kids 10-13 ans– Triathlon XS « Découverte »– SuperTri format S 3 * (Swim 250m +Bike 5.5km + Run 1.5km)– Concert BBQ party\n\nEpreuve du dimanche matin 26 mai 2024– Triathlon S Individuel et Relais– Triathlon M Individuel et Relais– BBQ party
URL:https://www.ville-yutz.fr/event/triathlon-international-des-portes-de-france-thionville/
LOCATION:Base nautique – Basse-Ham
CATEGORIES:Sports
ATTACH;FMTTYPE=image/jpeg:https://www.ville-yutz.fr/wp-content/uploads/2024/05/2024-05-25-Triathlon-Thionville.jpg
ORGANIZER;CN="TRITYC - Triathlon Thionville Yutz Club":MAILTO:president@trityc.fr
END:VEVENT
BEGIN:VEVENT
DTSTART;TZID=Europe/Paris:20240525T100000
DTEND;TZID=Europe/Paris:20240525T120000
DTSTAMP:20260421T105459
CREATED:20240517T101400Z
LAST-MODIFIED:20240524T160319Z
UID:29046-1716631200-1716638400@www.ville-yutz.fr
SUMMARY:FC Yutz U11-U10 plateau
DESCRIPTION:
URL:https://www.ville-yutz.fr/event/fc-yutz-championnat-u18-hettange-grande-fc/
LOCATION:Stade Mermoz
CATEGORIES:Sports
END:VEVENT
BEGIN:VEVENT
DTSTART;TZID=Europe/Paris:20240525T140000
DTEND;TZID=Europe/Paris:20240525T160000
DTSTAMP:20260421T105459
CREATED:20240524T160425Z
LAST-MODIFIED:20240524T160425Z
UID:29520-1716645600-1716652800@www.ville-yutz.fr
SUMMARY:FC Yutz U12-U13 / Uckange
DESCRIPTION:
URL:https://www.ville-yutz.fr/event/fc-yutz-u12-u13-uckange/
LOCATION:Stade Mermoz
CATEGORIES:Sports
ORGANIZER;CN="FC Yutz":MAILTO:utz.fc@moselle.lgef.fr
END:VEVENT
BEGIN:VEVENT
DTSTART;TZID=Europe/Paris:20240525T143000
DTEND;TZID=Europe/Paris:20240525T180000
DTSTAMP:20260421T105459
CREATED:20240524T160622Z
LAST-MODIFIED:20240524T160622Z
UID:29522-1716647400-1716660000@www.ville-yutz.fr
SUMMARY:ASVB : 1/4 de finale Grand Est de la catégorie M18F
DESCRIPTION:
URL:https://www.ville-yutz.fr/event/asvb-1-4-de-finale-grand-est-de-la-categorie-m18f/
LOCATION:Gymnase Jean Mermoz\, Place de l'Arc-en-ciel\, Yutz\, 57970\, France
CATEGORIES:Sports
END:VEVENT
END:VCALENDAR