BEGIN:VCALENDAR
VERSION:2.0
PRODID:-//Ville de Yutz - ECPv6.15.16//NONSGML v1.0//EN
CALSCALE:GREGORIAN
METHOD:PUBLISH
X-ORIGINAL-URL:https://www.ville-yutz.fr
X-WR-CALDESC:Évènements pour Ville de Yutz
REFRESH-INTERVAL;VALUE=DURATION:PT1H
X-Robots-Tag:noindex
X-PUBLISHED-TTL:PT1H
BEGIN:VTIMEZONE
TZID:Europe/Paris
BEGIN:DAYLIGHT
TZOFFSETFROM:+0100
TZOFFSETTO:+0200
TZNAME:CEST
DTSTART:20230326T010000
END:DAYLIGHT
BEGIN:STANDARD
TZOFFSETFROM:+0200
TZOFFSETTO:+0100
TZNAME:CET
DTSTART:20231029T010000
END:STANDARD
BEGIN:DAYLIGHT
TZOFFSETFROM:+0100
TZOFFSETTO:+0200
TZNAME:CEST
DTSTART:20240331T010000
END:DAYLIGHT
BEGIN:STANDARD
TZOFFSETFROM:+0200
TZOFFSETTO:+0100
TZNAME:CET
DTSTART:20241027T010000
END:STANDARD
BEGIN:DAYLIGHT
TZOFFSETFROM:+0100
TZOFFSETTO:+0200
TZNAME:CEST
DTSTART:20250330T010000
END:DAYLIGHT
BEGIN:STANDARD
TZOFFSETFROM:+0200
TZOFFSETTO:+0100
TZNAME:CET
DTSTART:20251026T010000
END:STANDARD
END:VTIMEZONE
BEGIN:VEVENT
DTSTART;TZID=Europe/Paris:20240520T080000
DTEND;TZID=Europe/Paris:20240520T180000
DTSTAMP:20260421T105344
CREATED:20240517T094539Z
LAST-MODIFIED:20240517T094539Z
UID:29021-1716192000-1716228000@www.ville-yutz.fr
SUMMARY:Yutz Thionville Twirling Club : Challenge Schneider Zanoni
DESCRIPTION:
URL:https://www.ville-yutz.fr/event/yutz-thionville-twirling-club-challenge-schneider-zanoni/
LOCATION:Gymnase Jean Mermoz\, Place de l'Arc-en-ciel\, Yutz\, 57970\, France
CATEGORIES:Sports
ORGANIZER;CN="Yutz Thionville Twirling Club":MAILTO:twirlingbaton57@gmail.com
END:VEVENT
BEGIN:VEVENT
DTSTART;TZID=Europe/Paris:20240520T100000
DTEND;TZID=Europe/Paris:20240520T160000
DTSTAMP:20260421T105344
CREATED:20240517T094729Z
LAST-MODIFIED:20240517T094729Z
UID:29026-1716199200-1716220800@www.ville-yutz.fr
SUMMARY:FC YUTZ : rassemblement U7.U9
DESCRIPTION:
URL:https://www.ville-yutz.fr/event/fc-yutz-rassemblement-u7-u9/
CATEGORIES:Sports
ORGANIZER;CN="FC Yutz":MAILTO:utz.fc@moselle.lgef.fr
END:VEVENT
END:VCALENDAR