BEGIN:VCALENDAR
VERSION:2.0
PRODID:-//Ville de Yutz - ECPv6.15.16//NONSGML v1.0//EN
CALSCALE:GREGORIAN
METHOD:PUBLISH
X-WR-CALNAME:Ville de Yutz
X-ORIGINAL-URL:https://www.ville-yutz.fr
X-WR-CALDESC:Évènements pour Ville de Yutz
REFRESH-INTERVAL;VALUE=DURATION:PT1H
X-Robots-Tag:noindex
X-PUBLISHED-TTL:PT1H
BEGIN:VTIMEZONE
TZID:Europe/Paris
BEGIN:DAYLIGHT
TZOFFSETFROM:+0100
TZOFFSETTO:+0200
TZNAME:CEST
DTSTART:20230326T010000
END:DAYLIGHT
BEGIN:STANDARD
TZOFFSETFROM:+0200
TZOFFSETTO:+0100
TZNAME:CET
DTSTART:20231029T010000
END:STANDARD
BEGIN:DAYLIGHT
TZOFFSETFROM:+0100
TZOFFSETTO:+0200
TZNAME:CEST
DTSTART:20240331T010000
END:DAYLIGHT
BEGIN:STANDARD
TZOFFSETFROM:+0200
TZOFFSETTO:+0100
TZNAME:CET
DTSTART:20241027T010000
END:STANDARD
BEGIN:DAYLIGHT
TZOFFSETFROM:+0100
TZOFFSETTO:+0200
TZNAME:CEST
DTSTART:20250330T010000
END:DAYLIGHT
BEGIN:STANDARD
TZOFFSETFROM:+0200
TZOFFSETTO:+0100
TZNAME:CET
DTSTART:20251026T010000
END:STANDARD
END:VTIMEZONE
BEGIN:VEVENT
DTSTART;TZID=Europe/Paris:20240505T090000
DTEND;TZID=Europe/Paris:20240505T170000
DTSTAMP:20260421T105445
CREATED:20240502T155445Z
LAST-MODIFIED:20240502T155445Z
UID:28488-1714899600-1714928400@www.ville-yutz.fr
SUMMARY:TYGRE : challenge Moselle EDR
DESCRIPTION:
URL:https://www.ville-yutz.fr/event/tygre-challenge-moselle-edr/
LOCATION:Stade Bernard Vasquez\, Rue de la Moselle\, YUTZ\, 57970\, France
CATEGORIES:Sports
END:VEVENT
BEGIN:VEVENT
DTSTART;TZID=Europe/Paris:20240505T100000
DTEND;TZID=Europe/Paris:20240505T120000
DTSTAMP:20260421T105445
CREATED:20240502T154739Z
LAST-MODIFIED:20240502T154739Z
UID:28484-1714903200-1714910400@www.ville-yutz.fr
SUMMARY:FC Yutz U14 / Moulins
DESCRIPTION:
URL:https://www.ville-yutz.fr/event/fc-yutz-u14-moulins/
LOCATION:Stade Mermoz
CATEGORIES:Sports
ORGANIZER;CN="FC Yutz":MAILTO:utz.fc@moselle.lgef.fr
END:VEVENT
BEGIN:VEVENT
DTSTART;TZID=Europe/Paris:20240505T100000
DTEND;TZID=Europe/Paris:20240505T120000
DTSTAMP:20260421T105445
CREATED:20240502T155048Z
LAST-MODIFIED:20240502T155048Z
UID:28486-1714903200-1714910400@www.ville-yutz.fr
SUMMARY:US Yutz - Championnat séniors D3 / Clouange
DESCRIPTION:
URL:https://www.ville-yutz.fr/event/us-yutz-championnat-seniors-d3-clouange/
LOCATION:Stade de la Forêt\, rue du Stade\, Yutz\, 57970
CATEGORIES:Sports
END:VEVENT
BEGIN:VEVENT
DTSTART;TZID=Europe/Paris:20240505T150000
DTEND;TZID=Europe/Paris:20240505T170000
DTSTAMP:20260421T105445
CREATED:20240502T154301Z
LAST-MODIFIED:20240502T154301Z
UID:28473-1714921200-1714928400@www.ville-yutz.fr
SUMMARY:US Yutz - Championnat / Hettange Grande FC
DESCRIPTION:
URL:https://www.ville-yutz.fr/event/us-yutz-championnat-hettange-grande-fc/
LOCATION:Stade de la Forêt\, rue du Stade\, Yutz\, 57970
CATEGORIES:Sports
END:VEVENT
BEGIN:VEVENT
DTSTART;TZID=Europe/Paris:20240505T150000
DTEND;TZID=Europe/Paris:20240505T170000
DTSTAMP:20260421T105445
CREATED:20240502T154336Z
LAST-MODIFIED:20240502T154336Z
UID:28475-1714921200-1714928400@www.ville-yutz.fr
SUMMARY:FC Yutz - Championnat / Montigny Metz AS
DESCRIPTION:
URL:https://www.ville-yutz.fr/event/fc-yutz-championnat-montigny-metz-as/
LOCATION:Salle Mermoz\, Place de l'Arc-en-ciel\, Yutz\, 57970\, France
CATEGORIES:Sports
ORGANIZER;CN="FC Yutz":MAILTO:utz.fc@moselle.lgef.fr
END:VEVENT
BEGIN:VEVENT
DTSTART;TZID=Europe/Paris:20240505T150000
DTEND;TZID=Europe/Paris:20240505T170000
DTSTAMP:20260421T105445
CREATED:20240502T154419Z
LAST-MODIFIED:20240502T154419Z
UID:28477-1714921200-1714928400@www.ville-yutz.fr
SUMMARY:US Yutz - Championnat séniors D2 / Florange
DESCRIPTION:
URL:https://www.ville-yutz.fr/event/us-yutz-championnat-seniors-d2-florange/
LOCATION:Stade de la Forêt\, rue du Stade\, Yutz\, 57970
CATEGORIES:Sports
END:VEVENT
BEGIN:VEVENT
DTSTART;TZID=Europe/Paris:20240505T150000
DTEND;TZID=Europe/Paris:20240505T170000
DTSTAMP:20260421T105445
CREATED:20240502T154455Z
LAST-MODIFIED:20240502T154455Z
UID:28479-1714921200-1714928400@www.ville-yutz.fr
SUMMARY:US Yutz - Championnat séniors D1 / Gandrange
DESCRIPTION:
URL:https://www.ville-yutz.fr/event/us-yutz-championnat-seniors-d1-gandrange/
LOCATION:Stade de la Forêt\, rue du Stade\, Yutz\, 57970
CATEGORIES:Sports
END:VEVENT
END:VCALENDAR