BEGIN:VCALENDAR
VERSION:2.0
PRODID:-//Ville de Yutz - ECPv6.15.16//NONSGML v1.0//EN
CALSCALE:GREGORIAN
METHOD:PUBLISH
X-ORIGINAL-URL:https://www.ville-yutz.fr
X-WR-CALDESC:Évènements pour Ville de Yutz
REFRESH-INTERVAL;VALUE=DURATION:PT1H
X-Robots-Tag:noindex
X-PUBLISHED-TTL:PT1H
BEGIN:VTIMEZONE
TZID:Europe/Paris
BEGIN:DAYLIGHT
TZOFFSETFROM:+0100
TZOFFSETTO:+0200
TZNAME:CEST
DTSTART:20230326T010000
END:DAYLIGHT
BEGIN:STANDARD
TZOFFSETFROM:+0200
TZOFFSETTO:+0100
TZNAME:CET
DTSTART:20231029T010000
END:STANDARD
BEGIN:DAYLIGHT
TZOFFSETFROM:+0100
TZOFFSETTO:+0200
TZNAME:CEST
DTSTART:20240331T010000
END:DAYLIGHT
BEGIN:STANDARD
TZOFFSETFROM:+0200
TZOFFSETTO:+0100
TZNAME:CET
DTSTART:20241027T010000
END:STANDARD
BEGIN:DAYLIGHT
TZOFFSETFROM:+0100
TZOFFSETTO:+0200
TZNAME:CEST
DTSTART:20250330T010000
END:DAYLIGHT
BEGIN:STANDARD
TZOFFSETFROM:+0200
TZOFFSETTO:+0100
TZNAME:CET
DTSTART:20251026T010000
END:STANDARD
END:VTIMEZONE
BEGIN:VEVENT
DTSTART;VALUE=DATE:20240422
DTEND;VALUE=DATE:20240504
DTSTAMP:20260421T105345
CREATED:20240419T122150Z
LAST-MODIFIED:20240419T122150Z
UID:27800-1713744000-1714780799@www.ville-yutz.fr
SUMMARY:Moselle Jeunesse
DESCRIPTION:Moselle jeunesse avril programme \nMoselle jeunesse avril autorisation parentale \nMoselle jeunesse avril inscription aux activités \nMoselle jeunesse avril règlement
URL:https://www.ville-yutz.fr/event/moselle-jeunesse-7/
LOCATION:YUTZ
CATEGORIES:Culture,Jeunesse,Sports
ATTACH;FMTTYPE=image/jpeg:https://www.ville-yutz.fr/wp-content/uploads/2024/04/Moselle-jeunesse-avril-programme-scaled.jpg
END:VEVENT
BEGIN:VEVENT
DTSTART;TZID=Europe/Paris:20240501T070000
DTEND;TZID=Europe/Paris:20240501T170000
DTSTAMP:20260421T105345
CREATED:20240419T153849Z
LAST-MODIFIED:20240419T153849Z
UID:27831-1714546800-1714582800@www.ville-yutz.fr
SUMMARY:CSC : La Judicium Gravel
DESCRIPTION:
URL:https://www.ville-yutz.fr/event/csc-la-judicium-gravel/
LOCATION:Aéroparc
CATEGORIES:Sports
ATTACH;FMTTYPE=image/jpeg:https://www.ville-yutz.fr/wp-content/uploads/2024/04/2024-05-01-Judicium-Gravel-2024-1.jpg
ORGANIZER;CN="Club Sportif Cycliste de Yutz":MAILTO:cscyutz@gmail.com
END:VEVENT
BEGIN:VEVENT
DTSTART;TZID=Europe/Paris:20240501T081500
DTEND;TZID=Europe/Paris:20240501T180000
DTSTAMP:20260421T105345
CREATED:20240419T153946Z
LAST-MODIFIED:20240419T153946Z
UID:27834-1714551300-1714586400@www.ville-yutz.fr
SUMMARY:FC YUTZ : Tournoi U11
DESCRIPTION:
URL:https://www.ville-yutz.fr/event/fc-yutz-tournoi-u11/
LOCATION:Stade Mermoz
CATEGORIES:Sports
ORGANIZER;CN="FC Yutz":MAILTO:utz.fc@moselle.lgef.fr
END:VEVENT
END:VCALENDAR