BEGIN:VCALENDAR
VERSION:2.0
PRODID:-//Ville de Yutz - ECPv6.15.16//NONSGML v1.0//EN
CALSCALE:GREGORIAN
METHOD:PUBLISH
X-ORIGINAL-URL:https://www.ville-yutz.fr
X-WR-CALDESC:Évènements pour Ville de Yutz
REFRESH-INTERVAL;VALUE=DURATION:PT1H
X-Robots-Tag:noindex
X-PUBLISHED-TTL:PT1H
BEGIN:VTIMEZONE
TZID:Europe/Paris
BEGIN:DAYLIGHT
TZOFFSETFROM:+0100
TZOFFSETTO:+0200
TZNAME:CEST
DTSTART:20230326T010000
END:DAYLIGHT
BEGIN:STANDARD
TZOFFSETFROM:+0200
TZOFFSETTO:+0100
TZNAME:CET
DTSTART:20231029T010000
END:STANDARD
BEGIN:DAYLIGHT
TZOFFSETFROM:+0100
TZOFFSETTO:+0200
TZNAME:CEST
DTSTART:20240331T010000
END:DAYLIGHT
BEGIN:STANDARD
TZOFFSETFROM:+0200
TZOFFSETTO:+0100
TZNAME:CET
DTSTART:20241027T010000
END:STANDARD
BEGIN:DAYLIGHT
TZOFFSETFROM:+0100
TZOFFSETTO:+0200
TZNAME:CEST
DTSTART:20250330T010000
END:DAYLIGHT
BEGIN:STANDARD
TZOFFSETFROM:+0200
TZOFFSETTO:+0100
TZNAME:CET
DTSTART:20251026T010000
END:STANDARD
END:VTIMEZONE
BEGIN:VEVENT
DTSTART;TZID=Europe/Paris:20240324T100000
DTEND;TZID=Europe/Paris:20240324T120000
DTSTAMP:20260421T135338
CREATED:20240322T144824Z
LAST-MODIFIED:20240322T144824Z
UID:26402-1711274400-1711281600@www.ville-yutz.fr
SUMMARY:US Yutz - Championnat séniors D3 / Uckange USAG
DESCRIPTION:
URL:https://www.ville-yutz.fr/event/us-yutz-championnat-seniors-d3-uckange-usag/
LOCATION:Stade de la Forêt\, rue du Stade\, Yutz\, 57970
CATEGORIES:Sports
END:VEVENT
BEGIN:VEVENT
DTSTART;TZID=Europe/Paris:20240324T100000
DTEND;TZID=Europe/Paris:20240324T120000
DTSTAMP:20260421T135338
CREATED:20240322T144908Z
LAST-MODIFIED:20240322T144908Z
UID:26404-1711274400-1711281600@www.ville-yutz.fr
SUMMARY:FC Yutz - Vétérans loisir championnat / Metz Scy
DESCRIPTION:
URL:https://www.ville-yutz.fr/event/fc-yutz-veterans-loisir-championnat-metz-scy/
LOCATION:Stade Mermoz
CATEGORIES:Sports
ORGANIZER;CN="FC Yutz":MAILTO:utz.fc@moselle.lgef.fr
END:VEVENT
BEGIN:VEVENT
DTSTART;TZID=Europe/Paris:20240324T103000
DTEND;TZID=Europe/Paris:20240324T170000
DTSTAMP:20260421T135338
CREATED:20240322T145013Z
LAST-MODIFIED:20240322T145013Z
UID:26406-1711276200-1711299600@www.ville-yutz.fr
SUMMARY:ASVB - Championnat France M11
DESCRIPTION:
URL:https://www.ville-yutz.fr/event/asvb-championnat-france-m11/
LOCATION:Stade Mermoz
CATEGORIES:Sports
END:VEVENT
BEGIN:VEVENT
DTSTART;TZID=Europe/Paris:20240324T140000
DTEND;TZID=Europe/Paris:20240324T180000
DTSTAMP:20260421T135338
CREATED:20240322T145211Z
LAST-MODIFIED:20240322T145211Z
UID:26414-1711288800-1711303200@www.ville-yutz.fr
SUMMARY:Portes Ouvertes : Energie Shiatsu
DESCRIPTION:
URL:https://www.ville-yutz.fr/event/portes-ouvertes-energie-shiatsu/
LOCATION:Dojo Schuman\, impasse Selver\, Yutz\, 57970
CATEGORIES:Général,Sports
ATTACH;FMTTYPE=image/jpeg:https://www.ville-yutz.fr/wp-content/uploads/2024/03/2024-03-24-A3-shiatsu-portes-ouvertes-scaled.jpg
ORGANIZER;CN="Energie Shiatsu":MAILTO:energieshiatsu@hotmail.fr
END:VEVENT
BEGIN:VEVENT
DTSTART;TZID=Europe/Paris:20240324T143000
DTEND;TZID=Europe/Paris:20240324T163000
DTSTAMP:20260421T135338
CREATED:20240322T145315Z
LAST-MODIFIED:20240322T145315Z
UID:26417-1711290600-1711297800@www.ville-yutz.fr
SUMMARY:US Yutz - Championnat/Hagondange FC
DESCRIPTION:
URL:https://www.ville-yutz.fr/event/us-yutz-championnat-hagondange-fc/
LOCATION:Stade de la Forêt\, rue du Stade\, Yutz\, 57970
CATEGORIES:Sports
END:VEVENT
BEGIN:VEVENT
DTSTART;TZID=Europe/Paris:20240324T143000
DTEND;TZID=Europe/Paris:20240324T163000
DTSTAMP:20260421T135338
CREATED:20240322T145421Z
LAST-MODIFIED:20240322T145421Z
UID:26419-1711290600-1711297800@www.ville-yutz.fr
SUMMARY:FC Yutz - Championnat / St Avold
DESCRIPTION:
URL:https://www.ville-yutz.fr/event/fc-yutz-championnat-st-avold/
LOCATION:Stade Mermoz
CATEGORIES:Sports
ORGANIZER;CN="FC Yutz":MAILTO:utz.fc@moselle.lgef.fr
END:VEVENT
BEGIN:VEVENT
DTSTART;TZID=Europe/Paris:20240324T143000
DTEND;TZID=Europe/Paris:20240324T230000
DTSTAMP:20260421T135338
CREATED:20240322T145505Z
LAST-MODIFIED:20240322T145505Z
UID:26421-1711290600-1711321200@www.ville-yutz.fr
SUMMARY:Concours de pétanque
DESCRIPTION:
URL:https://www.ville-yutz.fr/event/concours-de-petanque-2/
LOCATION:Boulodrome\, 1 rue Sainte-Barbe\, YUTZ\, -\, 57970\, France
CATEGORIES:Sports
END:VEVENT
BEGIN:VEVENT
DTSTART;TZID=Europe/Paris:20240324T150000
DTEND;TZID=Europe/Paris:20240324T170000
DTSTAMP:20260421T135338
CREATED:20240322T145649Z
LAST-MODIFIED:20240322T145649Z
UID:26426-1711292400-1711299600@www.ville-yutz.fr
SUMMARY:US Yutz - Championnat séniors D2 / Algrange
DESCRIPTION:
URL:https://www.ville-yutz.fr/event/us-yutz-championnat-seniors-d2-algrange/
LOCATION:Stade de la Forêt\, rue du Stade\, Yutz\, 57970
CATEGORIES:Sports
END:VEVENT
BEGIN:VEVENT
DTSTART;TZID=Europe/Paris:20240324T150000
DTEND;TZID=Europe/Paris:20240324T170000
DTSTAMP:20260421T135338
CREATED:20240322T145750Z
LAST-MODIFIED:20240322T145750Z
UID:26428-1711292400-1711299600@www.ville-yutz.fr
SUMMARY:US Yutz - Championnat séniors D1 / Bertrange TS
DESCRIPTION:
URL:https://www.ville-yutz.fr/event/us-yutz-championnat-seniors-d1-bertrange-ts/
LOCATION:Stade de la Forêt\, rue du Stade\, Yutz\, 57970
CATEGORIES:Sports
END:VEVENT
BEGIN:VEVENT
DTSTART;TZID=Europe/Paris:20240324T150000
DTEND;TZID=Europe/Paris:20240324T170000
DTSTAMP:20260421T135338
CREATED:20240322T145852Z
LAST-MODIFIED:20240322T145852Z
UID:26430-1711292400-1711299600@www.ville-yutz.fr
SUMMARY:JSA - Seniors D3 / Bertrange TS
DESCRIPTION:
URL:https://www.ville-yutz.fr/event/jsa-seniors-d3-bertrange-ts/
LOCATION:Stade Denis Muller\, Rue Victor Hugo\, YUTZ\, 57970
CATEGORIES:Sports
END:VEVENT
BEGIN:VEVENT
DTSTART;TZID=Europe/Paris:20240324T150000
DTEND;TZID=Europe/Paris:20240324T170000
DTSTAMP:20260421T135338
CREATED:20240322T145922Z
LAST-MODIFIED:20240322T145922Z
UID:26432-1711292400-1711299600@www.ville-yutz.fr
SUMMARY:FC Yutz - U14 coupe / Moyeuvre-Froidcul
DESCRIPTION:
URL:https://www.ville-yutz.fr/event/fc-yutz-u14-coupe-moyeuvre-froidcul/
LOCATION:Stade Mermoz
CATEGORIES:Sports
END:VEVENT
BEGIN:VEVENT
DTSTART;TZID=Europe/Paris:20240324T170000
DTEND;TZID=Europe/Paris:20240324T190000
DTSTAMP:20260421T135338
CREATED:20240322T150025Z
LAST-MODIFIED:20240322T150025Z
UID:26434-1711299600-1711306800@www.ville-yutz.fr
SUMMARY:FC Yutz - Championnat U18 / Fameck ES
DESCRIPTION:
URL:https://www.ville-yutz.fr/event/fc-yutz-championnat-u18-fameck-es/
LOCATION:Stade Mermoz
CATEGORIES:Sports
ORGANIZER;CN="FC Yutz":MAILTO:utz.fc@moselle.lgef.fr
END:VEVENT
END:VCALENDAR