BEGIN:VCALENDAR
VERSION:2.0
PRODID:-//Ville de Yutz - ECPv6.15.16//NONSGML v1.0//EN
CALSCALE:GREGORIAN
METHOD:PUBLISH
X-ORIGINAL-URL:https://www.ville-yutz.fr
X-WR-CALDESC:Évènements pour Ville de Yutz
REFRESH-INTERVAL;VALUE=DURATION:PT1H
X-Robots-Tag:noindex
X-PUBLISHED-TTL:PT1H
BEGIN:VTIMEZONE
TZID:Europe/Paris
BEGIN:DAYLIGHT
TZOFFSETFROM:+0100
TZOFFSETTO:+0200
TZNAME:CEST
DTSTART:20230326T010000
END:DAYLIGHT
BEGIN:STANDARD
TZOFFSETFROM:+0200
TZOFFSETTO:+0100
TZNAME:CET
DTSTART:20231029T010000
END:STANDARD
BEGIN:DAYLIGHT
TZOFFSETFROM:+0100
TZOFFSETTO:+0200
TZNAME:CEST
DTSTART:20240331T010000
END:DAYLIGHT
BEGIN:STANDARD
TZOFFSETFROM:+0200
TZOFFSETTO:+0100
TZNAME:CET
DTSTART:20241027T010000
END:STANDARD
BEGIN:DAYLIGHT
TZOFFSETFROM:+0100
TZOFFSETTO:+0200
TZNAME:CEST
DTSTART:20250330T010000
END:DAYLIGHT
BEGIN:STANDARD
TZOFFSETFROM:+0200
TZOFFSETTO:+0100
TZNAME:CET
DTSTART:20251026T010000
END:STANDARD
END:VTIMEZONE
BEGIN:VEVENT
DTSTART;TZID=Europe/Paris:20240309T100000
DTEND;TZID=Europe/Paris:20240309T123000
DTSTAMP:20260421T135351
CREATED:20240306T131331Z
LAST-MODIFIED:20240306T131331Z
UID:26040-1709978400-1709987400@www.ville-yutz.fr
SUMMARY:FC Yutz - Championnat U11-U10 2
DESCRIPTION:
URL:https://www.ville-yutz.fr/event/fc-yutz-championnat-u11-u10-2/
LOCATION:Stade Mermoz
CATEGORIES:Sports
ORGANIZER;CN="FC Yutz":MAILTO:utz.fc@moselle.lgef.fr
END:VEVENT
BEGIN:VEVENT
DTSTART;TZID=Europe/Paris:20240309T130000
DTEND;TZID=Europe/Paris:20240309T150000
DTSTAMP:20260421T135351
CREATED:20240306T131550Z
LAST-MODIFIED:20240306T131550Z
UID:26044-1709989200-1709996400@www.ville-yutz.fr
SUMMARY:FC Yutz - Championnat U13 1 / Rombas
DESCRIPTION:
URL:https://www.ville-yutz.fr/event/fc-yutz-championnat-u13-1-rombas/
LOCATION:Stade Mermoz
CATEGORIES:Sports
ORGANIZER;CN="FC Yutz":MAILTO:utz.fc@moselle.lgef.fr
END:VEVENT
BEGIN:VEVENT
DTSTART;TZID=Europe/Paris:20240309T150000
DTEND;TZID=Europe/Paris:20240309T170000
DTSTAMP:20260421T135351
CREATED:20240306T131651Z
LAST-MODIFIED:20240306T131651Z
UID:26046-1709996400-1710003600@www.ville-yutz.fr
SUMMARY:FC Yutz - Championnat U14 / Algrange
DESCRIPTION:
URL:https://www.ville-yutz.fr/event/fc-yutz-championnat-u14-algrange/
LOCATION:Stade Mermoz
CATEGORIES:Sports
ORGANIZER;CN="FC Yutz":MAILTO:utz.fc@moselle.lgef.fr
END:VEVENT
BEGIN:VEVENT
DTSTART;TZID=Europe/Paris:20240309T160000
DTEND;TZID=Europe/Paris:20240309T180000
DTSTAMP:20260421T135351
CREATED:20240228T091836Z
LAST-MODIFIED:20240228T091836Z
UID:25833-1710000000-1710007200@www.ville-yutz.fr
SUMMARY:FC Yutz - Championnat U18 / Thierville US38
DESCRIPTION:
URL:https://www.ville-yutz.fr/event/fc-yutz-championnat-u18-thierville-us38/
LOCATION:Stade Mermoz
CATEGORIES:Sports
ORGANIZER;CN="FC Yutz":MAILTO:utz.fc@moselle.lgef.fr
END:VEVENT
END:VCALENDAR