BEGIN:VCALENDAR
VERSION:2.0
PRODID:-//Ville de Yutz - ECPv6.15.16//NONSGML v1.0//EN
CALSCALE:GREGORIAN
METHOD:PUBLISH
X-ORIGINAL-URL:https://www.ville-yutz.fr
X-WR-CALDESC:Évènements pour Ville de Yutz
REFRESH-INTERVAL;VALUE=DURATION:PT1H
X-Robots-Tag:noindex
X-PUBLISHED-TTL:PT1H
BEGIN:VTIMEZONE
TZID:Europe/Paris
BEGIN:DAYLIGHT
TZOFFSETFROM:+0100
TZOFFSETTO:+0200
TZNAME:CEST
DTSTART:20220327T010000
END:DAYLIGHT
BEGIN:STANDARD
TZOFFSETFROM:+0200
TZOFFSETTO:+0100
TZNAME:CET
DTSTART:20221030T010000
END:STANDARD
BEGIN:DAYLIGHT
TZOFFSETFROM:+0100
TZOFFSETTO:+0200
TZNAME:CEST
DTSTART:20230326T010000
END:DAYLIGHT
BEGIN:STANDARD
TZOFFSETFROM:+0200
TZOFFSETTO:+0100
TZNAME:CET
DTSTART:20231029T010000
END:STANDARD
BEGIN:DAYLIGHT
TZOFFSETFROM:+0100
TZOFFSETTO:+0200
TZNAME:CEST
DTSTART:20240331T010000
END:DAYLIGHT
BEGIN:STANDARD
TZOFFSETFROM:+0200
TZOFFSETTO:+0100
TZNAME:CET
DTSTART:20241027T010000
END:STANDARD
END:VTIMEZONE
BEGIN:VEVENT
DTSTART;TZID=Europe/Paris:20231202T100000
DTEND;TZID=Europe/Paris:20231202T120000
DTSTAMP:20260421T195251
CREATED:20231201T162839Z
LAST-MODIFIED:20231201T162839Z
UID:23839-1701511200-1701518400@www.ville-yutz.fr
SUMMARY:FC Yutz - Plateau U8-U9 / Plateau
DESCRIPTION:
URL:https://www.ville-yutz.fr/event/fc-yutz-plateau-u8-u9-plateau/
LOCATION:Stade Mermoz
CATEGORIES:Sports
ORGANIZER;CN="FC Yutz":MAILTO:utz.fc@moselle.lgef.fr
END:VEVENT
BEGIN:VEVENT
DTSTART;TZID=Europe/Paris:20231202T100000
DTEND;TZID=Europe/Paris:20231202T120000
DTSTAMP:20260421T195251
CREATED:20231201T162923Z
LAST-MODIFIED:20231201T162923Z
UID:23841-1701511200-1701518400@www.ville-yutz.fr
SUMMARY:FC Yutz - Plateau U11.U10 -2 / Plateau
DESCRIPTION:
URL:https://www.ville-yutz.fr/event/fc-yutz-plateau-u11-u10-2-plateau/
LOCATION:Stade Mermoz
CATEGORIES:Sports
ORGANIZER;CN="FC Yutz":MAILTO:utz.fc@moselle.lgef.fr
END:VEVENT
BEGIN:VEVENT
DTSTART;TZID=Europe/Paris:20231202T100000
DTEND;TZID=Europe/Paris:20231202T120000
DTSTAMP:20260421T195251
CREATED:20231201T162959Z
LAST-MODIFIED:20231201T162959Z
UID:23843-1701511200-1701518400@www.ville-yutz.fr
SUMMARY:FC Yutz - Coupe Vétérans LOISIR / Delme Solgne
DESCRIPTION:
URL:https://www.ville-yutz.fr/event/fc-yutz-coupe-veterans-loisir-delme-solgne/
LOCATION:Stade Mermoz
CATEGORIES:Sports
ORGANIZER;CN="FC Yutz":MAILTO:utz.fc@moselle.lgef.fr
END:VEVENT
BEGIN:VEVENT
DTSTART;TZID=Europe/Paris:20231202T124500
DTEND;TZID=Europe/Paris:20231202T144500
DTSTAMP:20260421T195251
CREATED:20231201T163034Z
LAST-MODIFIED:20231201T163034Z
UID:23845-1701521100-1701528300@www.ville-yutz.fr
SUMMARY:FC Yutz - Amical U14 / Amanvillers
DESCRIPTION:
URL:https://www.ville-yutz.fr/event/fc-yutz-amical-u14-amanvillers/
LOCATION:Stade Mermoz
CATEGORIES:Sports
ORGANIZER;CN="FC Yutz":MAILTO:utz.fc@moselle.lgef.fr
END:VEVENT
BEGIN:VEVENT
DTSTART;TZID=Europe/Paris:20231202T143000
DTEND;TZID=Europe/Paris:20231202T163000
DTSTAMP:20260421T195251
CREATED:20231201T163650Z
LAST-MODIFIED:20231201T163650Z
UID:23852-1701527400-1701534600@www.ville-yutz.fr
SUMMARY:FC Yutz - Championnat U12 -1 / Bure-Boulange
DESCRIPTION:
URL:https://www.ville-yutz.fr/event/fc-yutz-championnat-u12-1-bure-boulange/
LOCATION:Stade Mermoz
CATEGORIES:Sports
ORGANIZER;CN="FC Yutz":MAILTO:utz.fc@moselle.lgef.fr
END:VEVENT
BEGIN:VEVENT
DTSTART;TZID=Europe/Paris:20231202T180000
DTEND;TZID=Europe/Paris:20231202T193000
DTSTAMP:20260421T195251
CREATED:20231201T163759Z
LAST-MODIFIED:20231201T163759Z
UID:23854-1701540000-1701545400@www.ville-yutz.fr
SUMMARY:Yutz Handball - Match 17CDF/Montbéliard
DESCRIPTION:
URL:https://www.ville-yutz.fr/event/yutz-handball-match-17cdf-montbeliard/
LOCATION:Gymnase Saint-Exupéry\, 1 rue du Gymnase\, YUTZ\, 57970\, France
CATEGORIES:Sports
ORGANIZER;CN="Yutz Handball":MAILTO:5657005@ffhandball.net
END:VEVENT
END:VCALENDAR