BEGIN:VCALENDAR
VERSION:2.0
PRODID:-//Ville de Yutz - ECPv6.15.16//NONSGML v1.0//EN
CALSCALE:GREGORIAN
METHOD:PUBLISH
X-ORIGINAL-URL:https://www.ville-yutz.fr
X-WR-CALDESC:Évènements pour Ville de Yutz
REFRESH-INTERVAL;VALUE=DURATION:PT1H
X-Robots-Tag:noindex
X-PUBLISHED-TTL:PT1H
BEGIN:VTIMEZONE
TZID:Europe/Paris
BEGIN:DAYLIGHT
TZOFFSETFROM:+0100
TZOFFSETTO:+0200
TZNAME:CEST
DTSTART:20220327T010000
END:DAYLIGHT
BEGIN:STANDARD
TZOFFSETFROM:+0200
TZOFFSETTO:+0100
TZNAME:CET
DTSTART:20221030T010000
END:STANDARD
BEGIN:DAYLIGHT
TZOFFSETFROM:+0100
TZOFFSETTO:+0200
TZNAME:CEST
DTSTART:20230326T010000
END:DAYLIGHT
BEGIN:STANDARD
TZOFFSETFROM:+0200
TZOFFSETTO:+0100
TZNAME:CET
DTSTART:20231029T010000
END:STANDARD
BEGIN:DAYLIGHT
TZOFFSETFROM:+0100
TZOFFSETTO:+0200
TZNAME:CEST
DTSTART:20240331T010000
END:DAYLIGHT
BEGIN:STANDARD
TZOFFSETFROM:+0200
TZOFFSETTO:+0100
TZNAME:CET
DTSTART:20241027T010000
END:STANDARD
END:VTIMEZONE
BEGIN:VEVENT
DTSTART;TZID=Europe/Paris:20231126T090000
DTEND;TZID=Europe/Paris:20231126T130000
DTSTAMP:20260421T195308
CREATED:20231124T140151Z
LAST-MODIFIED:20231124T140151Z
UID:23648-1700989200-1701003600@www.ville-yutz.fr
SUMMARY:ASVB - Championnat France M11 de volley
DESCRIPTION:
URL:https://www.ville-yutz.fr/event/asvb-championnat-france-m11-de-volley/
LOCATION:Gymnase Jean Mermoz\, Place de l'Arc-en-ciel\, Yutz\, 57970\, France
CATEGORIES:Sports
END:VEVENT
BEGIN:VEVENT
DTSTART;TZID=Europe/Paris:20231126T140000
DTEND;TZID=Europe/Paris:20231126T160000
DTSTAMP:20260421T195308
CREATED:20231124T140417Z
LAST-MODIFIED:20231124T140417Z
UID:23652-1701007200-1701014400@www.ville-yutz.fr
SUMMARY:Foot US Yutz - Championnat séniors R2 / U.S. NOUSSEVILLER
DESCRIPTION:
URL:https://www.ville-yutz.fr/event/foot-us-yutz-championnat-seniors-r2-u-s-nousseviller/
LOCATION:Stade de la Forêt\, rue du Stade\, Yutz\, 57970
CATEGORIES:Sports
END:VEVENT
BEGIN:VEVENT
DTSTART;TZID=Europe/Paris:20231126T143000
DTEND;TZID=Europe/Paris:20231126T163000
DTSTAMP:20260421T195308
CREATED:20231124T140457Z
LAST-MODIFIED:20231124T140457Z
UID:23654-1701009000-1701016200@www.ville-yutz.fr
SUMMARY:TYGRE Rugby - Match aller Génération RE/RC MULHOUSE
DESCRIPTION:
URL:https://www.ville-yutz.fr/event/tygre-rugby-match-aller-generation-re-rc-mulhouse/
LOCATION:Stade Bernard Vasquez\, Rue de la Moselle\, YUTZ\, 57970\, France
CATEGORIES:Sports
END:VEVENT
BEGIN:VEVENT
DTSTART;TZID=Europe/Paris:20231126T174500
DTEND;TZID=Europe/Paris:20231126T194500
DTSTAMP:20260421T195308
CREATED:20231124T140551Z
LAST-MODIFIED:20231124T140551Z
UID:23656-1701020700-1701027900@www.ville-yutz.fr
SUMMARY:Foot US Yutz - Championnat séniors D1 / Fontoy
DESCRIPTION:
URL:https://www.ville-yutz.fr/event/foot-us-yutz-championnat-seniors-d1-fontoy/
LOCATION:Stade de la Forêt\, rue du Stade\, Yutz\, 57970
CATEGORIES:Sports
END:VEVENT
END:VCALENDAR