BEGIN:VCALENDAR
VERSION:2.0
PRODID:-//Ville de Yutz - ECPv6.15.16//NONSGML v1.0//EN
CALSCALE:GREGORIAN
METHOD:PUBLISH
X-WR-CALNAME:Ville de Yutz
X-ORIGINAL-URL:https://www.ville-yutz.fr
X-WR-CALDESC:Évènements pour Ville de Yutz
REFRESH-INTERVAL;VALUE=DURATION:PT1H
X-Robots-Tag:noindex
X-PUBLISHED-TTL:PT1H
BEGIN:VTIMEZONE
TZID:Europe/Paris
BEGIN:DAYLIGHT
TZOFFSETFROM:+0100
TZOFFSETTO:+0200
TZNAME:CEST
DTSTART:20220327T010000
END:DAYLIGHT
BEGIN:STANDARD
TZOFFSETFROM:+0200
TZOFFSETTO:+0100
TZNAME:CET
DTSTART:20221030T010000
END:STANDARD
BEGIN:DAYLIGHT
TZOFFSETFROM:+0100
TZOFFSETTO:+0200
TZNAME:CEST
DTSTART:20230326T010000
END:DAYLIGHT
BEGIN:STANDARD
TZOFFSETFROM:+0200
TZOFFSETTO:+0100
TZNAME:CET
DTSTART:20231029T010000
END:STANDARD
BEGIN:DAYLIGHT
TZOFFSETFROM:+0100
TZOFFSETTO:+0200
TZNAME:CEST
DTSTART:20240331T010000
END:DAYLIGHT
BEGIN:STANDARD
TZOFFSETFROM:+0200
TZOFFSETTO:+0100
TZNAME:CET
DTSTART:20241027T010000
END:STANDARD
END:VTIMEZONE
BEGIN:VEVENT
DTSTART;VALUE=DATE:20231023
DTEND;VALUE=DATE:20231104
DTSTAMP:20260421T210422
CREATED:20231020T140538Z
LAST-MODIFIED:20231020T140538Z
UID:22934-1698019200-1699055999@www.ville-yutz.fr
SUMMARY:Moselle Jeunesse
DESCRIPTION:Moselle jeunesse oct nov 23 – programme \nMoselle-jeunesse-oct-nov-23-autorisation-parentale \nMoselle-jeunesse-oct-nov-23-reglement \nMoselle-jeunesse-oct-nov-23-inscription
URL:https://www.ville-yutz.fr/event/moselle-jeunesse-6/
CATEGORIES:Culture,Jeunesse,Sports
ATTACH;FMTTYPE=image/jpeg:https://www.ville-yutz.fr/wp-content/uploads/2023/10/Moselle-jeunesse-aout-2023-31-scaled.jpg
END:VEVENT
BEGIN:VEVENT
DTSTART;TZID=Europe/Paris:20231028T100000
DTEND;TZID=Europe/Paris:20231028T120000
DTSTAMP:20260421T210422
CREATED:20231027T162041Z
LAST-MODIFIED:20231027T162041Z
UID:23047-1698487200-1698494400@www.ville-yutz.fr
SUMMARY:FC Yutz - Amical U11.U10-2/Mont St Martin
DESCRIPTION:
URL:https://www.ville-yutz.fr/event/fc-yutz-amical-u11-u10-2-mont-st-martin/
LOCATION:Stade Mermoz
CATEGORIES:Sports
ORGANIZER;CN="FC Yutz":MAILTO:utz.fc@moselle.lgef.fr
END:VEVENT
BEGIN:VEVENT
DTSTART;TZID=Europe/Paris:20231028T100000
DTEND;TZID=Europe/Paris:20231028T120000
DTSTAMP:20260421T210422
CREATED:20231027T162113Z
LAST-MODIFIED:20231027T162113Z
UID:23049-1698487200-1698494400@www.ville-yutz.fr
SUMMARY:FC Yutz - Amical U11.U10-3/Mont St Martin
DESCRIPTION:
URL:https://www.ville-yutz.fr/event/fc-yutz-amical-u11-u10-3-mont-st-martin/
LOCATION:Stade Mermoz
CATEGORIES:Sports
ORGANIZER;CN="FC Yutz":MAILTO:utz.fc@moselle.lgef.fr
END:VEVENT
BEGIN:VEVENT
DTSTART;TZID=Europe/Paris:20231028T133000
DTEND;TZID=Europe/Paris:20231028T153000
DTSTAMP:20260421T210422
CREATED:20231027T162153Z
LAST-MODIFIED:20231027T162153Z
UID:23051-1698499800-1698507000@www.ville-yutz.fr
SUMMARY:FC Yutz - Championnat U13-1/Fameck
DESCRIPTION:
URL:https://www.ville-yutz.fr/event/fc-yutz-championnat-u13-1-fameck/
LOCATION:Stade Mermoz
CATEGORIES:Sports
ORGANIZER;CN="FC Yutz":MAILTO:utz.fc@moselle.lgef.fr
END:VEVENT
BEGIN:VEVENT
DTSTART;TZID=Europe/Paris:20231028T150000
DTEND;TZID=Europe/Paris:20231028T170000
DTSTAMP:20260421T210422
CREATED:20231027T162232Z
LAST-MODIFIED:20231027T162232Z
UID:23053-1698505200-1698512400@www.ville-yutz.fr
SUMMARY:FC Yutz - Amical U1/Hesperange
DESCRIPTION:
URL:https://www.ville-yutz.fr/event/fc-yutz-amical-u1-hesperange/
LOCATION:Stade Mermoz
CATEGORIES:Sports
ORGANIZER;CN="FC Yutz":MAILTO:utz.fc@moselle.lgef.fr
END:VEVENT
BEGIN:VEVENT
DTSTART;TZID=Europe/Paris:20231028T170000
DTEND;TZID=Europe/Paris:20231028T190000
DTSTAMP:20260421T210422
CREATED:20231027T162314Z
LAST-MODIFIED:20231027T162314Z
UID:23055-1698512400-1698519600@www.ville-yutz.fr
SUMMARY:FC Yutz - Amical Vétérans/Gandrange
DESCRIPTION:
URL:https://www.ville-yutz.fr/event/fc-yutz-amical-veterans-gandrange/
LOCATION:Stade Mermoz
CATEGORIES:Sports
ORGANIZER;CN="FC Yutz":MAILTO:utz.fc@moselle.lgef.fr
END:VEVENT
END:VCALENDAR