BEGIN:VCALENDAR
VERSION:2.0
PRODID:-//Ville de Yutz - ECPv6.15.16//NONSGML v1.0//EN
CALSCALE:GREGORIAN
METHOD:PUBLISH
X-WR-CALNAME:Ville de Yutz
X-ORIGINAL-URL:https://www.ville-yutz.fr
X-WR-CALDESC:Évènements pour Ville de Yutz
REFRESH-INTERVAL;VALUE=DURATION:PT1H
X-Robots-Tag:noindex
X-PUBLISHED-TTL:PT1H
BEGIN:VTIMEZONE
TZID:Europe/Paris
BEGIN:DAYLIGHT
TZOFFSETFROM:+0100
TZOFFSETTO:+0200
TZNAME:CEST
DTSTART:20220327T010000
END:DAYLIGHT
BEGIN:STANDARD
TZOFFSETFROM:+0200
TZOFFSETTO:+0100
TZNAME:CET
DTSTART:20221030T010000
END:STANDARD
BEGIN:DAYLIGHT
TZOFFSETFROM:+0100
TZOFFSETTO:+0200
TZNAME:CEST
DTSTART:20230326T010000
END:DAYLIGHT
BEGIN:STANDARD
TZOFFSETFROM:+0200
TZOFFSETTO:+0100
TZNAME:CET
DTSTART:20231029T010000
END:STANDARD
BEGIN:DAYLIGHT
TZOFFSETFROM:+0100
TZOFFSETTO:+0200
TZNAME:CEST
DTSTART:20240331T010000
END:DAYLIGHT
BEGIN:STANDARD
TZOFFSETFROM:+0200
TZOFFSETTO:+0100
TZNAME:CET
DTSTART:20241027T010000
END:STANDARD
END:VTIMEZONE
BEGIN:VEVENT
DTSTART;TZID=Europe/Paris:20231014T090000
DTEND;TZID=Europe/Paris:20231014T230000
DTSTAMP:20260421T210421
CREATED:20231012T090303Z
LAST-MODIFIED:20231012T090303Z
UID:22582-1697274000-1697324400@www.ville-yutz.fr
SUMMARY:La Yeti
DESCRIPTION:
URL:https://www.ville-yutz.fr/event/la-yeti-2/
LOCATION:Parcours de santé\, Rue de la Forêt\, Yutz\, 57970
CATEGORIES:Sports
ATTACH;FMTTYPE=image/jpeg:https://www.ville-yutz.fr/wp-content/uploads/2023/10/YETI-2023.jpg
ORGANIZER;CN="Club Sportif Cycliste de Yutz":MAILTO:cscyutz@gmail.com
END:VEVENT
BEGIN:VEVENT
DTSTART;TZID=Europe/Paris:20231014T113000
DTEND;TZID=Europe/Paris:20231014T170000
DTSTAMP:20260421T210421
CREATED:20231013T152829Z
LAST-MODIFIED:20231013T152829Z
UID:22702-1697283000-1697302800@www.ville-yutz.fr
SUMMARY:ESTY - Challenge équip'athlé BE/MI
DESCRIPTION:
URL:https://www.ville-yutz.fr/event/esty-challenge-equipathle-be-mi/
LOCATION:Stade Mermoz
CATEGORIES:Sports
ORGANIZER;CN="ESTY":MAILTO:esty.athletisme@live.fr
END:VEVENT
BEGIN:VEVENT
DTSTART;TZID=Europe/Paris:20231014T130000
DTEND;TZID=Europe/Paris:20231014T150000
DTSTAMP:20260421T210421
CREATED:20231013T153723Z
LAST-MODIFIED:20231013T153723Z
UID:22704-1697288400-1697295600@www.ville-yutz.fr
SUMMARY:Foot - Championnat U14/Tremery
DESCRIPTION:
URL:https://www.ville-yutz.fr/event/foot-championnat-u14-tremery/
LOCATION:Stade Mermoz
CATEGORIES:Sports
ORGANIZER;CN="FC Yutz":MAILTO:utz.fc@moselle.lgef.fr
END:VEVENT
BEGIN:VEVENT
DTSTART;TZID=Europe/Paris:20231014T150000
DTEND;TZID=Europe/Paris:20231014T170000
DTSTAMP:20260421T210421
CREATED:20231013T153818Z
LAST-MODIFIED:20231013T153818Z
UID:22706-1697295600-1697302800@www.ville-yutz.fr
SUMMARY:Foot - Championnat U15/Nancy
DESCRIPTION:
URL:https://www.ville-yutz.fr/event/foot-championnat-u15-nancy/
LOCATION:Stade Mermoz
CATEGORIES:Sports
ORGANIZER;CN="FC Yutz":MAILTO:utz.fc@moselle.lgef.fr
END:VEVENT
BEGIN:VEVENT
DTSTART;TZID=Europe/Paris:20231014T160000
DTEND;TZID=Europe/Paris:20231014T200000
DTSTAMP:20260421T210421
CREATED:20231013T153939Z
LAST-MODIFIED:20231013T153939Z
UID:22708-1697299200-1697313600@www.ville-yutz.fr
SUMMARY:Yutz Handball  - Match EQ2/Amanvillers
DESCRIPTION:
URL:https://www.ville-yutz.fr/event/yutz-handball-match-eq2-amanvillers/
LOCATION:Gymnase Saint-Exupéry\, 1 rue du Gymnase\, YUTZ\, 57970\, France
CATEGORIES:Sports
ORGANIZER;CN="Yutz Handball":MAILTO:5657005@ffhandball.net
END:VEVENT
BEGIN:VEVENT
DTSTART;TZID=Europe/Paris:20231014T170000
DTEND;TZID=Europe/Paris:20231014T190000
DTSTAMP:20260421T210421
CREATED:20231013T154146Z
LAST-MODIFIED:20231013T154146Z
UID:22710-1697302800-1697310000@www.ville-yutz.fr
SUMMARY:Foot : FC Yutz - Amical Vétérans/Joeuf
DESCRIPTION:
URL:https://www.ville-yutz.fr/event/foot-fc-yutz-amical-veterans-joeuf/
LOCATION:Stade Mermoz
CATEGORIES:Sports
ORGANIZER;CN="FC Yutz":MAILTO:utz.fc@moselle.lgef.fr
END:VEVENT
BEGIN:VEVENT
DTSTART;TZID=Europe/Paris:20231014T200000
DTEND;TZID=Europe/Paris:20231014T230000
DTSTAMP:20260421T210421
CREATED:20231013T154544Z
LAST-MODIFIED:20231013T154544Z
UID:22713-1697313600-1697324400@www.ville-yutz.fr
SUMMARY:Gala de boxe pro et amateur
DESCRIPTION:
URL:https://www.ville-yutz.fr/event/gala-de-boxe-pro-et-amateur/
LOCATION:Salle Anne-Sophie Mathis\, impasse Selver\, Yutz
CATEGORIES:Sports
ATTACH;FMTTYPE=image/jpeg:https://www.ville-yutz.fr/wp-content/uploads/2023/10/2023-10-14-gala-boxe-scaled.jpg
ORGANIZER;CN="Association sportive de boxe de Yutz":MAILTO:asboxeyutz@gmail.com
END:VEVENT
BEGIN:VEVENT
DTSTART;TZID=Europe/Paris:20231014T203000
DTEND;TZID=Europe/Paris:20231014T223000
DTSTAMP:20260421T210421
CREATED:20231013T154717Z
LAST-MODIFIED:20231013T154717Z
UID:22717-1697315400-1697322600@www.ville-yutz.fr
SUMMARY:Volley - Championnat Grand Est - Yutz Thionville/Metz EV
DESCRIPTION:
URL:https://www.ville-yutz.fr/event/volley-championnat-grand-est-yutz-thionville-metz-ev/
LOCATION:Gymnase Jean Mermoz\, Place de l'Arc-en-ciel\, Yutz\, 57970\, France
CATEGORIES:Sports
END:VEVENT
END:VCALENDAR