BEGIN:VCALENDAR
VERSION:2.0
PRODID:-//Ville de Yutz - ECPv6.15.16//NONSGML v1.0//EN
CALSCALE:GREGORIAN
METHOD:PUBLISH
X-ORIGINAL-URL:https://www.ville-yutz.fr
X-WR-CALDESC:Évènements pour Ville de Yutz
REFRESH-INTERVAL;VALUE=DURATION:PT1H
X-Robots-Tag:noindex
X-PUBLISHED-TTL:PT1H
BEGIN:VTIMEZONE
TZID:Europe/Paris
BEGIN:DAYLIGHT
TZOFFSETFROM:+0100
TZOFFSETTO:+0200
TZNAME:CEST
DTSTART:20220327T010000
END:DAYLIGHT
BEGIN:STANDARD
TZOFFSETFROM:+0200
TZOFFSETTO:+0100
TZNAME:CET
DTSTART:20221030T010000
END:STANDARD
BEGIN:DAYLIGHT
TZOFFSETFROM:+0100
TZOFFSETTO:+0200
TZNAME:CEST
DTSTART:20230326T010000
END:DAYLIGHT
BEGIN:STANDARD
TZOFFSETFROM:+0200
TZOFFSETTO:+0100
TZNAME:CET
DTSTART:20231029T010000
END:STANDARD
BEGIN:DAYLIGHT
TZOFFSETFROM:+0100
TZOFFSETTO:+0200
TZNAME:CEST
DTSTART:20240331T010000
END:DAYLIGHT
BEGIN:STANDARD
TZOFFSETFROM:+0200
TZOFFSETTO:+0100
TZNAME:CET
DTSTART:20241027T010000
END:STANDARD
END:VTIMEZONE
BEGIN:VEVENT
DTSTART;VALUE=DATE:20230711
DTEND;VALUE=DATE:20230820
DTSTAMP:20260422T011336
CREATED:20230630T102003Z
LAST-MODIFIED:20230707T161517Z
UID:20057-1689033600-1692489599@www.ville-yutz.fr
SUMMARY:Moselle Jeunesse
DESCRIPTION:Programme\, règlement\, inscriptions : https://www.ville-yutz.fr/2023/06/28/moselle-jeunesse-10-juillet-au-18-aout-2023/
URL:https://www.ville-yutz.fr/event/moselle-jeunesse-5/
CATEGORIES:Jeunesse,Sports
ATTACH;FMTTYPE=image/jpeg:https://www.ville-yutz.fr/wp-content/uploads/2023/06/Moselle-jeunesse-ete-2023-1-scaled.jpg
END:VEVENT
BEGIN:VEVENT
DTSTART;VALUE=DATE:20230722
DTEND;VALUE=DATE:20230821
DTSTAMP:20260422T011336
CREATED:20230630T102541Z
LAST-MODIFIED:20230707T163754Z
UID:20062-1689984000-1692575999@www.ville-yutz.fr
SUMMARY:Yutz plage
DESCRIPTION:
URL:https://www.ville-yutz.fr/event/yutz-plage-5/
LOCATION:Berges de la Moselle\, YUTZ\, 57970
CATEGORIES:Culture,Jeunesse,Sports
ATTACH;FMTTYPE=image/jpeg:https://www.ville-yutz.fr/wp-content/uploads/2023/07/yutz-plage-2023-scaled.jpg
END:VEVENT
BEGIN:VEVENT
DTSTART;VALUE=DATE:20230724
DTEND;VALUE=DATE:20230916
DTSTAMP:20260422T011336
CREATED:20230724T161401Z
LAST-MODIFIED:20230821T115130Z
UID:20841-1690156800-1694822399@www.ville-yutz.fr
SUMMARY:Inscriptions au TC Yutz Aéroparc
DESCRIPTION:Vous voulez découvrir le tennis en loisir ou en compétition ? \nRenseignements et inscriptions : yutztennisclub@gmail.com – Té: : 06 21 47 49 58 \nPossibilité d’inscriptions sur place les 2\, 6\, 9\, 13 et 16 septembre\, de 10h00 à 12h00 et de 14h00 à 17h00. \n 
URL:https://www.ville-yutz.fr/event/inscriptions-au-tc-yutz-aeroparc/
CATEGORIES:Sports
ATTACH;FMTTYPE=image/jpeg:https://www.ville-yutz.fr/wp-content/uploads/2023/07/tc-yutz-aeroparc.jpeg
END:VEVENT
BEGIN:VEVENT
DTSTART;VALUE=DATE:20230812
DTEND;VALUE=DATE:20230819
DTSTAMP:20260422T011336
CREATED:20230721T160404Z
LAST-MODIFIED:20230817T092750Z
UID:20748-1691798400-1692403199@www.ville-yutz.fr
SUMMARY:YUTZ PLAGE : programme semaine 4
DESCRIPTION:
URL:https://www.ville-yutz.fr/event/yutz-plage-programme-semaine-4/
LOCATION:Berges de la Moselle Yutz
CATEGORIES:Culture,Jeunesse,Sports
ATTACH;FMTTYPE=image/jpeg:https://www.ville-yutz.fr/wp-content/uploads/2023/07/SEMAINE-4-final-scaled.jpg
END:VEVENT
BEGIN:VEVENT
DTSTART;TZID=Europe/Paris:20230812T140000
DTEND;TZID=Europe/Paris:20230812T200000
DTSTAMP:20260422T011336
CREATED:20230803T140356Z
LAST-MODIFIED:20230803T140356Z
UID:20904-1691848800-1691870400@www.ville-yutz.fr
SUMMARY:Tournois de Beach tennis
DESCRIPTION:Dans le cadre de Yutz Plage \ntournoi -15ans de 14h à 17h avec remise des prix à 17h\ntournoi +15ans de 17h à 20h avec remise des prix à 20h
URL:https://www.ville-yutz.fr/event/tournois-de-beach-tennis/
LOCATION:Berges de la Moselle Yutz
CATEGORIES:Sports
END:VEVENT
BEGIN:VEVENT
DTSTART;TZID=Europe/Paris:20230812T150000
DTEND;TZID=Europe/Paris:20230812T170000
DTSTAMP:20260422T011336
CREATED:20230803T140240Z
LAST-MODIFIED:20230803T140240Z
UID:20902-1691852400-1691859600@www.ville-yutz.fr
SUMMARY:Foot : FC YUTZ Amical U14 Yutz/Epernay
DESCRIPTION:
URL:https://www.ville-yutz.fr/event/foot-fc-yutz-amical-u14-yutz-epernay/
LOCATION:Stade Mermoz
CATEGORIES:Sports
ORGANIZER;CN="FC Yutz":MAILTO:utz.fc@moselle.lgef.fr
END:VEVENT
END:VCALENDAR