BEGIN:VCALENDAR
VERSION:2.0
PRODID:-//Ville de Yutz - ECPv6.15.16//NONSGML v1.0//EN
CALSCALE:GREGORIAN
METHOD:PUBLISH
X-ORIGINAL-URL:https://www.ville-yutz.fr
X-WR-CALDESC:Évènements pour Ville de Yutz
REFRESH-INTERVAL;VALUE=DURATION:PT1H
X-Robots-Tag:noindex
X-PUBLISHED-TTL:PT1H
BEGIN:VTIMEZONE
TZID:Europe/Paris
BEGIN:DAYLIGHT
TZOFFSETFROM:+0100
TZOFFSETTO:+0200
TZNAME:CEST
DTSTART:20220327T010000
END:DAYLIGHT
BEGIN:STANDARD
TZOFFSETFROM:+0200
TZOFFSETTO:+0100
TZNAME:CET
DTSTART:20221030T010000
END:STANDARD
BEGIN:DAYLIGHT
TZOFFSETFROM:+0100
TZOFFSETTO:+0200
TZNAME:CEST
DTSTART:20230326T010000
END:DAYLIGHT
BEGIN:STANDARD
TZOFFSETFROM:+0200
TZOFFSETTO:+0100
TZNAME:CET
DTSTART:20231029T010000
END:STANDARD
BEGIN:DAYLIGHT
TZOFFSETFROM:+0100
TZOFFSETTO:+0200
TZNAME:CEST
DTSTART:20240331T010000
END:DAYLIGHT
BEGIN:STANDARD
TZOFFSETFROM:+0200
TZOFFSETTO:+0100
TZNAME:CET
DTSTART:20241027T010000
END:STANDARD
END:VTIMEZONE
BEGIN:VEVENT
DTSTART;TZID=Europe/Paris:20230625T100000
DTEND;TZID=Europe/Paris:20230625T143000
DTSTAMP:20260422T033458
CREATED:20230623T155752Z
LAST-MODIFIED:20230623T155752Z
UID:19941-1687687200-1687703400@www.ville-yutz.fr
SUMMARY:Badminton : Tournoi interne
DESCRIPTION:
URL:https://www.ville-yutz.fr/event/badminton-tournoi-interne/
LOCATION:Gymnase Saint-Exupéry\, 1 rue du Gymnase\, YUTZ\, 57970\, France
CATEGORIES:Sports
END:VEVENT
BEGIN:VEVENT
DTSTART;TZID=Europe/Paris:20230625T100000
DTEND;TZID=Europe/Paris:20230625T190000
DTSTAMP:20260422T033458
CREATED:20230623T155619Z
LAST-MODIFIED:20230623T155619Z
UID:19938-1687687200-1687719600@www.ville-yutz.fr
SUMMARY:Fête de l'été de la Société de Gymnastique
DESCRIPTION:
URL:https://www.ville-yutz.fr/event/fete-de-lete-de-la-societe-de-gymnastique/
LOCATION:Salle Gabriel Antone\, 65 Grand'rue\, YUTZ
CATEGORIES:Sports
ATTACH;FMTTYPE=image/jpeg:https://www.ville-yutz.fr/wp-content/uploads/2023/06/2023-06-25-fete-dete-societe-de-gymnastique.jpg
ORGANIZER;CN="Soci%C3%A9t%C3%A9 de Gymnastique de Yutz":MAILTO:gymyutz@gmail.com
END:VEVENT
BEGIN:VEVENT
DTSTART;TZID=Europe/Paris:20230625T143000
DTEND;TZID=Europe/Paris:20230625T170000
DTSTAMP:20260422T033458
CREATED:20230623T155839Z
LAST-MODIFIED:20230623T155839Z
UID:19944-1687703400-1687712400@www.ville-yutz.fr
SUMMARY:Pétanque : DNH
DESCRIPTION:
URL:https://www.ville-yutz.fr/event/petanque-dnh-6/
LOCATION:Boulodrome\, 1 rue Sainte-Barbe\, YUTZ\, -\, 57970\, France
CATEGORIES:Sports
ORGANIZER;CN="Club de P%C3%A9tanque de Yutz":MAILTO:cpy57970@gmail.com
END:VEVENT
BEGIN:VEVENT
DTSTART;TZID=Europe/Paris:20230625T170000
DTEND;TZID=Europe/Paris:20230625T183000
DTSTAMP:20260422T033458
CREATED:20230616T134348Z
LAST-MODIFIED:20230616T134348Z
UID:19845-1687712400-1687717800@www.ville-yutz.fr
SUMMARY:Twirling bâton - Gala de fin d'année
DESCRIPTION:
URL:https://www.ville-yutz.fr/event/twirling-baton-gala-de-fin-dannee/
LOCATION:Gymnase Jean Mermoz\, Place de l'Arc-en-ciel\, Yutz\, 57970\, France
CATEGORIES:Sports
ORGANIZER;CN="Yutz Thionville Twirling Club":MAILTO:twirlingbaton57@gmail.com
END:VEVENT
END:VCALENDAR