BEGIN:VCALENDAR
VERSION:2.0
PRODID:-//Ville de Yutz - ECPv6.15.16//NONSGML v1.0//EN
CALSCALE:GREGORIAN
METHOD:PUBLISH
X-ORIGINAL-URL:https://www.ville-yutz.fr
X-WR-CALDESC:Évènements pour Ville de Yutz
REFRESH-INTERVAL;VALUE=DURATION:PT1H
X-Robots-Tag:noindex
X-PUBLISHED-TTL:PT1H
BEGIN:VTIMEZONE
TZID:Europe/Paris
BEGIN:DAYLIGHT
TZOFFSETFROM:+0100
TZOFFSETTO:+0200
TZNAME:CEST
DTSTART:20220327T010000
END:DAYLIGHT
BEGIN:STANDARD
TZOFFSETFROM:+0200
TZOFFSETTO:+0100
TZNAME:CET
DTSTART:20221030T010000
END:STANDARD
BEGIN:DAYLIGHT
TZOFFSETFROM:+0100
TZOFFSETTO:+0200
TZNAME:CEST
DTSTART:20230326T010000
END:DAYLIGHT
BEGIN:STANDARD
TZOFFSETFROM:+0200
TZOFFSETTO:+0100
TZNAME:CET
DTSTART:20231029T010000
END:STANDARD
BEGIN:DAYLIGHT
TZOFFSETFROM:+0100
TZOFFSETTO:+0200
TZNAME:CEST
DTSTART:20240331T010000
END:DAYLIGHT
BEGIN:STANDARD
TZOFFSETFROM:+0200
TZOFFSETTO:+0100
TZNAME:CET
DTSTART:20241027T010000
END:STANDARD
END:VTIMEZONE
BEGIN:VEVENT
DTSTART;VALUE=DATE:20230610
DTEND;VALUE=DATE:20230612
DTSTAMP:20260422T034038
CREATED:20230609T081350Z
LAST-MODIFIED:20230609T081350Z
UID:19257-1686355200-1686527999@www.ville-yutz.fr
SUMMARY:Equitation : concours CSO
DESCRIPTION:
URL:https://www.ville-yutz.fr/event/equitation-concours-cso-2/
LOCATION:Centre équestre\, rue de Poitiers\, YUTZ\, 57970\, France
CATEGORIES:Sports
ATTACH;FMTTYPE=image/jpeg:https://www.ville-yutz.fr/wp-content/uploads/2023/06/2023-06-10-et-11-equitation-cso.jpg
END:VEVENT
BEGIN:VEVENT
DTSTART;TZID=Europe/Paris:20230610T140000
DTEND;TZID=Europe/Paris:20230610T200000
DTSTAMP:20260422T034038
CREATED:20230609T211416Z
LAST-MODIFIED:20230609T211416Z
UID:19441-1686405600-1686427200@www.ville-yutz.fr
SUMMARY:Match de gala des Vieilles Tiges
DESCRIPTION:
URL:https://www.ville-yutz.fr/event/match-de-gala-des-vieilles-tiges/
LOCATION:Stade Mermoz
CATEGORIES:Sports
ATTACH;FMTTYPE=image/png:https://www.ville-yutz.fr/wp-content/uploads/2023/06/2023-06-10-match-gala-vieilles-tiges-23.png
END:VEVENT
BEGIN:VEVENT
DTSTART;TZID=Europe/Paris:20230610T173000
DTEND;TZID=Europe/Paris:20230610T193000
DTSTAMP:20260422T034038
CREATED:20230609T211013Z
LAST-MODIFIED:20230609T211013Z
UID:19436-1686418200-1686425400@www.ville-yutz.fr
SUMMARY:Foot : FC YUTZ U18 1/ Boulay CA 18
DESCRIPTION:
URL:https://www.ville-yutz.fr/event/foot-fc-yutz-u18-1-boulay-ca-18/
LOCATION:Stade Mermoz
CATEGORIES:Sports
ORGANIZER;CN="FC Yutz":MAILTO:utz.fc@moselle.lgef.fr
END:VEVENT
END:VCALENDAR