BEGIN:VCALENDAR
VERSION:2.0
PRODID:-//Ville de Yutz - ECPv6.15.16//NONSGML v1.0//EN
CALSCALE:GREGORIAN
METHOD:PUBLISH
X-WR-CALNAME:Ville de Yutz
X-ORIGINAL-URL:https://www.ville-yutz.fr
X-WR-CALDESC:Évènements pour Ville de Yutz
REFRESH-INTERVAL;VALUE=DURATION:PT1H
X-Robots-Tag:noindex
X-PUBLISHED-TTL:PT1H
BEGIN:VTIMEZONE
TZID:Europe/Paris
BEGIN:DAYLIGHT
TZOFFSETFROM:+0100
TZOFFSETTO:+0200
TZNAME:CEST
DTSTART:20220327T010000
END:DAYLIGHT
BEGIN:STANDARD
TZOFFSETFROM:+0200
TZOFFSETTO:+0100
TZNAME:CET
DTSTART:20221030T010000
END:STANDARD
BEGIN:DAYLIGHT
TZOFFSETFROM:+0100
TZOFFSETTO:+0200
TZNAME:CEST
DTSTART:20230326T010000
END:DAYLIGHT
BEGIN:STANDARD
TZOFFSETFROM:+0200
TZOFFSETTO:+0100
TZNAME:CET
DTSTART:20231029T010000
END:STANDARD
BEGIN:DAYLIGHT
TZOFFSETFROM:+0100
TZOFFSETTO:+0200
TZNAME:CEST
DTSTART:20240331T010000
END:DAYLIGHT
BEGIN:STANDARD
TZOFFSETFROM:+0200
TZOFFSETTO:+0100
TZNAME:CET
DTSTART:20241027T010000
END:STANDARD
END:VTIMEZONE
BEGIN:VEVENT
DTSTART;TZID=Europe/Paris:20230603T103000
DTEND;TZID=Europe/Paris:20230603T123000
DTSTAMP:20260422T033424
CREATED:20230602T143503Z
LAST-MODIFIED:20230602T143503Z
UID:19173-1685788200-1685795400@www.ville-yutz.fr
SUMMARY:Foot : FC YUTZ U15 1/ Reims St Anne 1
DESCRIPTION:
URL:https://www.ville-yutz.fr/event/foot-fc-yutz-u15-1-reims-st-anne-1/
LOCATION:Stade Mermoz
CATEGORIES:Sports
ORGANIZER;CN="FC Yutz":MAILTO:utz.fc@moselle.lgef.fr
END:VEVENT
BEGIN:VEVENT
DTSTART;TZID=Europe/Paris:20230603T130000
DTEND;TZID=Europe/Paris:20230603T150000
DTSTAMP:20260422T033424
CREATED:20230602T143548Z
LAST-MODIFIED:20230602T143548Z
UID:19175-1685797200-1685804400@www.ville-yutz.fr
SUMMARY:Foot : FC YUTZ Championnat U12 1/ Florange
DESCRIPTION:
URL:https://www.ville-yutz.fr/event/foot-fc-yutz-championnat-u12-1-florange/
LOCATION:Stade Mermoz
CATEGORIES:Sports
ORGANIZER;CN="FC Yutz":MAILTO:utz.fc@moselle.lgef.fr
END:VEVENT
BEGIN:VEVENT
DTSTART;TZID=Europe/Paris:20230603T163000
DTEND;TZID=Europe/Paris:20230603T183000
DTSTAMP:20260422T033424
CREATED:20230602T143631Z
LAST-MODIFIED:20230602T143631Z
UID:19177-1685809800-1685817000@www.ville-yutz.fr
SUMMARY:Foot : FC YUTZ U15/ Raon L'Etape US 15
DESCRIPTION:
URL:https://www.ville-yutz.fr/event/foot-fc-yutz-u15-raon-letape-us-15/
LOCATION:Stade Mermoz
CATEGORIES:Sports
ORGANIZER;CN="FC Yutz":MAILTO:utz.fc@moselle.lgef.fr
END:VEVENT
BEGIN:VEVENT
DTSTART;TZID=Europe/Paris:20230603T170000
DTEND;TZID=Europe/Paris:20230603T190000
DTSTAMP:20260422T033424
CREATED:20230602T143731Z
LAST-MODIFIED:20230602T143731Z
UID:19179-1685811600-1685818800@www.ville-yutz.fr
SUMMARY:Foot : FC YUTZ Championnat U13 1/ Gandrange
DESCRIPTION:
URL:https://www.ville-yutz.fr/event/foot-fc-yutz-championnat-u13-1-gandrange/
LOCATION:Stade Mermoz
CATEGORIES:Sports
ORGANIZER;CN="FC Yutz":MAILTO:utz.fc@moselle.lgef.fr
END:VEVENT
END:VCALENDAR