BEGIN:VCALENDAR
VERSION:2.0
PRODID:-//Ville de Yutz - ECPv6.15.16//NONSGML v1.0//EN
CALSCALE:GREGORIAN
METHOD:PUBLISH
X-ORIGINAL-URL:https://www.ville-yutz.fr
X-WR-CALDESC:Évènements pour Ville de Yutz
REFRESH-INTERVAL;VALUE=DURATION:PT1H
X-Robots-Tag:noindex
X-PUBLISHED-TTL:PT1H
BEGIN:VTIMEZONE
TZID:Europe/Paris
BEGIN:DAYLIGHT
TZOFFSETFROM:+0100
TZOFFSETTO:+0200
TZNAME:CEST
DTSTART:20220327T010000
END:DAYLIGHT
BEGIN:STANDARD
TZOFFSETFROM:+0200
TZOFFSETTO:+0100
TZNAME:CET
DTSTART:20221030T010000
END:STANDARD
BEGIN:DAYLIGHT
TZOFFSETFROM:+0100
TZOFFSETTO:+0200
TZNAME:CEST
DTSTART:20230326T010000
END:DAYLIGHT
BEGIN:STANDARD
TZOFFSETFROM:+0200
TZOFFSETTO:+0100
TZNAME:CET
DTSTART:20231029T010000
END:STANDARD
BEGIN:DAYLIGHT
TZOFFSETFROM:+0100
TZOFFSETTO:+0200
TZNAME:CEST
DTSTART:20240331T010000
END:DAYLIGHT
BEGIN:STANDARD
TZOFFSETFROM:+0200
TZOFFSETTO:+0100
TZNAME:CET
DTSTART:20241027T010000
END:STANDARD
END:VTIMEZONE
BEGIN:VEVENT
DTSTART;TZID=Europe/Paris:20230521T140000
DTEND;TZID=Europe/Paris:20230521T160000
DTSTAMP:20260422T051453
CREATED:20230517T110145Z
LAST-MODIFIED:20230517T110145Z
UID:18903-1684677600-1684684800@www.ville-yutz.fr
SUMMARY:Foot : US YUTZ - R3 - YUTZ / MAGNY
DESCRIPTION:
URL:https://www.ville-yutz.fr/event/foot-us-yutz-r3-yutz-magny/
LOCATION:Stade de la Forêt\, rue du Stade\, Yutz\, 57970
CATEGORIES:Sports
END:VEVENT
BEGIN:VEVENT
DTSTART;TZID=Europe/Paris:20230521T140000
DTEND;TZID=Europe/Paris:20230521T180000
DTSTAMP:20260422T051453
CREATED:20230517T110004Z
LAST-MODIFIED:20230517T110004Z
UID:18901-1684677600-1684692000@www.ville-yutz.fr
SUMMARY:Stage de shiatsu ouvert au public
DESCRIPTION:
URL:https://www.ville-yutz.fr/event/stage-de-shiatsu-ouvert-au-public-2/
LOCATION:Dojo Schuman\, impasse Selver\, Yutz\, 57970
CATEGORIES:Sports
ORGANIZER;CN="Energie Shiatsu":MAILTO:energieshiatsu@hotmail.fr
END:VEVENT
BEGIN:VEVENT
DTSTART;TZID=Europe/Paris:20230521T150000
DTEND;TZID=Europe/Paris:20230521T170000
DTSTAMP:20260422T051453
CREATED:20230517T110343Z
LAST-MODIFIED:20230517T110343Z
UID:18905-1684681200-1684688400@www.ville-yutz.fr
SUMMARY:Foot : FC YUTZ Séniors D2  Yutz2/Koenigsmacker-Kedange 2
DESCRIPTION:
URL:https://www.ville-yutz.fr/event/foot-fc-yutz-seniors-d2-yutz2-koenigsmacker-kedange-2/
LOCATION:Stade Mermoz
CATEGORIES:Sports
ORGANIZER;CN="FC Yutz":MAILTO:utz.fc@moselle.lgef.fr
END:VEVENT
BEGIN:VEVENT
DTSTART;TZID=Europe/Paris:20230521T150000
DTEND;TZID=Europe/Paris:20230521T170000
DTSTAMP:20260422T051453
CREATED:20230517T110514Z
LAST-MODIFIED:20230517T110514Z
UID:18907-1684681200-1684688400@www.ville-yutz.fr
SUMMARY:Foot : JSA Yutz cité 2/Luttange US
DESCRIPTION:
URL:https://www.ville-yutz.fr/event/foot-jsa-yutz-cite-2-luttange-us/
LOCATION:Stade Denis Muller\, Rue Victor Hugo\, YUTZ\, 57970
CATEGORIES:Sports
END:VEVENT
BEGIN:VEVENT
DTSTART;TZID=Europe/Paris:20230521T173000
DTEND;TZID=Europe/Paris:20230521T193000
DTSTAMP:20260422T051453
CREATED:20230517T110625Z
LAST-MODIFIED:20230517T110625Z
UID:18909-1684690200-1684697400@www.ville-yutz.fr
SUMMARY:Foot : US YUTZ Senior B - D2 - YUTZ / HAYANGE
DESCRIPTION:
URL:https://www.ville-yutz.fr/event/foot-us-yutz-senior-b-d2-yutz-hayange/
LOCATION:Stade de la Forêt\, rue du Stade\, Yutz\, 57970
CATEGORIES:Sports
END:VEVENT
END:VCALENDAR