BEGIN:VCALENDAR
VERSION:2.0
PRODID:-//Ville de Yutz - ECPv6.15.16//NONSGML v1.0//EN
CALSCALE:GREGORIAN
METHOD:PUBLISH
X-WR-CALNAME:Ville de Yutz
X-ORIGINAL-URL:https://www.ville-yutz.fr
X-WR-CALDESC:Évènements pour Ville de Yutz
REFRESH-INTERVAL;VALUE=DURATION:PT1H
X-Robots-Tag:noindex
X-PUBLISHED-TTL:PT1H
BEGIN:VTIMEZONE
TZID:Europe/Paris
BEGIN:DAYLIGHT
TZOFFSETFROM:+0100
TZOFFSETTO:+0200
TZNAME:CEST
DTSTART:20220327T010000
END:DAYLIGHT
BEGIN:STANDARD
TZOFFSETFROM:+0200
TZOFFSETTO:+0100
TZNAME:CET
DTSTART:20221030T010000
END:STANDARD
BEGIN:DAYLIGHT
TZOFFSETFROM:+0100
TZOFFSETTO:+0200
TZNAME:CEST
DTSTART:20230326T010000
END:DAYLIGHT
BEGIN:STANDARD
TZOFFSETFROM:+0200
TZOFFSETTO:+0100
TZNAME:CET
DTSTART:20231029T010000
END:STANDARD
BEGIN:DAYLIGHT
TZOFFSETFROM:+0100
TZOFFSETTO:+0200
TZNAME:CEST
DTSTART:20240331T010000
END:DAYLIGHT
BEGIN:STANDARD
TZOFFSETFROM:+0200
TZOFFSETTO:+0100
TZNAME:CET
DTSTART:20241027T010000
END:STANDARD
END:VTIMEZONE
BEGIN:VEVENT
DTSTART;TZID=Europe/Paris:20230325T100000
DTEND;TZID=Europe/Paris:20230325T120000
DTSTAMP:20260422T080134
CREATED:20230324T165156Z
LAST-MODIFIED:20230324T165156Z
UID:17756-1679738400-1679745600@www.ville-yutz.fr
SUMMARY:Foot : FC YUTZ plateau U6-U7
DESCRIPTION:
URL:https://www.ville-yutz.fr/event/foot-fc-yutz-plateau-u6-u7/
LOCATION:Stade Mermoz
CATEGORIES:Sports
ORGANIZER;CN="FC Yutz":MAILTO:utz.fc@moselle.lgef.fr
END:VEVENT
BEGIN:VEVENT
DTSTART;TZID=Europe/Paris:20230325T100000
DTEND;TZID=Europe/Paris:20230325T120000
DTSTAMP:20260422T080134
CREATED:20230324T165241Z
LAST-MODIFIED:20230324T165241Z
UID:17758-1679738400-1679745600@www.ville-yutz.fr
SUMMARY:Foot : US YUTZ plateau U8-U9
DESCRIPTION:
URL:https://www.ville-yutz.fr/event/foot-us-yutz-plateau-u8-u9/
LOCATION:Stade de la Forêt\, rue du Stade\, Yutz\, 57970
CATEGORIES:Sports
END:VEVENT
BEGIN:VEVENT
DTSTART;TZID=Europe/Paris:20230325T130000
DTEND;TZID=Europe/Paris:20230325T150000
DTSTAMP:20260422T080134
CREATED:20230324T165332Z
LAST-MODIFIED:20230324T165332Z
UID:17760-1679749200-1679756400@www.ville-yutz.fr
SUMMARY:Foot : FC YUTZ U13 1/ Magny
DESCRIPTION:
URL:https://www.ville-yutz.fr/event/foot-fc-yutz-u13-1-magny/
LOCATION:Stade Mermoz
CATEGORIES:Sports
ORGANIZER;CN="FC Yutz":MAILTO:utz.fc@moselle.lgef.fr
END:VEVENT
BEGIN:VEVENT
DTSTART;TZID=Europe/Paris:20230325T130000
DTEND;TZID=Europe/Paris:20230325T150000
DTSTAMP:20260422T080134
CREATED:20230324T165419Z
LAST-MODIFIED:20230324T165419Z
UID:17762-1679749200-1679756400@www.ville-yutz.fr
SUMMARY:Foot : FC YUTZ U12 1/ US YUTZ
DESCRIPTION:
URL:https://www.ville-yutz.fr/event/foot-fc-yutz-u12-1-us-yutz/
LOCATION:Stade Mermoz
CATEGORIES:Sports
ORGANIZER;CN="FC Yutz":MAILTO:utz.fc@moselle.lgef.fr
END:VEVENT
BEGIN:VEVENT
DTSTART;TZID=Europe/Paris:20230325T140000
DTEND;TZID=Europe/Paris:20230325T160000
DTSTAMP:20260422T080134
CREATED:20230324T165507Z
LAST-MODIFIED:20230324T165507Z
UID:17764-1679752800-1679760000@www.ville-yutz.fr
SUMMARY:Handball : YHB F13.2 Yutz/Villerupt HB
DESCRIPTION:
URL:https://www.ville-yutz.fr/event/handball-yhb-f13-2-yutz-villerupt-hb/
LOCATION:Gymnase Saint-Exupéry\, 1 rue du Gymnase\, YUTZ\, 57970\, France
CATEGORIES:Sports
ORGANIZER;CN="Yutz Handball":MAILTO:5657005@ffhandball.net
END:VEVENT
BEGIN:VEVENT
DTSTART;TZID=Europe/Paris:20230325T143000
DTEND;TZID=Europe/Paris:20230325T143000
DTSTAMP:20260422T080134
CREATED:20230324T165613Z
LAST-MODIFIED:20230324T165613Z
UID:17766-1679754600-1679754600@www.ville-yutz.fr
SUMMARY:Volley : ASVB : championnat Grand Est
DESCRIPTION:
URL:https://www.ville-yutz.fr/event/volley-asvb-championnat-grand-est/
LOCATION:Gymnase Dalmar\, THIONVILLE\, 57100
CATEGORIES:Sports
END:VEVENT
BEGIN:VEVENT
DTSTART;TZID=Europe/Paris:20230325T180000
DTEND;TZID=Europe/Paris:20230325T203000
DTSTAMP:20260422T080134
CREATED:20230310T145957Z
LAST-MODIFIED:20230310T145957Z
UID:17248-1679767200-1679776200@www.ville-yutz.fr
SUMMARY:Volley : ASVB - Régionale M
DESCRIPTION:
URL:https://www.ville-yutz.fr/event/volley-asvb-regionale-m-2/
LOCATION:Gymnase Jean Mermoz\, Place de l'Arc-en-ciel\, Yutz\, 57970\, France
CATEGORIES:Sports
END:VEVENT
BEGIN:VEVENT
DTSTART;TZID=Europe/Paris:20230325T203000
DTEND;TZID=Europe/Paris:20230325T203000
DTSTAMP:20260422T080134
CREATED:20230310T150232Z
LAST-MODIFIED:20230310T150232Z
UID:17253-1679776200-1679776200@www.ville-yutz.fr
SUMMARY:Handball : YHB N1 Yutz/Epinal HB
DESCRIPTION:
URL:https://www.ville-yutz.fr/event/handball-yhb-n1-yutz-epinal-hb/
LOCATION:Gymnase Saint-Exupéry\, 1 rue du Gymnase\, YUTZ\, 57970\, France
CATEGORIES:Sports
ORGANIZER;CN="Yutz Handball":MAILTO:5657005@ffhandball.net
END:VEVENT
END:VCALENDAR