BEGIN:VCALENDAR
VERSION:2.0
PRODID:-//Ville de Yutz - ECPv6.15.16//NONSGML v1.0//EN
CALSCALE:GREGORIAN
METHOD:PUBLISH
X-WR-CALNAME:Ville de Yutz
X-ORIGINAL-URL:https://www.ville-yutz.fr
X-WR-CALDESC:Évènements pour Ville de Yutz
REFRESH-INTERVAL;VALUE=DURATION:PT1H
X-Robots-Tag:noindex
X-PUBLISHED-TTL:PT1H
BEGIN:VTIMEZONE
TZID:Europe/Paris
BEGIN:DAYLIGHT
TZOFFSETFROM:+0100
TZOFFSETTO:+0200
TZNAME:CEST
DTSTART:20220327T010000
END:DAYLIGHT
BEGIN:STANDARD
TZOFFSETFROM:+0200
TZOFFSETTO:+0100
TZNAME:CET
DTSTART:20221030T010000
END:STANDARD
BEGIN:DAYLIGHT
TZOFFSETFROM:+0100
TZOFFSETTO:+0200
TZNAME:CEST
DTSTART:20230326T010000
END:DAYLIGHT
BEGIN:STANDARD
TZOFFSETFROM:+0200
TZOFFSETTO:+0100
TZNAME:CET
DTSTART:20231029T010000
END:STANDARD
BEGIN:DAYLIGHT
TZOFFSETFROM:+0100
TZOFFSETTO:+0200
TZNAME:CEST
DTSTART:20240331T010000
END:DAYLIGHT
BEGIN:STANDARD
TZOFFSETFROM:+0200
TZOFFSETTO:+0100
TZNAME:CET
DTSTART:20241027T010000
END:STANDARD
END:VTIMEZONE
BEGIN:VEVENT
DTSTART;TZID=Europe/Paris:20230128T170000
DTEND;TZID=Europe/Paris:20230129T040000
DTSTAMP:20260422T104811
CREATED:20230127T164513Z
LAST-MODIFIED:20230127T172658Z
UID:16133-1674925200-1674964800@www.ville-yutz.fr
SUMMARY:Volley : ASVB Tournoi FLUO
DESCRIPTION:
URL:https://www.ville-yutz.fr/event/volley-asvb-tournoi-fluo/
LOCATION:Gymnase Jean Mermoz\, Place de l'Arc-en-ciel\, Yutz\, 57970\, France
CATEGORIES:Sports
ATTACH;FMTTYPE=image/jpeg:https://www.ville-yutz.fr/wp-content/uploads/2023/01/2023-01-28-tournoi-fluo.jpg
END:VEVENT
BEGIN:VEVENT
DTSTART;TZID=Europe/Paris:20230129T100000
DTEND;TZID=Europe/Paris:20230129T120000
DTSTAMP:20260422T104811
CREATED:20230127T164815Z
LAST-MODIFIED:20230127T164815Z
UID:16137-1674986400-1674993600@www.ville-yutz.fr
SUMMARY:Volley : ASVB M11 / Plateau mixte à 10 équipes
DESCRIPTION:
URL:https://www.ville-yutz.fr/event/volley-asvb-m11-plateau-mixte-a-10-equipes-2/
LOCATION:Gymnase Mermoz\, Place de l'Arc-en-Ciel\, YUTZ\, 57970
CATEGORIES:Sports
END:VEVENT
BEGIN:VEVENT
DTSTART;TZID=Europe/Paris:20230129T150000
DTEND;TZID=Europe/Paris:20230129T170000
DTSTAMP:20260422T104811
CREATED:20230127T164919Z
LAST-MODIFIED:20230127T164919Z
UID:16139-1675004400-1675011600@www.ville-yutz.fr
SUMMARY:Volley : ASVB : championnat de France YUTZ/Villers les Nancy
DESCRIPTION:
URL:https://www.ville-yutz.fr/event/volley-asvb-championnat-de-france-yutz-villers-les-nancy/
LOCATION:Gymnase Dalmar\, THIONVILLE\, 57100
CATEGORIES:Sports
END:VEVENT
BEGIN:VEVENT
DTSTART;TZID=Europe/Paris:20230129T150000
DTEND;TZID=Europe/Paris:20230129T170000
DTSTAMP:20260422T104811
CREATED:20230127T165102Z
LAST-MODIFIED:20230127T165102Z
UID:16141-1675004400-1675011600@www.ville-yutz.fr
SUMMARY:Foot : FC YUTZ  U21 Yutz/Boulange
DESCRIPTION:
URL:https://www.ville-yutz.fr/event/foot-fc-yutz-u21-yutz-boulange/
LOCATION:Stade Mermoz
CATEGORIES:Sports
END:VEVENT
BEGIN:VEVENT
DTSTART;TZID=Europe/Paris:20230129T150000
DTEND;TZID=Europe/Paris:20230129T170000
DTSTAMP:20260422T104811
CREATED:20230127T165151Z
LAST-MODIFIED:20230127T165151Z
UID:16143-1675004400-1675011600@www.ville-yutz.fr
SUMMARY:Volley : ASVB Nationale 3 Yutz-Thionville / Villers les Nancy
DESCRIPTION:
URL:https://www.ville-yutz.fr/event/volley-asvb-nationale-3-yutz-thionville-villers-les-nancy/
LOCATION:Gymnase Dalmar\, THIONVILLE\, 57100
CATEGORIES:Sports
END:VEVENT
END:VCALENDAR