BEGIN:VCALENDAR
VERSION:2.0
PRODID:-//Ville de Yutz - ECPv6.15.16//NONSGML v1.0//EN
CALSCALE:GREGORIAN
METHOD:PUBLISH
X-ORIGINAL-URL:https://www.ville-yutz.fr
X-WR-CALDESC:Évènements pour Ville de Yutz
REFRESH-INTERVAL;VALUE=DURATION:PT1H
X-Robots-Tag:noindex
X-PUBLISHED-TTL:PT1H
BEGIN:VTIMEZONE
TZID:Europe/Paris
BEGIN:DAYLIGHT
TZOFFSETFROM:+0100
TZOFFSETTO:+0200
TZNAME:CEST
DTSTART:20220327T010000
END:DAYLIGHT
BEGIN:STANDARD
TZOFFSETFROM:+0200
TZOFFSETTO:+0100
TZNAME:CET
DTSTART:20221030T010000
END:STANDARD
BEGIN:DAYLIGHT
TZOFFSETFROM:+0100
TZOFFSETTO:+0200
TZNAME:CEST
DTSTART:20230326T010000
END:DAYLIGHT
BEGIN:STANDARD
TZOFFSETFROM:+0200
TZOFFSETTO:+0100
TZNAME:CET
DTSTART:20231029T010000
END:STANDARD
BEGIN:DAYLIGHT
TZOFFSETFROM:+0100
TZOFFSETTO:+0200
TZNAME:CEST
DTSTART:20240331T010000
END:DAYLIGHT
BEGIN:STANDARD
TZOFFSETFROM:+0200
TZOFFSETTO:+0100
TZNAME:CET
DTSTART:20241027T010000
END:STANDARD
END:VTIMEZONE
BEGIN:VEVENT
DTSTART;TZID=Europe/Paris:20230122T090000
DTEND;TZID=Europe/Paris:20230122T170000
DTSTAMP:20260422T105126
CREATED:20230120T170722Z
LAST-MODIFIED:20230120T170722Z
UID:15911-1674378000-1674406800@www.ville-yutz.fr
SUMMARY:Volley : coupe de France M15 tour 4
DESCRIPTION:
URL:https://www.ville-yutz.fr/event/volley-coupe-de-france-m15-tour-4/
LOCATION:Gymnase Jean Mermoz\, Place de l'Arc-en-ciel\, Yutz\, 57970\, France
CATEGORIES:Sports
END:VEVENT
BEGIN:VEVENT
DTSTART;TZID=Europe/Paris:20230122T150000
DTEND;TZID=Europe/Paris:20230122T170000
DTSTAMP:20260422T105126
CREATED:20230120T171018Z
LAST-MODIFIED:20230120T171309Z
UID:15913-1674399600-1674406800@www.ville-yutz.fr
SUMMARY:Volley : Championnat de France Yutz / Patriote de Saint-Denis
DESCRIPTION:
URL:https://www.ville-yutz.fr/event/volley-championnat-de-france-yutz-patriote-de-saint-denis/
LOCATION:Gymnase Dalmar\, THIONVILLE\, 57100
CATEGORIES:Sports
END:VEVENT
END:VCALENDAR