BEGIN:VCALENDAR
VERSION:2.0
PRODID:-//Ville de Yutz - ECPv6.15.16//NONSGML v1.0//EN
CALSCALE:GREGORIAN
METHOD:PUBLISH
X-ORIGINAL-URL:https://www.ville-yutz.fr
X-WR-CALDESC:Évènements pour Ville de Yutz
REFRESH-INTERVAL;VALUE=DURATION:PT1H
X-Robots-Tag:noindex
X-PUBLISHED-TTL:PT1H
BEGIN:VTIMEZONE
TZID:Europe/Paris
BEGIN:DAYLIGHT
TZOFFSETFROM:+0100
TZOFFSETTO:+0200
TZNAME:CEST
DTSTART:20210328T010000
END:DAYLIGHT
BEGIN:STANDARD
TZOFFSETFROM:+0200
TZOFFSETTO:+0100
TZNAME:CET
DTSTART:20211031T010000
END:STANDARD
BEGIN:DAYLIGHT
TZOFFSETFROM:+0100
TZOFFSETTO:+0200
TZNAME:CEST
DTSTART:20220327T010000
END:DAYLIGHT
BEGIN:STANDARD
TZOFFSETFROM:+0200
TZOFFSETTO:+0100
TZNAME:CET
DTSTART:20221030T010000
END:STANDARD
BEGIN:DAYLIGHT
TZOFFSETFROM:+0100
TZOFFSETTO:+0200
TZNAME:CEST
DTSTART:20230326T010000
END:DAYLIGHT
BEGIN:STANDARD
TZOFFSETFROM:+0200
TZOFFSETTO:+0100
TZNAME:CET
DTSTART:20231029T010000
END:STANDARD
END:VTIMEZONE
BEGIN:VEVENT
DTSTART;TZID=Europe/Paris:20221210T093000
DTEND;TZID=Europe/Paris:20221210T120000
DTSTAMP:20260422T122854
CREATED:20221207T114236Z
LAST-MODIFIED:20221207T114236Z
UID:15162-1670664600-1670673600@www.ville-yutz.fr
SUMMARY:Football : FC YUTZ U/U7/U8/U9 - U10/U11 3
DESCRIPTION:
URL:https://www.ville-yutz.fr/event/football-fc-yutz-u-u7-u8-u9-u10-u11-3/
LOCATION:Stade Mermoz
CATEGORIES:Sports
ORGANIZER;CN="FC Yutz":MAILTO:utz.fc@moselle.lgef.fr
END:VEVENT
BEGIN:VEVENT
DTSTART;TZID=Europe/Paris:20221210T103000
DTEND;TZID=Europe/Paris:20221210T123000
DTSTAMP:20260422T122854
CREATED:20221207T110537Z
LAST-MODIFIED:20221207T110537Z
UID:15154-1670668200-1670675400@www.ville-yutz.fr
SUMMARY:Football : FC YUTZ U15 Yutz/Plantières
DESCRIPTION:
URL:https://www.ville-yutz.fr/event/football-fc-yutz-u15-yutz-plantieres/
LOCATION:Stade Mermoz
CATEGORIES:Sports
ORGANIZER;CN="FC Yutz":MAILTO:utz.fc@moselle.lgef.fr
END:VEVENT
BEGIN:VEVENT
DTSTART;TZID=Europe/Paris:20221210T131500
DTEND;TZID=Europe/Paris:20221210T151500
DTSTAMP:20260422T122854
CREATED:20221207T110349Z
LAST-MODIFIED:20221207T110447Z
UID:15145-1670678100-1670685300@www.ville-yutz.fr
SUMMARY:Football : FC YUTZ U13-1 Yutz/Bure-Boulange
DESCRIPTION:
URL:https://www.ville-yutz.fr/event/football-fc-yutz-u13-1-yutz-bure-boulange/
LOCATION:Stade Mermoz
CATEGORIES:Sports
ORGANIZER;CN="FC Yutz":MAILTO:utz.fc@moselle.lgef.fr
END:VEVENT
BEGIN:VEVENT
DTSTART;TZID=Europe/Paris:20221210T150000
DTEND;TZID=Europe/Paris:20221210T170000
DTSTAMP:20260422T122854
CREATED:20221207T110214Z
LAST-MODIFIED:20221207T110214Z
UID:15143-1670684400-1670691600@www.ville-yutz.fr
SUMMARY:Football : FC YUTZ U18 Yutz/Trémery
DESCRIPTION:
URL:https://www.ville-yutz.fr/event/football-fc-yutz-u18-yutz-tremery/
LOCATION:Stade Mermoz
CATEGORIES:Sports
ORGANIZER;CN="FC Yutz":MAILTO:utz.fc@moselle.lgef.fr
END:VEVENT
BEGIN:VEVENT
DTSTART;TZID=Europe/Paris:20221210T170000
DTEND;TZID=Europe/Paris:20221210T190000
DTSTAMP:20260422T122854
CREATED:20221207T110124Z
LAST-MODIFIED:20221207T110124Z
UID:15135-1670691600-1670698800@www.ville-yutz.fr
SUMMARY:Football : FC YUTZ Vétérans Yutz/Thionville
DESCRIPTION:
URL:https://www.ville-yutz.fr/event/football-fc-yutz-veterans-yutz-thionville/
LOCATION:Stade Mermoz
CATEGORIES:Sports
ORGANIZER;CN="FC Yutz":MAILTO:utz.fc@moselle.lgef.fr
END:VEVENT
BEGIN:VEVENT
DTSTART;TZID=Europe/Paris:20221210T180000
DTEND;TZID=Europe/Paris:20221210T200000
DTSTAMP:20260422T122854
CREATED:20221207T105926Z
LAST-MODIFIED:20221207T105926Z
UID:15130-1670695200-1670702400@www.ville-yutz.fr
SUMMARY:Volley : ASVB : Régionale F Yutz-Thionville/Sarralbe
DESCRIPTION:
URL:https://www.ville-yutz.fr/event/volley-asvb-regionale-f-yutz-thionville-sarralbe/
LOCATION:Gymnase Jean Mermoz\, Place de l'Arc-en-ciel\, Yutz\, 57970\, France
CATEGORIES:Sports
END:VEVENT
BEGIN:VEVENT
DTSTART;TZID=Europe/Paris:20221210T180000
DTEND;TZID=Europe/Paris:20221210T200000
DTSTAMP:20260422T122854
CREATED:20221207T110026Z
LAST-MODIFIED:20221207T110026Z
UID:15132-1670695200-1670702400@www.ville-yutz.fr
SUMMARY:Handball : YHB  17 CDF Yutz/EHR Bouzonville
DESCRIPTION:
URL:https://www.ville-yutz.fr/event/handball-yhb-17-cdf-yutz-ehr-bouzonville/
LOCATION:Gymnase Saint-Exupéry\, 1 rue du Gymnase\, YUTZ\, 57970\, France
CATEGORIES:Sports
ORGANIZER;CN="Yutz Handball":MAILTO:5657005@ffhandball.net
END:VEVENT
BEGIN:VEVENT
DTSTART;TZID=Europe/Paris:20221210T200000
DTEND;TZID=Europe/Paris:20221210T223000
DTSTAMP:20260422T122854
CREATED:20221207T105749Z
LAST-MODIFIED:20221207T105749Z
UID:15119-1670702400-1670711400@www.ville-yutz.fr
SUMMARY:Volley : ASVB : Régionale M Yutz-Thionville/Metz
DESCRIPTION:Championnat Grand Est
URL:https://www.ville-yutz.fr/event/volley-asvb-regionale-m-yutz-thionville-metz/
LOCATION:Gymnase Jean Mermoz\, Place de l'Arc-en-ciel\, Yutz\, 57970\, France
CATEGORIES:Sports
END:VEVENT
BEGIN:VEVENT
DTSTART;TZID=Europe/Paris:20221210T203000
DTEND;TZID=Europe/Paris:20221210T223000
DTSTAMP:20260422T122854
CREATED:20221207T105836Z
LAST-MODIFIED:20221207T105836Z
UID:15122-1670704200-1670711400@www.ville-yutz.fr
SUMMARY:Handball : YHB  1er div femme Yutz/Masevaux
DESCRIPTION:
URL:https://www.ville-yutz.fr/event/handball-yhb-1er-div-femme-yutz-masevaux/
LOCATION:Gymnase Saint-Exupéry\, 1 rue du Gymnase\, YUTZ\, 57970\, France
CATEGORIES:Sports
ORGANIZER;CN="Yutz Handball":MAILTO:5657005@ffhandball.net
END:VEVENT
END:VCALENDAR