BEGIN:VCALENDAR
VERSION:2.0
PRODID:-//Ville de Yutz - ECPv6.15.16//NONSGML v1.0//EN
CALSCALE:GREGORIAN
METHOD:PUBLISH
X-ORIGINAL-URL:https://www.ville-yutz.fr
X-WR-CALDESC:Évènements pour Ville de Yutz
REFRESH-INTERVAL;VALUE=DURATION:PT1H
X-Robots-Tag:noindex
X-PUBLISHED-TTL:PT1H
BEGIN:VTIMEZONE
TZID:Europe/Paris
BEGIN:DAYLIGHT
TZOFFSETFROM:+0100
TZOFFSETTO:+0200
TZNAME:CEST
DTSTART:20210328T010000
END:DAYLIGHT
BEGIN:STANDARD
TZOFFSETFROM:+0200
TZOFFSETTO:+0100
TZNAME:CET
DTSTART:20211031T010000
END:STANDARD
BEGIN:DAYLIGHT
TZOFFSETFROM:+0100
TZOFFSETTO:+0200
TZNAME:CEST
DTSTART:20220327T010000
END:DAYLIGHT
BEGIN:STANDARD
TZOFFSETFROM:+0200
TZOFFSETTO:+0100
TZNAME:CET
DTSTART:20221030T010000
END:STANDARD
BEGIN:DAYLIGHT
TZOFFSETFROM:+0100
TZOFFSETTO:+0200
TZNAME:CEST
DTSTART:20230326T010000
END:DAYLIGHT
BEGIN:STANDARD
TZOFFSETFROM:+0200
TZOFFSETTO:+0100
TZNAME:CET
DTSTART:20231029T010000
END:STANDARD
END:VTIMEZONE
BEGIN:VEVENT
DTSTART;TZID=Europe/Paris:20221203T100000
DTEND;TZID=Europe/Paris:20221203T120000
DTSTAMP:20260422T122849
CREATED:20221202T163646Z
LAST-MODIFIED:20221202T163646Z
UID:15032-1670061600-1670068800@www.ville-yutz.fr
SUMMARY:Foot - FC YUTZ U8/U9 plateau
DESCRIPTION:
URL:https://www.ville-yutz.fr/event/foot-fc-yutz-u8-u9-plateau/
LOCATION:Stade Mermoz
CATEGORIES:Sports
ORGANIZER;CN="FC Yutz":MAILTO:utz.fc@moselle.lgef.fr
END:VEVENT
BEGIN:VEVENT
DTSTART;TZID=Europe/Paris:20221203T100000
DTEND;TZID=Europe/Paris:20221203T120000
DTSTAMP:20260422T122849
CREATED:20221202T163828Z
LAST-MODIFIED:20221202T163844Z
UID:15034-1670061600-1670068800@www.ville-yutz.fr
SUMMARY:Foot : FC YUTZ U11/U10-2 Yutz/Hettange-Grande
DESCRIPTION:
URL:https://www.ville-yutz.fr/event/foot-fc-yutz-u11-u10-2-yutz-hettange-grande/
LOCATION:Stade Mermoz
CATEGORIES:Sports
ORGANIZER;CN="FC Yutz":MAILTO:utz.fc@moselle.lgef.fr
END:VEVENT
BEGIN:VEVENT
DTSTART;TZID=Europe/Paris:20221203T130000
DTEND;TZID=Europe/Paris:20221203T150000
DTSTAMP:20260422T122849
CREATED:20221202T163926Z
LAST-MODIFIED:20221202T163926Z
UID:15036-1670072400-1670079600@www.ville-yutz.fr
SUMMARY:Foot- FC YUTZ U12-1 Yutz/Elan-Kohbeen
DESCRIPTION:
URL:https://www.ville-yutz.fr/event/foot-fc-yutz-u12-1-yutz-elan-kohbeen/
LOCATION:Stade Mermoz
CATEGORIES:Sports
ORGANIZER;CN="FC Yutz":MAILTO:utz.fc@moselle.lgef.fr
END:VEVENT
BEGIN:VEVENT
DTSTART;TZID=Europe/Paris:20221203T150000
DTEND;TZID=Europe/Paris:20221203T170000
DTSTAMP:20260422T122849
CREATED:20221202T165335Z
LAST-MODIFIED:20221202T165335Z
UID:15045-1670079600-1670086800@www.ville-yutz.fr
SUMMARY:Foot : FC YUTZ U15-U14 Yutz/Haguenau F.C.S.R
DESCRIPTION:
URL:https://www.ville-yutz.fr/event/foot-fc-yutz-u15-u14-yutz-haguenau-f-c-s-r/
LOCATION:Stade Mermoz
CATEGORIES:Sports
ORGANIZER;CN="FC Yutz":MAILTO:utz.fc@moselle.lgef.fr
END:VEVENT
BEGIN:VEVENT
DTSTART;TZID=Europe/Paris:20221203T170000
DTEND;TZID=Europe/Paris:20221203T190000
DTSTAMP:20260422T122849
CREATED:20221202T165426Z
LAST-MODIFIED:20221202T165426Z
UID:15047-1670086800-1670094000@www.ville-yutz.fr
SUMMARY:Foot : FC YUTZ U15-U14 Yutz/Pagny sur Moselle
DESCRIPTION:
URL:https://www.ville-yutz.fr/event/foot-fc-yutz-u15-u14-yutz-pagny-sur-moselle/
LOCATION:Stade Mermoz
CATEGORIES:Sports
ORGANIZER;CN="FC Yutz":MAILTO:utz.fc@moselle.lgef.fr
END:VEVENT
BEGIN:VEVENT
DTSTART;TZID=Europe/Paris:20221203T203000
DTEND;TZID=Europe/Paris:20221203T203000
DTSTAMP:20260422T122849
CREATED:20221202T165844Z
LAST-MODIFIED:20221202T165844Z
UID:15049-1670099400-1670099400@www.ville-yutz.fr
SUMMARY:Handball : YHB  N1 Yutz/Stella Saint-Maur HB
DESCRIPTION:
URL:https://www.ville-yutz.fr/event/handball-yhb-n1-yutz-stella-saint-maur-hb/
LOCATION:Gymnase Saint-Exupéry\, 1 rue du Gymnase\, YUTZ\, 57970\, France
CATEGORIES:Sports
ORGANIZER;CN="Yutz Handball":MAILTO:5657005@ffhandball.net
END:VEVENT
END:VCALENDAR