BEGIN:VCALENDAR
VERSION:2.0
PRODID:-//Ville de Yutz - ECPv6.15.16//NONSGML v1.0//EN
CALSCALE:GREGORIAN
METHOD:PUBLISH
X-WR-CALNAME:Ville de Yutz
X-ORIGINAL-URL:https://www.ville-yutz.fr
X-WR-CALDESC:Évènements pour Ville de Yutz
REFRESH-INTERVAL;VALUE=DURATION:PT1H
X-Robots-Tag:noindex
X-PUBLISHED-TTL:PT1H
BEGIN:VTIMEZONE
TZID:Europe/Paris
BEGIN:DAYLIGHT
TZOFFSETFROM:+0100
TZOFFSETTO:+0200
TZNAME:CEST
DTSTART:20210328T010000
END:DAYLIGHT
BEGIN:STANDARD
TZOFFSETFROM:+0200
TZOFFSETTO:+0100
TZNAME:CET
DTSTART:20211031T010000
END:STANDARD
BEGIN:DAYLIGHT
TZOFFSETFROM:+0100
TZOFFSETTO:+0200
TZNAME:CEST
DTSTART:20220327T010000
END:DAYLIGHT
BEGIN:STANDARD
TZOFFSETFROM:+0200
TZOFFSETTO:+0100
TZNAME:CET
DTSTART:20221030T010000
END:STANDARD
BEGIN:DAYLIGHT
TZOFFSETFROM:+0100
TZOFFSETTO:+0200
TZNAME:CEST
DTSTART:20230326T010000
END:DAYLIGHT
BEGIN:STANDARD
TZOFFSETFROM:+0200
TZOFFSETTO:+0100
TZNAME:CET
DTSTART:20231029T010000
END:STANDARD
END:VTIMEZONE
BEGIN:VEVENT
DTSTART;TZID=Europe/Paris:20221126T100000
DTEND;TZID=Europe/Paris:20221126T120000
DTSTAMP:20260422T133642
CREATED:20221125T162732Z
LAST-MODIFIED:20221125T162732Z
UID:14858-1669456800-1669464000@www.ville-yutz.fr
SUMMARY:Foot : FC YUTZ U13F Yutz/Godbrange
DESCRIPTION:
URL:https://www.ville-yutz.fr/event/foot-fc-yutz-u13f-yutz-godbrange/
LOCATION:Stade Mermoz
CATEGORIES:Sports
ORGANIZER;CN="FC Yutz":MAILTO:utz.fc@moselle.lgef.fr
END:VEVENT
BEGIN:VEVENT
DTSTART;TZID=Europe/Paris:20221126T130000
DTEND;TZID=Europe/Paris:20221126T150000
DTSTAMP:20260422T133642
CREATED:20221125T162823Z
LAST-MODIFIED:20221125T162823Z
UID:14860-1669467600-1669474800@www.ville-yutz.fr
SUMMARY:Foot : FC YUTZ U13-1 Yutz/Clouange
DESCRIPTION:
URL:https://www.ville-yutz.fr/event/foot-fc-yutz-u13-1-yutz-clouange/
LOCATION:Stade Mermoz
CATEGORIES:Sports
END:VEVENT
BEGIN:VEVENT
DTSTART;TZID=Europe/Paris:20221126T130000
DTEND;TZID=Europe/Paris:20221126T150000
DTSTAMP:20260422T133642
CREATED:20221125T162904Z
LAST-MODIFIED:20221125T162904Z
UID:14862-1669467600-1669474800@www.ville-yutz.fr
SUMMARY:Foot : FC YUTZ U13/U12-1 Yutz/Veymerange
DESCRIPTION:
URL:https://www.ville-yutz.fr/event/foot-fc-yutz-u13-u12-1-yutz-veymerange/
LOCATION:Stade Mermoz
CATEGORIES:Sports
END:VEVENT
BEGIN:VEVENT
DTSTART;TZID=Europe/Paris:20221126T143000
DTEND;TZID=Europe/Paris:20221126T170000
DTSTAMP:20260422T133642
CREATED:20221125T163053Z
LAST-MODIFIED:20221125T163053Z
UID:14864-1669473000-1669482000@www.ville-yutz.fr
SUMMARY:Volley : ASVB M11 plateau mixte à 10 équipes
DESCRIPTION:
URL:https://www.ville-yutz.fr/event/volley-asvb-m11-plateau-mixte-a-10-equipes/
LOCATION:Gymnase Dalmar\, THIONVILLE\, 57100
CATEGORIES:Sports
END:VEVENT
BEGIN:VEVENT
DTSTART;TZID=Europe/Paris:20221126T150000
DTEND;TZID=Europe/Paris:20221126T170000
DTSTAMP:20260422T133642
CREATED:20221125T163155Z
LAST-MODIFIED:20221125T163155Z
UID:14866-1669474800-1669482000@www.ville-yutz.fr
SUMMARY:Foot : FC YUTZ U15-U14 Yutz/Epinal S.A.
DESCRIPTION:
URL:https://www.ville-yutz.fr/event/foot-fc-yutz-u15-u14-yutz-epinal-s-a/
LOCATION:Stade Mermoz
CATEGORIES:Sports
ORGANIZER;CN="FC Yutz":MAILTO:utz.fc@moselle.lgef.fr
END:VEVENT
BEGIN:VEVENT
DTSTART;TZID=Europe/Paris:20221126T160000
DTEND;TZID=Europe/Paris:20221126T180000
DTSTAMP:20260422T133642
CREATED:20221125T163329Z
LAST-MODIFIED:20221125T163329Z
UID:14870-1669478400-1669485600@www.ville-yutz.fr
SUMMARY:Handball : YHB  11F Yutz/Rodemack
DESCRIPTION:
URL:https://www.ville-yutz.fr/event/handball-yhb-11f-yutz-rodemack/
LOCATION:Gymnase Saint-Exupéry\, 1 rue du Gymnase\, YUTZ\, 57970\, France
CATEGORIES:Sports
END:VEVENT
BEGIN:VEVENT
DTSTART;TZID=Europe/Paris:20221126T170000
DTEND;TZID=Europe/Paris:20221126T190000
DTSTAMP:20260422T133642
CREATED:20221125T163421Z
LAST-MODIFIED:20221125T163421Z
UID:14872-1669482000-1669489200@www.ville-yutz.fr
SUMMARY:Foot : FC YUTZ U19-U18 Yutz/Rombas U.L.
DESCRIPTION:
URL:https://www.ville-yutz.fr/event/foot-fc-yutz-u19-u18-yutz-rombas-u-l/
LOCATION:Stade Mermoz
CATEGORIES:Sports
ORGANIZER;CN="FC Yutz":MAILTO:utz.fc@moselle.lgef.fr
END:VEVENT
BEGIN:VEVENT
DTSTART;TZID=Europe/Paris:20221126T170000
DTEND;TZID=Europe/Paris:20221126T190000
DTSTAMP:20260422T133642
CREATED:20221125T163514Z
LAST-MODIFIED:20221125T163514Z
UID:14874-1669482000-1669489200@www.ville-yutz.fr
SUMMARY:Foot : Vieilles Tiges Yutz/Gavisse
DESCRIPTION:
URL:https://www.ville-yutz.fr/event/foot-vieilles-tiges-yutz-gavisse/
LOCATION:Stade Mermoz
CATEGORIES:Sports
END:VEVENT
BEGIN:VEVENT
DTSTART;TZID=Europe/Paris:20221126T180000
DTEND;TZID=Europe/Paris:20221126T230000
DTSTAMP:20260422T133642
CREATED:20221125T163635Z
LAST-MODIFIED:20221125T163635Z
UID:14876-1669485600-1669503600@www.ville-yutz.fr
SUMMARY:Fête d'hiver de la Société de Gymnastique de Yutz
DESCRIPTION:
URL:https://www.ville-yutz.fr/event/fete-dhiver-de-la-societe-de-gymnastique-de-yutz/
LOCATION:Gymnase Jean Mermoz\, Place de l'Arc-en-ciel\, Yutz\, 57970\, France
CATEGORIES:Sports
ORGANIZER;CN="Soci%C3%A9t%C3%A9 de Gymnastique de Yutz":MAILTO:gymyutz@gmail.com
END:VEVENT
BEGIN:VEVENT
DTSTART;TZID=Europe/Paris:20221126T190000
DTEND;TZID=Europe/Paris:20221126T210000
DTSTAMP:20260422T133642
CREATED:20221125T163942Z
LAST-MODIFIED:20221125T163942Z
UID:14882-1669489200-1669496400@www.ville-yutz.fr
SUMMARY:Foot : FC YUTZ Vétérans Yutz/Gavisse
DESCRIPTION:
URL:https://www.ville-yutz.fr/event/foot-fc-yutz-veterans-yutz-gavisse/
LOCATION:Stade Mermoz
CATEGORIES:Sports
ORGANIZER;CN="FC Yutz":MAILTO:utz.fc@moselle.lgef.fr
END:VEVENT
BEGIN:VEVENT
DTSTART;TZID=Europe/Paris:20221126T203000
DTEND;TZID=Europe/Paris:20221126T203000
DTSTAMP:20260422T133642
CREATED:20221125T163726Z
LAST-MODIFIED:20221125T163726Z
UID:14878-1669494600-1669494600@www.ville-yutz.fr
SUMMARY:Handball : YHB  17CDF Yutz/JDA Dijon HB
DESCRIPTION:
URL:https://www.ville-yutz.fr/event/handball-yhb-17cdf-yutz-jda-dijon-hb/
LOCATION:Gymnase Saint-Exupéry\, 1 rue du Gymnase\, YUTZ\, 57970\, France
CATEGORIES:Sports
ORGANIZER;CN="Yutz Handball":MAILTO:5657005@ffhandball.net
END:VEVENT
END:VCALENDAR