BEGIN:VCALENDAR
VERSION:2.0
PRODID:-//Ville de Yutz - ECPv6.15.16//NONSGML v1.0//EN
CALSCALE:GREGORIAN
METHOD:PUBLISH
X-ORIGINAL-URL:https://www.ville-yutz.fr
X-WR-CALDESC:Évènements pour Ville de Yutz
REFRESH-INTERVAL;VALUE=DURATION:PT1H
X-Robots-Tag:noindex
X-PUBLISHED-TTL:PT1H
BEGIN:VTIMEZONE
TZID:Europe/Paris
BEGIN:DAYLIGHT
TZOFFSETFROM:+0100
TZOFFSETTO:+0200
TZNAME:CEST
DTSTART:20210328T010000
END:DAYLIGHT
BEGIN:STANDARD
TZOFFSETFROM:+0200
TZOFFSETTO:+0100
TZNAME:CET
DTSTART:20211031T010000
END:STANDARD
BEGIN:DAYLIGHT
TZOFFSETFROM:+0100
TZOFFSETTO:+0200
TZNAME:CEST
DTSTART:20220327T010000
END:DAYLIGHT
BEGIN:STANDARD
TZOFFSETFROM:+0200
TZOFFSETTO:+0100
TZNAME:CET
DTSTART:20221030T010000
END:STANDARD
BEGIN:DAYLIGHT
TZOFFSETFROM:+0100
TZOFFSETTO:+0200
TZNAME:CEST
DTSTART:20230326T010000
END:DAYLIGHT
BEGIN:STANDARD
TZOFFSETFROM:+0200
TZOFFSETTO:+0100
TZNAME:CET
DTSTART:20231029T010000
END:STANDARD
END:VTIMEZONE
BEGIN:VEVENT
DTSTART;TZID=Europe/Paris:20221119T100000
DTEND;TZID=Europe/Paris:20221119T120000
DTSTAMP:20260422T140238
CREATED:20221118T175341Z
LAST-MODIFIED:20221118T175341Z
UID:14749-1668852000-1668859200@www.ville-yutz.fr
SUMMARY:Foot : FC YUTZ plateau U8F/U10F
DESCRIPTION:
URL:https://www.ville-yutz.fr/event/foot-fc-yutz-plateau-u8f-u10f/
LOCATION:Stade Mermoz
CATEGORIES:Sports
ORGANIZER;CN="FC Yutz":MAILTO:utz.fc@moselle.lgef.fr
END:VEVENT
BEGIN:VEVENT
DTSTART;TZID=Europe/Paris:20221119T130000
DTEND;TZID=Europe/Paris:20221119T150000
DTSTAMP:20260422T140238
CREATED:20221118T175425Z
LAST-MODIFIED:20221118T175425Z
UID:14751-1668862800-1668870000@www.ville-yutz.fr
SUMMARY:Foot : FC YUTZ U12-1  Yutz/Guentrange
DESCRIPTION:
URL:https://www.ville-yutz.fr/event/foot-fc-yutz-u12-1-yutz-guentrange/
LOCATION:Stade Mermoz
CATEGORIES:Sports
ORGANIZER;CN="FC Yutz":MAILTO:utz.fc@moselle.lgef.fr
END:VEVENT
BEGIN:VEVENT
DTSTART;TZID=Europe/Paris:20221119T130000
DTEND;TZID=Europe/Paris:20221119T150000
DTSTAMP:20260422T140238
CREATED:20221118T175511Z
LAST-MODIFIED:20221118T175511Z
UID:14753-1668862800-1668870000@www.ville-yutz.fr
SUMMARY:Foot : FC YUTZ U15F  Yutz/Terville
DESCRIPTION:
URL:https://www.ville-yutz.fr/event/foot-fc-yutz-u15f-yutz-terville/
LOCATION:Stade Mermoz
CATEGORIES:Sports
ORGANIZER;CN="FC Yutz":MAILTO:utz.fc@moselle.lgef.fr
END:VEVENT
BEGIN:VEVENT
DTSTART;TZID=Europe/Paris:20221119T140000
DTEND;TZID=Europe/Paris:20221119T160000
DTSTAMP:20260422T140238
CREATED:20221109T111021Z
LAST-MODIFIED:20221109T111021Z
UID:14587-1668866400-1668873600@www.ville-yutz.fr
SUMMARY:Handball : YHB  16 Yutz / 2 Vallée
DESCRIPTION:
URL:https://www.ville-yutz.fr/event/handball-yhb-16-yutz-2-vallee/
LOCATION:Gymnase Saint-Exupéry\, 1 rue du Gymnase\, YUTZ\, 57970\, France
CATEGORIES:Sports
ORGANIZER;CN="Yutz Handball":MAILTO:5657005@ffhandball.net
END:VEVENT
BEGIN:VEVENT
DTSTART;TZID=Europe/Paris:20221119T140000
DTEND;TZID=Europe/Paris:20221119T160000
DTSTAMP:20260422T140238
CREATED:20221118T175625Z
LAST-MODIFIED:20221118T175625Z
UID:14755-1668866400-1668873600@www.ville-yutz.fr
SUMMARY:Handball : YHB  16 Yutz/2 Vallée
DESCRIPTION:
URL:https://www.ville-yutz.fr/event/handball-yhb-16-yutz-2-vallee-2/
LOCATION:Stade Mermoz
CATEGORIES:Sports
ORGANIZER;CN="Yutz Handball":MAILTO:5657005@ffhandball.net
END:VEVENT
BEGIN:VEVENT
DTSTART;TZID=Europe/Paris:20221119T150000
DTEND;TZID=Europe/Paris:20221119T170000
DTSTAMP:20260422T140238
CREATED:20221109T110843Z
LAST-MODIFIED:20221109T110843Z
UID:14585-1668870000-1668877200@www.ville-yutz.fr
SUMMARY:Foot : FC YUTZ U15-U14 Yutz / Illzach A.S.I.M.
DESCRIPTION:Championnat Grand Est
URL:https://www.ville-yutz.fr/event/foot-fc-yutz-u15-u14-yutz-illzach-a-s-i-m/
LOCATION:Stade Mermoz
CATEGORIES:Sports
END:VEVENT
END:VCALENDAR