BEGIN:VCALENDAR
VERSION:2.0
PRODID:-//Ville de Yutz - ECPv6.15.16//NONSGML v1.0//EN
CALSCALE:GREGORIAN
METHOD:PUBLISH
X-ORIGINAL-URL:https://www.ville-yutz.fr
X-WR-CALDESC:Évènements pour Ville de Yutz
REFRESH-INTERVAL;VALUE=DURATION:PT1H
X-Robots-Tag:noindex
X-PUBLISHED-TTL:PT1H
BEGIN:VTIMEZONE
TZID:Europe/Paris
BEGIN:DAYLIGHT
TZOFFSETFROM:+0100
TZOFFSETTO:+0200
TZNAME:CEST
DTSTART:20210328T010000
END:DAYLIGHT
BEGIN:STANDARD
TZOFFSETFROM:+0200
TZOFFSETTO:+0100
TZNAME:CET
DTSTART:20211031T010000
END:STANDARD
BEGIN:DAYLIGHT
TZOFFSETFROM:+0100
TZOFFSETTO:+0200
TZNAME:CEST
DTSTART:20220327T010000
END:DAYLIGHT
BEGIN:STANDARD
TZOFFSETFROM:+0200
TZOFFSETTO:+0100
TZNAME:CET
DTSTART:20221030T010000
END:STANDARD
BEGIN:DAYLIGHT
TZOFFSETFROM:+0100
TZOFFSETTO:+0200
TZNAME:CEST
DTSTART:20230326T010000
END:DAYLIGHT
BEGIN:STANDARD
TZOFFSETFROM:+0200
TZOFFSETTO:+0100
TZNAME:CET
DTSTART:20231029T010000
END:STANDARD
END:VTIMEZONE
BEGIN:VEVENT
DTSTART;TZID=Europe/Paris:20221113T090000
DTEND;TZID=Europe/Paris:20221113T170000
DTSTAMP:20260422T133237
CREATED:20221109T092321Z
LAST-MODIFIED:20221109T092820Z
UID:14562-1668330000-1668358800@www.ville-yutz.fr
SUMMARY:Volley : ASVB coupe de France M13F Tour 2
DESCRIPTION:
URL:https://www.ville-yutz.fr/event/volley-asvb-coupe-de-france-m13-et-m18-tour-2/
LOCATION:Gymnase Jean Mermoz\, Place de l'Arc-en-ciel\, Yutz\, 57970\, France
CATEGORIES:Sports
END:VEVENT
BEGIN:VEVENT
DTSTART;TZID=Europe/Paris:20221113T100000
DTEND;TZID=Europe/Paris:20221113T120000
DTSTAMP:20260422T133237
CREATED:20221110T173102Z
LAST-MODIFIED:20221110T173102Z
UID:14646-1668333600-1668340800@www.ville-yutz.fr
SUMMARY:Foot : FC YUTZ vétérans loisirs - Yutz / Ars-Laquenexy
DESCRIPTION:
URL:https://www.ville-yutz.fr/event/foot-fc-yutz-veterans-loisirs-yutz-ars-laquenexy/
LOCATION:Stade Mermoz
CATEGORIES:Sports
ORGANIZER;CN="FC Yutz":MAILTO:utz.fc@moselle.lgef.fr
END:VEVENT
BEGIN:VEVENT
DTSTART;TZID=Europe/Paris:20221113T100000
DTEND;TZID=Europe/Paris:20221113T180000
DTSTAMP:20260422T133237
CREATED:20221110T173254Z
LAST-MODIFIED:20221110T173254Z
UID:14648-1668333600-1668362400@www.ville-yutz.fr
SUMMARY:Concours de sauts d'obstacles d'automne
DESCRIPTION:
URL:https://www.ville-yutz.fr/event/concours-de-sauts-dobstacles-dautomne/
LOCATION:Centre équestre\, rue de Poitiers\, YUTZ\, 57970\, France
CATEGORIES:Sports
END:VEVENT
BEGIN:VEVENT
DTSTART;TZID=Europe/Paris:20221113T143000
DTEND;TZID=Europe/Paris:20221113T163000
DTSTAMP:20260422T133237
CREATED:20221109T092226Z
LAST-MODIFIED:20221109T092226Z
UID:14560-1668349800-1668357000@www.ville-yutz.fr
SUMMARY:Foot : FC YUTZ Séniors  Yutz1/FC Hagondange
DESCRIPTION:
URL:https://www.ville-yutz.fr/event/foot-fc-yutz-seniors-yutz1-fc-hagondange/
LOCATION:Stade Mermoz
CATEGORIES:Sports
ORGANIZER;CN="FC Yutz":MAILTO:utz.fc@moselle.lgef.fr
END:VEVENT
BEGIN:VEVENT
DTSTART;TZID=Europe/Paris:20221113T163000
DTEND;TZID=Europe/Paris:20221113T183000
DTSTAMP:20260422T133237
CREATED:20221109T092103Z
LAST-MODIFIED:20221110T172930Z
UID:14558-1668357000-1668364200@www.ville-yutz.fr
SUMMARY:Foot : FC YUTZ U21  Yutz / Volmerange
DESCRIPTION:
URL:https://www.ville-yutz.fr/event/foot-fc-yutz-seniors-d2-yutz2-volmerange-les-mines-cs1/
LOCATION:Stade Mermoz
CATEGORIES:Sports
ORGANIZER;CN="FC Yutz":MAILTO:utz.fc@moselle.lgef.fr
END:VEVENT
END:VCALENDAR