BEGIN:VCALENDAR
VERSION:2.0
PRODID:-//Ville de Yutz - ECPv6.15.16//NONSGML v1.0//EN
CALSCALE:GREGORIAN
METHOD:PUBLISH
X-WR-CALNAME:Ville de Yutz
X-ORIGINAL-URL:https://www.ville-yutz.fr
X-WR-CALDESC:Évènements pour Ville de Yutz
REFRESH-INTERVAL;VALUE=DURATION:PT1H
X-Robots-Tag:noindex
X-PUBLISHED-TTL:PT1H
BEGIN:VTIMEZONE
TZID:Europe/Paris
BEGIN:DAYLIGHT
TZOFFSETFROM:+0100
TZOFFSETTO:+0200
TZNAME:CEST
DTSTART:20210328T010000
END:DAYLIGHT
BEGIN:STANDARD
TZOFFSETFROM:+0200
TZOFFSETTO:+0100
TZNAME:CET
DTSTART:20211031T010000
END:STANDARD
BEGIN:DAYLIGHT
TZOFFSETFROM:+0100
TZOFFSETTO:+0200
TZNAME:CEST
DTSTART:20220327T010000
END:DAYLIGHT
BEGIN:STANDARD
TZOFFSETFROM:+0200
TZOFFSETTO:+0100
TZNAME:CET
DTSTART:20221030T010000
END:STANDARD
BEGIN:DAYLIGHT
TZOFFSETFROM:+0100
TZOFFSETTO:+0200
TZNAME:CEST
DTSTART:20230326T010000
END:DAYLIGHT
BEGIN:STANDARD
TZOFFSETFROM:+0200
TZOFFSETTO:+0100
TZNAME:CET
DTSTART:20231029T010000
END:STANDARD
END:VTIMEZONE
BEGIN:VEVENT
DTSTART;TZID=Europe/Paris:20221022T100000
DTEND;TZID=Europe/Paris:20221022T123000
DTSTAMP:20260422T153439
CREATED:20221020T160458Z
LAST-MODIFIED:20221020T160549Z
UID:14315-1666432800-1666441800@www.ville-yutz.fr
SUMMARY:Foot : FC YUTZ U10-U11-3 / Plateau
DESCRIPTION:4 équipes
URL:https://www.ville-yutz.fr/event/foot-fc-yutz-u10-u11-3-plateau/
LOCATION:Stade Mermoz
CATEGORIES:Sports
ORGANIZER;CN="FC Yutz":MAILTO:utz.fc@moselle.lgef.fr
END:VEVENT
BEGIN:VEVENT
DTSTART;TZID=Europe/Paris:20221022T112000
DTEND;TZID=Europe/Paris:20221022T132000
DTSTAMP:20260422T153439
CREATED:20221020T160339Z
LAST-MODIFIED:20221020T160358Z
UID:14312-1666437600-1666444800@www.ville-yutz.fr
SUMMARY:Foot : FC YUTZ U15F Yutz/Lusitanos
DESCRIPTION:championnat
URL:https://www.ville-yutz.fr/event/foot-fc-yutz-u15f-yutz-lusitanos/
LOCATION:Stade Mermoz
CATEGORIES:Sports
ORGANIZER;CN="FC Yutz":MAILTO:utz.fc@moselle.lgef.fr
END:VEVENT
BEGIN:VEVENT
DTSTART;TZID=Europe/Paris:20221022T124500
DTEND;TZID=Europe/Paris:20221022T144500
DTSTAMP:20260422T153439
CREATED:20221020T160251Z
LAST-MODIFIED:20221020T160251Z
UID:14310-1666442700-1666449900@www.ville-yutz.fr
SUMMARY:Foot : FC YUTZ U13-U12-1 / Plateau
DESCRIPTION:Festi foot\n4 équipes
URL:https://www.ville-yutz.fr/event/foot-fc-yutz-u13-u12-1-plateau/
LOCATION:Stade Mermoz
CATEGORIES:Sports
ORGANIZER;CN="FC Yutz":MAILTO:utz.fc@moselle.lgef.fr
END:VEVENT
BEGIN:VEVENT
DTSTART;TZID=Europe/Paris:20221022T150000
DTEND;TZID=Europe/Paris:20221022T170000
DTSTAMP:20260422T153439
CREATED:20221020T155545Z
LAST-MODIFIED:20221020T155545Z
UID:14305-1666450800-1666458000@www.ville-yutz.fr
SUMMARY:Foot : FC YUTZ U15-U14 Yutz/Bar le Duc
DESCRIPTION:
URL:https://www.ville-yutz.fr/event/foot-fc-yutz-u15-u14-yutz-bar-le-duc/
LOCATION:Stade Mermoz
CATEGORIES:Sports
ORGANIZER;CN="FC Yutz":MAILTO:utz.fc@moselle.lgef.fr
END:VEVENT
BEGIN:VEVENT
DTSTART;TZID=Europe/Paris:20221022T170000
DTEND;TZID=Europe/Paris:20221022T190000
DTSTAMP:20260422T153439
CREATED:20221020T155500Z
LAST-MODIFIED:20221020T155500Z
UID:14303-1666458000-1666465200@www.ville-yutz.fr
SUMMARY:Foot : FC YUTZ U18 Yutz/Fameck
DESCRIPTION:
URL:https://www.ville-yutz.fr/event/foot-fc-yutz-u18-yutz-fameck/
LOCATION:Stade Mermoz
CATEGORIES:Sports
ORGANIZER;CN="FC Yutz":MAILTO:utz.fc@moselle.lgef.fr
END:VEVENT
END:VCALENDAR