BEGIN:VCALENDAR
VERSION:2.0
PRODID:-//Ville de Yutz - ECPv6.15.16//NONSGML v1.0//EN
CALSCALE:GREGORIAN
METHOD:PUBLISH
X-ORIGINAL-URL:https://www.ville-yutz.fr
X-WR-CALDESC:Évènements pour Ville de Yutz
REFRESH-INTERVAL;VALUE=DURATION:PT1H
X-Robots-Tag:noindex
X-PUBLISHED-TTL:PT1H
BEGIN:VTIMEZONE
TZID:Europe/Paris
BEGIN:DAYLIGHT
TZOFFSETFROM:+0100
TZOFFSETTO:+0200
TZNAME:CEST
DTSTART:20210328T010000
END:DAYLIGHT
BEGIN:STANDARD
TZOFFSETFROM:+0200
TZOFFSETTO:+0100
TZNAME:CET
DTSTART:20211031T010000
END:STANDARD
BEGIN:DAYLIGHT
TZOFFSETFROM:+0100
TZOFFSETTO:+0200
TZNAME:CEST
DTSTART:20220327T010000
END:DAYLIGHT
BEGIN:STANDARD
TZOFFSETFROM:+0200
TZOFFSETTO:+0100
TZNAME:CET
DTSTART:20221030T010000
END:STANDARD
BEGIN:DAYLIGHT
TZOFFSETFROM:+0100
TZOFFSETTO:+0200
TZNAME:CEST
DTSTART:20230326T010000
END:DAYLIGHT
BEGIN:STANDARD
TZOFFSETFROM:+0200
TZOFFSETTO:+0100
TZNAME:CET
DTSTART:20231029T010000
END:STANDARD
END:VTIMEZONE
BEGIN:VEVENT
DTSTART;TZID=Europe/Paris:20220904T100000
DTEND;TZID=Europe/Paris:20220904T180000
DTSTAMP:20260422T171356
CREATED:20220804T145241Z
LAST-MODIFIED:20220823T133149Z
UID:12989-1662285600-1662314400@www.ville-yutz.fr
SUMMARY:Décathlon Vitalsport
DESCRIPTION:Testez en famille quarante activités et choisissez celle que vous aurez envie de pratiquer tout au long de l’année : des sports collectifs\, artistiques\, individuels\, de combat… \nLes initiations sont gratuites.
URL:https://www.ville-yutz.fr/event/decathlon-vital-sport-3/
LOCATION:Décathlon Village\, Zac Meilbourg\, Route d'Illange\, Yutz\, 57970
CATEGORIES:Sports
ATTACH;FMTTYPE=image/png:https://www.ville-yutz.fr/wp-content/uploads/2022/08/vitalsport.png
END:VEVENT
BEGIN:VEVENT
DTSTART;TZID=Europe/Paris:20220904T140000
DTEND;TZID=Europe/Paris:20220904T140000
DTSTAMP:20260422T171356
CREATED:20220804T145341Z
LAST-MODIFIED:20220804T145341Z
UID:12993-1662300000-1662300000@www.ville-yutz.fr
SUMMARY:Pétanque Coupe du Comité
DESCRIPTION:
URL:https://www.ville-yutz.fr/event/petanque-coupe-du-comite/
LOCATION:Boulodrome\, 1 rue Sainte-Barbe\, YUTZ\, -\, 57970\, France
CATEGORIES:Sports
END:VEVENT
END:VCALENDAR