BEGIN:VCALENDAR
VERSION:2.0
PRODID:-//Ville de Yutz - ECPv6.15.16//NONSGML v1.0//EN
CALSCALE:GREGORIAN
METHOD:PUBLISH
X-ORIGINAL-URL:https://www.ville-yutz.fr
X-WR-CALDESC:Évènements pour Ville de Yutz
REFRESH-INTERVAL;VALUE=DURATION:PT1H
X-Robots-Tag:noindex
X-PUBLISHED-TTL:PT1H
BEGIN:VTIMEZONE
TZID:Europe/Paris
BEGIN:DAYLIGHT
TZOFFSETFROM:+0100
TZOFFSETTO:+0200
TZNAME:CEST
DTSTART:20210328T010000
END:DAYLIGHT
BEGIN:STANDARD
TZOFFSETFROM:+0200
TZOFFSETTO:+0100
TZNAME:CET
DTSTART:20211031T010000
END:STANDARD
BEGIN:DAYLIGHT
TZOFFSETFROM:+0100
TZOFFSETTO:+0200
TZNAME:CEST
DTSTART:20220327T010000
END:DAYLIGHT
BEGIN:STANDARD
TZOFFSETFROM:+0200
TZOFFSETTO:+0100
TZNAME:CET
DTSTART:20221030T010000
END:STANDARD
BEGIN:DAYLIGHT
TZOFFSETFROM:+0100
TZOFFSETTO:+0200
TZNAME:CEST
DTSTART:20230326T010000
END:DAYLIGHT
BEGIN:STANDARD
TZOFFSETFROM:+0200
TZOFFSETTO:+0100
TZNAME:CET
DTSTART:20231029T010000
END:STANDARD
END:VTIMEZONE
BEGIN:VEVENT
DTSTART;TZID=Europe/Paris:20220619T070000
DTEND;TZID=Europe/Paris:20220619T180000
DTSTAMP:20260422T211829
CREATED:20220615T095217Z
LAST-MODIFIED:20220615T095217Z
UID:11479-1655622000-1655661600@www.ville-yutz.fr
SUMMARY:Triathlon international
DESCRIPTION:
URL:https://www.ville-yutz.fr/event/triathlon-international/
LOCATION:Port nautique de Basse-Ham
CATEGORIES:Sports
ATTACH;FMTTYPE=image/jpeg:https://www.ville-yutz.fr/wp-content/uploads/2022/06/2022-06-19-Triathlon.jpg
ORGANIZER;CN="TRITYC - Triathlon Thionville Yutz Club":MAILTO:president@trityc.fr
END:VEVENT
BEGIN:VEVENT
DTSTART;TZID=Europe/Paris:20220619T100000
DTEND;TZID=Europe/Paris:20220619T180000
DTSTAMP:20260422T211829
CREATED:20220615T094459Z
LAST-MODIFIED:20220615T094459Z
UID:11475-1655632800-1655661600@www.ville-yutz.fr
SUMMARY:Equitation : championnat de Moselle de Hunter
DESCRIPTION:
URL:https://www.ville-yutz.fr/event/equitation-championnat-de-moselle-de-hunter/
LOCATION:Centre équestre\, rue de Poitiers\, YUTZ\, 57970\, France
CATEGORIES:Sports
ATTACH;FMTTYPE=image/jpeg:https://www.ville-yutz.fr/wp-content/uploads/2021/06/equitation-cso.jpg
END:VEVENT
END:VCALENDAR