BEGIN:VCALENDAR
VERSION:2.0
PRODID:-//Ville de Yutz - ECPv6.15.16//NONSGML v1.0//EN
CALSCALE:GREGORIAN
METHOD:PUBLISH
X-WR-CALNAME:Ville de Yutz
X-ORIGINAL-URL:https://www.ville-yutz.fr
X-WR-CALDESC:Évènements pour Ville de Yutz
REFRESH-INTERVAL;VALUE=DURATION:PT1H
X-Robots-Tag:noindex
X-PUBLISHED-TTL:PT1H
BEGIN:VTIMEZONE
TZID:Europe/Paris
BEGIN:DAYLIGHT
TZOFFSETFROM:+0100
TZOFFSETTO:+0200
TZNAME:CEST
DTSTART:20210328T010000
END:DAYLIGHT
BEGIN:STANDARD
TZOFFSETFROM:+0200
TZOFFSETTO:+0100
TZNAME:CET
DTSTART:20211031T010000
END:STANDARD
BEGIN:DAYLIGHT
TZOFFSETFROM:+0100
TZOFFSETTO:+0200
TZNAME:CEST
DTSTART:20220327T010000
END:DAYLIGHT
BEGIN:STANDARD
TZOFFSETFROM:+0200
TZOFFSETTO:+0100
TZNAME:CET
DTSTART:20221030T010000
END:STANDARD
BEGIN:DAYLIGHT
TZOFFSETFROM:+0100
TZOFFSETTO:+0200
TZNAME:CEST
DTSTART:20230326T010000
END:DAYLIGHT
BEGIN:STANDARD
TZOFFSETFROM:+0200
TZOFFSETTO:+0100
TZNAME:CET
DTSTART:20231029T010000
END:STANDARD
END:VTIMEZONE
BEGIN:VEVENT
DTSTART;TZID=Europe/Paris:20220508T080000
DTEND;TZID=Europe/Paris:20220508T160000
DTSTAMP:20260422T224240
CREATED:20220506T161338Z
LAST-MODIFIED:20220506T161338Z
UID:10689-1651996800-1652025600@www.ville-yutz.fr
SUMMARY:FC Yutz - tournoi féminin
DESCRIPTION:
URL:https://www.ville-yutz.fr/event/fc-yutz-tournoi-feminin/
LOCATION:Stade Mermoz
CATEGORIES:Sports
ORGANIZER;CN="FC Yutz":MAILTO:utz.fc@moselle.lgef.fr
END:VEVENT
BEGIN:VEVENT
DTSTART;TZID=Europe/Paris:20220508T150000
DTEND;TZID=Europe/Paris:20220508T150000
DTSTAMP:20260422T224240
CREATED:20220506T161809Z
LAST-MODIFIED:20220506T161809Z
UID:10696-1652022000-1652022000@www.ville-yutz.fr
SUMMARY:Foot : JSA Yutz Cité / Schwerdorff
DESCRIPTION:
URL:https://www.ville-yutz.fr/event/foot-jsa-yutz-cite-schwerdorff/
LOCATION:Stade Denis Muller\, Rue Victor Hugo\, YUTZ\, 57970
CATEGORIES:Sports
END:VEVENT
BEGIN:VEVENT
DTSTART;TZID=Europe/Paris:20220508T150000
DTEND;TZID=Europe/Paris:20220508T170000
DTSTAMP:20260422T224240
CREATED:20220506T161652Z
LAST-MODIFIED:20220506T161652Z
UID:10694-1652022000-1652029200@www.ville-yutz.fr
SUMMARY:Foot : Seniors D1 US Yutz / Oudrenne US
DESCRIPTION:
URL:https://www.ville-yutz.fr/event/foot-seniors-d1-us-yutz-oudrenne-us/
LOCATION:Stade de la Forêt\, rue du Stade\, Yutz\, 57970
CATEGORIES:Sports
END:VEVENT
END:VCALENDAR