BEGIN:VCALENDAR
VERSION:2.0
PRODID:-//Ville de Yutz - ECPv6.15.16//NONSGML v1.0//EN
CALSCALE:GREGORIAN
METHOD:PUBLISH
X-WR-CALNAME:Ville de Yutz
X-ORIGINAL-URL:https://www.ville-yutz.fr
X-WR-CALDESC:Évènements pour Ville de Yutz
REFRESH-INTERVAL;VALUE=DURATION:PT1H
X-Robots-Tag:noindex
X-PUBLISHED-TTL:PT1H
BEGIN:VTIMEZONE
TZID:Europe/Paris
BEGIN:DAYLIGHT
TZOFFSETFROM:+0100
TZOFFSETTO:+0200
TZNAME:CEST
DTSTART:20210328T010000
END:DAYLIGHT
BEGIN:STANDARD
TZOFFSETFROM:+0200
TZOFFSETTO:+0100
TZNAME:CET
DTSTART:20211031T010000
END:STANDARD
BEGIN:DAYLIGHT
TZOFFSETFROM:+0100
TZOFFSETTO:+0200
TZNAME:CEST
DTSTART:20220327T010000
END:DAYLIGHT
BEGIN:STANDARD
TZOFFSETFROM:+0200
TZOFFSETTO:+0100
TZNAME:CET
DTSTART:20221030T010000
END:STANDARD
BEGIN:DAYLIGHT
TZOFFSETFROM:+0100
TZOFFSETTO:+0200
TZNAME:CEST
DTSTART:20230326T010000
END:DAYLIGHT
BEGIN:STANDARD
TZOFFSETFROM:+0200
TZOFFSETTO:+0100
TZNAME:CET
DTSTART:20231029T010000
END:STANDARD
END:VTIMEZONE
BEGIN:VEVENT
DTSTART;TZID=Europe/Paris:20220430T140000
DTEND;TZID=Europe/Paris:20220430T213000
DTSTAMP:20260422T224233
CREATED:20220429T154213Z
LAST-MODIFIED:20220429T163549Z
UID:10489-1651327200-1651354200@www.ville-yutz.fr
SUMMARY:Journée portes ouvertes de Yutz Handball Féminin
DESCRIPTION:Toute cette journée est rythmée par des matchs de jeunes.\n\n\n– 14h00 : U13G – YHBF / HBC BURE ;\n– 16h00 : U13 – YHBF / WOIPPY ;\n– 18h00 : U17CDF / STELLA ST MAUR\n\n\nPuis en clôture à 20h30\, les Louves du YHBF reçoivent l’équipe du CS Reichstett pour la 24e journée de N1F !\n\n\n\n\n– Soirée animée par un DJ à partir de 18 h ;\n\n\n– Point de restauration ;\n– Séance photos et dédicaces avec les joueuses de l’équipe fanion à la fin du match !
URL:https://www.ville-yutz.fr/event/journee-portes-ouvertes-de-yutz-handball-feminin/
LOCATION:Gymnase Saint-Exupéry\, 1 rue du Gymnase\, YUTZ\, 57970\, France
CATEGORIES:Sports
ATTACH;FMTTYPE=image/png:https://www.ville-yutz.fr/wp-content/uploads/2022/04/hand-SAMEDI-30-AVRIL.png
ORGANIZER;CN="Yutz Handball":MAILTO:5657005@ffhandball.net
END:VEVENT
BEGIN:VEVENT
DTSTART;TZID=Europe/Paris:20220430T150000
DTEND;TZID=Europe/Paris:20220430T150000
DTSTAMP:20260422T224233
CREATED:20220429T163702Z
LAST-MODIFIED:20220429T163702Z
UID:10495-1651330800-1651330800@www.ville-yutz.fr
SUMMARY:Rugby : TYGRE M14 équipes A et B
DESCRIPTION:
URL:https://www.ville-yutz.fr/event/rugby-tygre-m14-equipes-a-et-b/
LOCATION:Stade Bernard Vasquez\, Rue de la Moselle\, YUTZ\, 57970\, France
CATEGORIES:Sports
END:VEVENT
END:VCALENDAR