BEGIN:VCALENDAR
VERSION:2.0
PRODID:-//Ville de Yutz - ECPv6.15.16//NONSGML v1.0//EN
CALSCALE:GREGORIAN
METHOD:PUBLISH
X-ORIGINAL-URL:https://www.ville-yutz.fr
X-WR-CALDESC:Évènements pour Ville de Yutz
REFRESH-INTERVAL;VALUE=DURATION:PT1H
X-Robots-Tag:noindex
X-PUBLISHED-TTL:PT1H
BEGIN:VTIMEZONE
TZID:Europe/Paris
BEGIN:DAYLIGHT
TZOFFSETFROM:+0100
TZOFFSETTO:+0200
TZNAME:CEST
DTSTART:20210328T010000
END:DAYLIGHT
BEGIN:STANDARD
TZOFFSETFROM:+0200
TZOFFSETTO:+0100
TZNAME:CET
DTSTART:20211031T010000
END:STANDARD
BEGIN:DAYLIGHT
TZOFFSETFROM:+0100
TZOFFSETTO:+0200
TZNAME:CEST
DTSTART:20220327T010000
END:DAYLIGHT
BEGIN:STANDARD
TZOFFSETFROM:+0200
TZOFFSETTO:+0100
TZNAME:CET
DTSTART:20221030T010000
END:STANDARD
BEGIN:DAYLIGHT
TZOFFSETFROM:+0100
TZOFFSETTO:+0200
TZNAME:CEST
DTSTART:20230326T010000
END:DAYLIGHT
BEGIN:STANDARD
TZOFFSETFROM:+0200
TZOFFSETTO:+0100
TZNAME:CET
DTSTART:20231029T010000
END:STANDARD
END:VTIMEZONE
BEGIN:VEVENT
DTSTART;TZID=Europe/Paris:20220423T080000
DTEND;TZID=Europe/Paris:20220423T180000
DTSTAMP:20260423T001030
CREATED:20220422T162158Z
LAST-MODIFIED:20220422T162158Z
UID:10354-1650700800-1650736800@www.ville-yutz.fr
SUMMARY:Journée d'initiation au volley assis
DESCRIPTION:
URL:https://www.ville-yutz.fr/event/journee-dinitiation-au-volley-assis/
LOCATION:Gymnase Dalmar\, THIONVILLE\, 57100
CATEGORIES:Sports
END:VEVENT
BEGIN:VEVENT
DTSTART;TZID=Europe/Paris:20220423T120000
DTEND;TZID=Europe/Paris:20220423T120000
DTSTAMP:20260423T001030
CREATED:20220422T154621Z
LAST-MODIFIED:20220422T154621Z
UID:10348-1650715200-1650715200@www.ville-yutz.fr
SUMMARY:Meeting Inter-frontières
DESCRIPTION:
URL:https://www.ville-yutz.fr/event/meeting-inter-frontieres/
LOCATION:Stade Mermoz
CATEGORIES:Sports
ATTACH;FMTTYPE=image/jpeg:https://www.ville-yutz.fr/wp-content/uploads/2022/04/meeting-2-scaled.jpg
ORGANIZER;CN="ESTY":MAILTO:esty.athletisme@live.fr
END:VEVENT
END:VCALENDAR