BEGIN:VCALENDAR
VERSION:2.0
PRODID:-//Ville de Yutz - ECPv6.15.16//NONSGML v1.0//EN
CALSCALE:GREGORIAN
METHOD:PUBLISH
X-ORIGINAL-URL:https://www.ville-yutz.fr
X-WR-CALDESC:Évènements pour Ville de Yutz
REFRESH-INTERVAL;VALUE=DURATION:PT1H
X-Robots-Tag:noindex
X-PUBLISHED-TTL:PT1H
BEGIN:VTIMEZONE
TZID:Europe/Paris
BEGIN:DAYLIGHT
TZOFFSETFROM:+0100
TZOFFSETTO:+0200
TZNAME:CEST
DTSTART:20210328T010000
END:DAYLIGHT
BEGIN:STANDARD
TZOFFSETFROM:+0200
TZOFFSETTO:+0100
TZNAME:CET
DTSTART:20211031T010000
END:STANDARD
BEGIN:DAYLIGHT
TZOFFSETFROM:+0100
TZOFFSETTO:+0200
TZNAME:CEST
DTSTART:20220327T010000
END:DAYLIGHT
BEGIN:STANDARD
TZOFFSETFROM:+0200
TZOFFSETTO:+0100
TZNAME:CET
DTSTART:20221030T010000
END:STANDARD
BEGIN:DAYLIGHT
TZOFFSETFROM:+0100
TZOFFSETTO:+0200
TZNAME:CEST
DTSTART:20230326T010000
END:DAYLIGHT
BEGIN:STANDARD
TZOFFSETFROM:+0200
TZOFFSETTO:+0100
TZNAME:CET
DTSTART:20231029T010000
END:STANDARD
END:VTIMEZONE
BEGIN:VEVENT
DTSTART;TZID=Europe/Paris:20220326T140000
DTEND;TZID=Europe/Paris:20220326T140000
DTSTAMP:20260423T014900
CREATED:20220325T151253Z
LAST-MODIFIED:20220325T151253Z
UID:10039-1648303200-1648303200@www.ville-yutz.fr
SUMMARY:Handball : YHF 13F / METZ
DESCRIPTION:
URL:https://www.ville-yutz.fr/event/handball-yhf-13f-metz/
LOCATION:Gymnase Saint-Exupéry\, 1 rue du Gymnase\, YUTZ\, 57970\, France
CATEGORIES:Sports
ORGANIZER;CN="Yutz Handball":MAILTO:5657005@ffhandball.net
END:VEVENT
BEGIN:VEVENT
DTSTART;TZID=Europe/Paris:20220326T180000
DTEND;TZID=Europe/Paris:20220326T180000
DTSTAMP:20260423T014900
CREATED:20220325T151945Z
LAST-MODIFIED:20220325T151945Z
UID:10043-1648317600-1648317600@www.ville-yutz.fr
SUMMARY:Handball : YHF 16 / EHR
DESCRIPTION:
URL:https://www.ville-yutz.fr/event/handball-yhf-16-ehr/
LOCATION:Gymnase Saint-Exupéry\, 1 rue du Gymnase\, YUTZ\, 57970\, France
CATEGORIES:Sports
ORGANIZER;CN="Yutz Handball":MAILTO:5657005@ffhandball.net
END:VEVENT
BEGIN:VEVENT
DTSTART;TZID=Europe/Paris:20220326T203000
DTEND;TZID=Europe/Paris:20220326T203000
DTSTAMP:20260423T014900
CREATED:20220325T152048Z
LAST-MODIFIED:20220325T152048Z
UID:10045-1648326600-1648326600@www.ville-yutz.fr
SUMMARY:Handball : YHF N1F équipe 1 / Montigny
DESCRIPTION:
URL:https://www.ville-yutz.fr/event/handball-yhf-n1f-equipe-1-montigny/
LOCATION:Gymnase Saint-Exupéry\, 1 rue du Gymnase\, YUTZ\, 57970\, France
CATEGORIES:Sports
ORGANIZER;CN="Yutz Handball":MAILTO:5657005@ffhandball.net
END:VEVENT
END:VCALENDAR