BEGIN:VCALENDAR
VERSION:2.0
PRODID:-//Ville de Yutz - ECPv6.15.16//NONSGML v1.0//EN
CALSCALE:GREGORIAN
METHOD:PUBLISH
X-WR-CALNAME:Ville de Yutz
X-ORIGINAL-URL:https://www.ville-yutz.fr
X-WR-CALDESC:Évènements pour Ville de Yutz
REFRESH-INTERVAL;VALUE=DURATION:PT1H
X-Robots-Tag:noindex
X-PUBLISHED-TTL:PT1H
BEGIN:VTIMEZONE
TZID:Europe/Paris
BEGIN:DAYLIGHT
TZOFFSETFROM:+0100
TZOFFSETTO:+0200
TZNAME:CEST
DTSTART:20210328T010000
END:DAYLIGHT
BEGIN:STANDARD
TZOFFSETFROM:+0200
TZOFFSETTO:+0100
TZNAME:CET
DTSTART:20211031T010000
END:STANDARD
BEGIN:DAYLIGHT
TZOFFSETFROM:+0100
TZOFFSETTO:+0200
TZNAME:CEST
DTSTART:20220327T010000
END:DAYLIGHT
BEGIN:STANDARD
TZOFFSETFROM:+0200
TZOFFSETTO:+0100
TZNAME:CET
DTSTART:20221030T010000
END:STANDARD
BEGIN:DAYLIGHT
TZOFFSETFROM:+0100
TZOFFSETTO:+0200
TZNAME:CEST
DTSTART:20230326T010000
END:DAYLIGHT
BEGIN:STANDARD
TZOFFSETFROM:+0200
TZOFFSETTO:+0100
TZNAME:CET
DTSTART:20231029T010000
END:STANDARD
END:VTIMEZONE
BEGIN:VEVENT
DTSTART;TZID=Europe/Paris:20220313T080000
DTEND;TZID=Europe/Paris:20220313T200000
DTSTAMP:20260423T014741
CREATED:20220304T162210Z
LAST-MODIFIED:20220311T080848Z
UID:9738-1647158400-1647201600@www.ville-yutz.fr
SUMMARY:Yutz équitation : Compétition de Hunter
DESCRIPTION:Le hunter est une discipline qui allie le dressage et le saut d’obstacles.
URL:https://www.ville-yutz.fr/event/yutz-equitation-concours-national/
LOCATION:Centre équestre\, rue de Poitiers\, YUTZ\, 57970\, France
CATEGORIES:Sports
ATTACH;FMTTYPE=image/jpeg:https://www.ville-yutz.fr/wp-content/uploads/2021/06/equitation-cso.jpg
END:VEVENT
BEGIN:VEVENT
DTSTART;TZID=Europe/Paris:20220313T140000
DTEND;TZID=Europe/Paris:20220313T140000
DTSTAMP:20260423T014741
CREATED:20220304T161955Z
LAST-MODIFIED:20220304T162113Z
UID:9735-1647180000-1647180000@www.ville-yutz.fr
SUMMARY:Handball : YHF 16/ Metz
DESCRIPTION:
URL:https://www.ville-yutz.fr/event/handball-yhf-16-metz-2/
LOCATION:Gymnase Saint-Exupéry\, 1 rue du Gymnase\, YUTZ\, 57970\, France
CATEGORIES:Sports
ORGANIZER;CN="Yutz Handball":MAILTO:5657005@ffhandball.net
END:VEVENT
BEGIN:VEVENT
DTSTART;TZID=Europe/Paris:20220313T143000
DTEND;TZID=Europe/Paris:20220313T143000
DTSTAMP:20260423T014741
CREATED:20220304T161837Z
LAST-MODIFIED:20220304T161837Z
UID:9733-1647181800-1647181800@www.ville-yutz.fr
SUMMARY:Foot : Séniors D3 US YUTZ 2/Bure Boulange 2
DESCRIPTION:
URL:https://www.ville-yutz.fr/event/foot-seniors-d3-us-yutz-2-bure-boulange-2/
LOCATION:Stade de la Forêt\, rue du Stade\, Yutz\, 57970
CATEGORIES:Sports
END:VEVENT
BEGIN:VEVENT
DTSTART;TZID=Europe/Paris:20220313T150000
DTEND;TZID=Europe/Paris:20220313T150000
DTSTAMP:20260423T014741
CREATED:20220304T161740Z
LAST-MODIFIED:20220304T161740Z
UID:9731-1647183600-1647183600@www.ville-yutz.fr
SUMMARY:Foot : FC YUTZ Sénior D1 Yutz FC2 / Metzervisse Ag1
DESCRIPTION:
URL:https://www.ville-yutz.fr/event/foot-fc-yutz-senior-d1-yutz-fc2-metzervisse-ag1/
LOCATION:Stade Mermoz
CATEGORIES:Sports
ORGANIZER;CN="FC Yutz":MAILTO:utz.fc@moselle.lgef.fr
END:VEVENT
END:VCALENDAR