BEGIN:VCALENDAR
VERSION:2.0
PRODID:-//Ville de Yutz - ECPv6.15.16//NONSGML v1.0//EN
CALSCALE:GREGORIAN
METHOD:PUBLISH
X-WR-CALNAME:Ville de Yutz
X-ORIGINAL-URL:https://www.ville-yutz.fr
X-WR-CALDESC:Évènements pour Ville de Yutz
REFRESH-INTERVAL;VALUE=DURATION:PT1H
X-Robots-Tag:noindex
X-PUBLISHED-TTL:PT1H
BEGIN:VTIMEZONE
TZID:Europe/Paris
BEGIN:DAYLIGHT
TZOFFSETFROM:+0100
TZOFFSETTO:+0200
TZNAME:CEST
DTSTART:20210328T010000
END:DAYLIGHT
BEGIN:STANDARD
TZOFFSETFROM:+0200
TZOFFSETTO:+0100
TZNAME:CET
DTSTART:20211031T010000
END:STANDARD
BEGIN:DAYLIGHT
TZOFFSETFROM:+0100
TZOFFSETTO:+0200
TZNAME:CEST
DTSTART:20220327T010000
END:DAYLIGHT
BEGIN:STANDARD
TZOFFSETFROM:+0200
TZOFFSETTO:+0100
TZNAME:CET
DTSTART:20221030T010000
END:STANDARD
BEGIN:DAYLIGHT
TZOFFSETFROM:+0100
TZOFFSETTO:+0200
TZNAME:CEST
DTSTART:20230326T010000
END:DAYLIGHT
BEGIN:STANDARD
TZOFFSETFROM:+0200
TZOFFSETTO:+0100
TZNAME:CET
DTSTART:20231029T010000
END:STANDARD
END:VTIMEZONE
BEGIN:VEVENT
DTSTART;TZID=Europe/Paris:20220306T110000
DTEND;TZID=Europe/Paris:20220306T110000
DTSTAMP:20260423T014721
CREATED:20220225T165147Z
LAST-MODIFIED:20220225T165147Z
UID:9619-1646564400-1646564400@www.ville-yutz.fr
SUMMARY:Volley-ball : ASVB Jeunes - Coupe de France M13 Tour 6
DESCRIPTION:
URL:https://www.ville-yutz.fr/event/volley-ball-asvb-jeunes-coupe-de-france-m13-tour-6/
CATEGORIES:Sports
END:VEVENT
BEGIN:VEVENT
DTSTART;TZID=Europe/Paris:20220306T143000
DTEND;TZID=Europe/Paris:20220306T143000
DTSTAMP:20260423T014721
CREATED:20220225T165650Z
LAST-MODIFIED:20220225T165650Z
UID:9622-1646577000-1646577000@www.ville-yutz.fr
SUMMARY:Pétanque : concours en Doublette Non Homogène
DESCRIPTION:
URL:https://www.ville-yutz.fr/event/petanque-concours-en-doublette-non-homogene/
LOCATION:Boulodrome\, 1 rue Sainte-Barbe\, YUTZ\, -\, 57970\, France
CATEGORIES:Sports
ORGANIZER;CN="Club de P%C3%A9tanque de Yutz":MAILTO:cpy57970@gmail.com
END:VEVENT
BEGIN:VEVENT
DTSTART;TZID=Europe/Paris:20220306T150000
DTEND;TZID=Europe/Paris:20220306T150000
DTSTAMP:20260423T014721
CREATED:20220225T165758Z
LAST-MODIFIED:20220225T165758Z
UID:9624-1646578800-1646578800@www.ville-yutz.fr
SUMMARY:Foot : Championnat Sénior -  Yutz Cité / Cattenom 2
DESCRIPTION:
URL:https://www.ville-yutz.fr/event/foot-championnat-senior-yutz-cite-cattenom-2/
LOCATION:Stade Denis Muller\, Rue Victor Hugo\, YUTZ\, 57970
CATEGORIES:Sports
END:VEVENT
BEGIN:VEVENT
DTSTART;TZID=Europe/Paris:20220306T150000
DTEND;TZID=Europe/Paris:20220306T150000
DTSTAMP:20260423T014721
CREATED:20220225T170004Z
LAST-MODIFIED:20220225T170004Z
UID:9626-1646578800-1646578800@www.ville-yutz.fr
SUMMARY:Foot : Séniors D1 US Yutz / Froidcul US
DESCRIPTION:
URL:https://www.ville-yutz.fr/event/foot-seniors-d1-us-yutz-froidcul-us/
CATEGORIES:Sports
END:VEVENT
END:VCALENDAR