BEGIN:VCALENDAR
VERSION:2.0
PRODID:-//Ville de Yutz - ECPv6.15.16//NONSGML v1.0//EN
CALSCALE:GREGORIAN
METHOD:PUBLISH
X-ORIGINAL-URL:https://www.ville-yutz.fr
X-WR-CALDESC:Évènements pour Ville de Yutz
REFRESH-INTERVAL;VALUE=DURATION:PT1H
X-Robots-Tag:noindex
X-PUBLISHED-TTL:PT1H
BEGIN:VTIMEZONE
TZID:Europe/Paris
BEGIN:DAYLIGHT
TZOFFSETFROM:+0100
TZOFFSETTO:+0200
TZNAME:CEST
DTSTART:20200329T010000
END:DAYLIGHT
BEGIN:STANDARD
TZOFFSETFROM:+0200
TZOFFSETTO:+0100
TZNAME:CET
DTSTART:20201025T010000
END:STANDARD
BEGIN:DAYLIGHT
TZOFFSETFROM:+0100
TZOFFSETTO:+0200
TZNAME:CEST
DTSTART:20210328T010000
END:DAYLIGHT
BEGIN:STANDARD
TZOFFSETFROM:+0200
TZOFFSETTO:+0100
TZNAME:CET
DTSTART:20211031T010000
END:STANDARD
BEGIN:DAYLIGHT
TZOFFSETFROM:+0100
TZOFFSETTO:+0200
TZNAME:CEST
DTSTART:20220327T010000
END:DAYLIGHT
BEGIN:STANDARD
TZOFFSETFROM:+0200
TZOFFSETTO:+0100
TZNAME:CET
DTSTART:20221030T010000
END:STANDARD
END:VTIMEZONE
BEGIN:VEVENT
DTSTART;TZID=Europe/Paris:20211212T110000
DTEND;TZID=Europe/Paris:20211212T110000
DTSTAMP:20260423T062414
CREATED:20211210T142749Z
LAST-MODIFIED:20211210T142749Z
UID:8931-1639306800-1639306800@www.ville-yutz.fr
SUMMARY:Volley-ball : ASVB M18M CDF
DESCRIPTION:
URL:https://www.ville-yutz.fr/event/volley-ball-asvb-m18m-cdf/
LOCATION:Gymnase Jean Mermoz\, Place de l'Arc-en-ciel\, Yutz\, 57970\, France
CATEGORIES:Sports
END:VEVENT
BEGIN:VEVENT
DTSTART;TZID=Europe/Paris:20211212T143000
DTEND;TZID=Europe/Paris:20211212T143000
DTSTAMP:20260423T062414
CREATED:20211210T142925Z
LAST-MODIFIED:20211210T142925Z
UID:8933-1639319400-1639319400@www.ville-yutz.fr
SUMMARY:FOOT : Séniors D1 FC YUTZ2 / Thionville Lusitanos 3
DESCRIPTION:
URL:https://www.ville-yutz.fr/event/foot-seniors-d1-fc-yutz2-thionville-lusitanos-3/
LOCATION:Stade Mermoz
CATEGORIES:Sports
ORGANIZER;CN="FC Yutz":MAILTO:utz.fc@moselle.lgef.fr
END:VEVENT
BEGIN:VEVENT
DTSTART;TZID=Europe/Paris:20211212T143000
DTEND;TZID=Europe/Paris:20211212T143000
DTSTAMP:20260423T062414
CREATED:20211210T143049Z
LAST-MODIFIED:20211210T143049Z
UID:8935-1639319400-1639319400@www.ville-yutz.fr
SUMMARY:FOOT : Séniors D1 US YUTZ / AUDUN-LE-TICHE
DESCRIPTION:
URL:https://www.ville-yutz.fr/event/foot-seniors-d1-us-yutz-audun-le-tiche/
LOCATION:Stade de la Forêt\, rue du Stade\, Yutz\, 57970
CATEGORIES:Sports
END:VEVENT
END:VCALENDAR