BEGIN:VCALENDAR
VERSION:2.0
PRODID:-//Ville de Yutz - ECPv6.15.16//NONSGML v1.0//EN
CALSCALE:GREGORIAN
METHOD:PUBLISH
X-ORIGINAL-URL:https://www.ville-yutz.fr
X-WR-CALDESC:Évènements pour Ville de Yutz
REFRESH-INTERVAL;VALUE=DURATION:PT1H
X-Robots-Tag:noindex
X-PUBLISHED-TTL:PT1H
BEGIN:VTIMEZONE
TZID:Europe/Paris
BEGIN:DAYLIGHT
TZOFFSETFROM:+0100
TZOFFSETTO:+0200
TZNAME:CEST
DTSTART:20200329T010000
END:DAYLIGHT
BEGIN:STANDARD
TZOFFSETFROM:+0200
TZOFFSETTO:+0100
TZNAME:CET
DTSTART:20201025T010000
END:STANDARD
BEGIN:DAYLIGHT
TZOFFSETFROM:+0100
TZOFFSETTO:+0200
TZNAME:CEST
DTSTART:20210328T010000
END:DAYLIGHT
BEGIN:STANDARD
TZOFFSETFROM:+0200
TZOFFSETTO:+0100
TZNAME:CET
DTSTART:20211031T010000
END:STANDARD
BEGIN:DAYLIGHT
TZOFFSETFROM:+0100
TZOFFSETTO:+0200
TZNAME:CEST
DTSTART:20220327T010000
END:DAYLIGHT
BEGIN:STANDARD
TZOFFSETFROM:+0200
TZOFFSETTO:+0100
TZNAME:CET
DTSTART:20221030T010000
END:STANDARD
END:VTIMEZONE
BEGIN:VEVENT
DTSTART;TZID=Europe/Paris:20211128T100000
DTEND;TZID=Europe/Paris:20211128T100000
DTSTAMP:20260423T074542
CREATED:20211119T165129Z
LAST-MODIFIED:20211119T165129Z
UID:8503-1638093600-1638093600@www.ville-yutz.fr
SUMMARY:Foot : vétéran loisirs US YUTZ/Pierrevillers
DESCRIPTION:
URL:https://www.ville-yutz.fr/event/foot-veteran-loisirs-us-yutz-pierrevillers/
LOCATION:Stade de la Forêt\, rue du Stade\, Yutz\, 57970
CATEGORIES:Sports
END:VEVENT
BEGIN:VEVENT
DTSTART;TZID=Europe/Paris:20211128T143000
DTEND;TZID=Europe/Paris:20211128T143000
DTSTAMP:20260423T074542
CREATED:20211119T165819Z
LAST-MODIFIED:20211119T170040Z
UID:8508-1638109800-1638109800@www.ville-yutz.fr
SUMMARY:Foot : Championnat Sénior -  Yutz Cité / Waldweistroff
DESCRIPTION:
URL:https://www.ville-yutz.fr/event/foot-championnat-senior-yutz-cite-waldweistroff/
LOCATION:Stade Denis Muller\, Rue Victor Hugo\, YUTZ\, 57970
CATEGORIES:Sports
END:VEVENT
BEGIN:VEVENT
DTSTART;TZID=Europe/Paris:20211128T143000
DTEND;TZID=Europe/Paris:20211128T143000
DTSTAMP:20260423T074542
CREATED:20211119T165945Z
LAST-MODIFIED:20211119T165945Z
UID:8510-1638109800-1638109800@www.ville-yutz.fr
SUMMARY:Foot : Seniors D1 US YUTZ/METZERVISSE
DESCRIPTION:
URL:https://www.ville-yutz.fr/event/foot-seniors-d1-us-yutz-metzervisse/
LOCATION:Stade de la Forêt\, rue du Stade\, Yutz\, 57970
CATEGORIES:Sports
END:VEVENT
END:VCALENDAR