BEGIN:VCALENDAR
VERSION:2.0
PRODID:-//Ville de Yutz - ECPv6.15.16//NONSGML v1.0//EN
CALSCALE:GREGORIAN
METHOD:PUBLISH
X-ORIGINAL-URL:https://www.ville-yutz.fr
X-WR-CALDESC:Évènements pour Ville de Yutz
REFRESH-INTERVAL;VALUE=DURATION:PT1H
X-Robots-Tag:noindex
X-PUBLISHED-TTL:PT1H
BEGIN:VTIMEZONE
TZID:Europe/Paris
BEGIN:DAYLIGHT
TZOFFSETFROM:+0100
TZOFFSETTO:+0200
TZNAME:CEST
DTSTART:20200329T010000
END:DAYLIGHT
BEGIN:STANDARD
TZOFFSETFROM:+0200
TZOFFSETTO:+0100
TZNAME:CET
DTSTART:20201025T010000
END:STANDARD
BEGIN:DAYLIGHT
TZOFFSETFROM:+0100
TZOFFSETTO:+0200
TZNAME:CEST
DTSTART:20210328T010000
END:DAYLIGHT
BEGIN:STANDARD
TZOFFSETFROM:+0200
TZOFFSETTO:+0100
TZNAME:CET
DTSTART:20211031T010000
END:STANDARD
BEGIN:DAYLIGHT
TZOFFSETFROM:+0100
TZOFFSETTO:+0200
TZNAME:CEST
DTSTART:20220327T010000
END:DAYLIGHT
BEGIN:STANDARD
TZOFFSETFROM:+0200
TZOFFSETTO:+0100
TZNAME:CET
DTSTART:20221030T010000
END:STANDARD
END:VTIMEZONE
BEGIN:VEVENT
DTSTART;TZID=Europe/Paris:20211127T173000
DTEND;TZID=Europe/Paris:20211127T230000
DTSTAMP:20260423T074540
CREATED:20210810T082518Z
LAST-MODIFIED:20211029T122230Z
UID:7273-1638034200-1638054000@www.ville-yutz.fr
SUMMARY:Fête d'Hiver de la Société de Gymnastique
DESCRIPTION:
URL:https://www.ville-yutz.fr/event/fete-dhiver-de-la-societe-de-gymnastique/
LOCATION:Gymnase Jean Mermoz\, Place de l'Arc-en-ciel\, Yutz\, 57970\, France
CATEGORIES:Sports
ORGANIZER;CN="Soci%C3%A9t%C3%A9 de Gymnastique de Yutz":MAILTO:gymyutz@gmail.com
END:VEVENT
BEGIN:VEVENT
DTSTART;TZID=Europe/Paris:20211127T180000
DTEND;TZID=Europe/Paris:20211127T180000
DTSTAMP:20260423T074540
CREATED:20211119T163734Z
LAST-MODIFIED:20211119T163734Z
UID:8493-1638036000-1638036000@www.ville-yutz.fr
SUMMARY:Fête d'hiver de la Société de gymnastique
DESCRIPTION:
URL:https://www.ville-yutz.fr/event/fete-dhiver-de-la-societe-de-gymnastique-2/
LOCATION:Gymnase Jean Mermoz\, Place de l'Arc-en-ciel\, Yutz\, 57970\, France
CATEGORIES:Sports
END:VEVENT
END:VCALENDAR